BEGIN:VCALENDAR
VERSION:2.0
PRODID:-//cajuncoast.com - ECPv6.15.20//NONSGML v1.0//EN
CALSCALE:GREGORIAN
METHOD:PUBLISH
X-WR-CALNAME:cajuncoast.com
X-ORIGINAL-URL:https://cajuncoast.com
X-WR-CALDESC:Events for cajuncoast.com
REFRESH-INTERVAL;VALUE=DURATION:PT1H
X-Robots-Tag:noindex
X-PUBLISHED-TTL:PT1H
BEGIN:VTIMEZONE
TZID:America/Chicago
BEGIN:DAYLIGHT
TZOFFSETFROM:-0600
TZOFFSETTO:-0500
TZNAME:CDT
DTSTART:20230312T080000
END:DAYLIGHT
BEGIN:STANDARD
TZOFFSETFROM:-0500
TZOFFSETTO:-0600
TZNAME:CST
DTSTART:20231105T070000
END:STANDARD
BEGIN:DAYLIGHT
TZOFFSETFROM:-0600
TZOFFSETTO:-0500
TZNAME:CDT
DTSTART:20240310T080000
END:DAYLIGHT
BEGIN:STANDARD
TZOFFSETFROM:-0500
TZOFFSETTO:-0600
TZNAME:CST
DTSTART:20241103T070000
END:STANDARD
BEGIN:DAYLIGHT
TZOFFSETFROM:-0600
TZOFFSETTO:-0500
TZNAME:CDT
DTSTART:20250309T080000
END:DAYLIGHT
BEGIN:STANDARD
TZOFFSETFROM:-0500
TZOFFSETTO:-0600
TZNAME:CST
DTSTART:20251102T070000
END:STANDARD
END:VTIMEZONE
BEGIN:VEVENT
DTSTART;TZID=America/Chicago:20240209T190000
DTEND;TZID=America/Chicago:20240209T210000
DTSTAMP:20260421T104450
CREATED:20240111T203743Z
LAST-MODIFIED:20240208T214019Z
UID:10000186-1707505200-1707512400@cajuncoast.com
SUMMARY:Krewe of Adonis Mardi Gras Parade
DESCRIPTION:Begins on 2nd Street under the La. 182 bridge and proceeds to Onstead Street continuing down Sixth St. to Marguerite St.\, Ninth St./Hwy.70\, Brashear Avenue onto Victor II Blvd. and ending at the Morgan City Auditorium on Myrtle Street\,  7 p.m. \n985-380-8224\, CajunCoast.com.
URL:https://cajuncoast.com/event/krewe-of-adonis-mardi-gras-parade/
LOCATION:LA
END:VEVENT
END:VCALENDAR