BEGIN:VCALENDAR
VERSION:2.0
PRODID:-//cajuncoast.com - ECPv6.15.20//NONSGML v1.0//EN
CALSCALE:GREGORIAN
METHOD:PUBLISH
X-WR-CALNAME:cajuncoast.com
X-ORIGINAL-URL:https://cajuncoast.com
X-WR-CALDESC:Events for cajuncoast.com
REFRESH-INTERVAL;VALUE=DURATION:PT1H
X-Robots-Tag:noindex
X-PUBLISHED-TTL:PT1H
BEGIN:VTIMEZONE
TZID:America/Chicago
BEGIN:DAYLIGHT
TZOFFSETFROM:-0600
TZOFFSETTO:-0500
TZNAME:CDT
DTSTART:20230312T080000
END:DAYLIGHT
BEGIN:STANDARD
TZOFFSETFROM:-0500
TZOFFSETTO:-0600
TZNAME:CST
DTSTART:20231105T070000
END:STANDARD
BEGIN:DAYLIGHT
TZOFFSETFROM:-0600
TZOFFSETTO:-0500
TZNAME:CDT
DTSTART:20240310T080000
END:DAYLIGHT
BEGIN:STANDARD
TZOFFSETFROM:-0500
TZOFFSETTO:-0600
TZNAME:CST
DTSTART:20241103T070000
END:STANDARD
BEGIN:DAYLIGHT
TZOFFSETFROM:-0600
TZOFFSETTO:-0500
TZNAME:CDT
DTSTART:20250309T080000
END:DAYLIGHT
BEGIN:STANDARD
TZOFFSETFROM:-0500
TZOFFSETTO:-0600
TZNAME:CST
DTSTART:20251102T070000
END:STANDARD
END:VTIMEZONE
BEGIN:VEVENT
DTSTART;TZID=America/Chicago:20240725T080000
DTEND;TZID=America/Chicago:20240830T170000
DTSTAMP:20260421T151956
CREATED:20240716T194852Z
LAST-MODIFIED:20240716T194852Z
UID:10002089-1721894400-1725037200@cajuncoast.com
SUMMARY:Shrimply Delicious Food Trail Restaurant Contest
DESCRIPTION:Shrimply Delicious Restaurant Month Celebration
URL:https://cajuncoast.com/event/shrimply-delicious-food-trail-restaurant-contest/
LOCATION:LA
ATTACH;FMTTYPE=image/jpeg:https://cajuncoast.com/wp-content/uploads/2024/07/Shrimply-Delicious-Restaurant-Month.jpg
ORGANIZER;CN="Cajun Coast Tourism":MAILTO:info@cajuncoast.com
END:VEVENT
BEGIN:VEVENT
DTSTART;TZID=America/Chicago:20240801T180000
DTEND;TZID=America/Chicago:20241019T210000
DTSTAMP:20260421T151956
CREATED:20240724T144405Z
LAST-MODIFIED:20240729T215927Z
UID:10002402-1722535200-1729371600@cajuncoast.com
SUMMARY:St. Mary Landmarks Raffle Fundraiser
DESCRIPTION:Hosted by St. Mary Chapter of the Louisiana Landmarks Society.\nWe’re thrilled to announce our annual raffle with three incredible prize packages up for grabs!\nFor just $10 per chance\, you could win big while supporting a great organization.\nTickets are available August 1st. Winners will be announced at our Fall fundraiser\, “Aioli Dinner Under the Oaks” at Shadowlawn this October.\nRaffle tickets are available at select locations listed below: FIFOLET Candle Makers\, The French Door\, Gather on Main\, Chic and Shabby\, and the Grevemberg House. Your participation will help us preserve and protect our beloved landmarks.\nLet’s make a difference together!
URL:https://cajuncoast.com/event/st-mary-landmarks-raffle-fundraiser/
LOCATION:Shadowlawn\, 101 Adams Street\, Franklin\, LA\, 70538\, United States
ATTACH;FMTTYPE=image/jpeg:https://cajuncoast.com/wp-content/uploads/2024/07/Raffle-Fundraiser-e1722290338862.jpg
ORGANIZER;CN="St. Mary Chapter of the Louisiana Landmarks Society":MAILTO:Info@grevemberghouse.com
END:VEVENT
BEGIN:VEVENT
DTSTART;TZID=America/Chicago:20240803T080000
DTEND;TZID=America/Chicago:20240803T140000
DTSTAMP:20260421T151956
CREATED:20240712T182618Z
LAST-MODIFIED:20240712T182722Z
UID:10002088-1722672000-1722693600@cajuncoast.com
SUMMARY:Car Show
DESCRIPTION:Cruzin’ Camaro Sports Club is hosting a car show to benefit Relay For Life.\nHeld at A J Dohmann Chevrolet\, LLC; 800 Robinson Road in Berwick.\nThere will be awards\, food vendors\, and a lot of cool cars!\nHere are the details: Show Time: 8am-2pm.\nThe show will be held rain or shine! Registration: 8am-11:30am.\nRegistration Fee: $30.00.\nAll makes and models are welcome!\nThere will be food vendors\, snowballs\, 50/50 raffle and door prizes!\nBring those beautiful cars out and hope to see you there!
URL:https://cajuncoast.com/event/car-show/
LOCATION:A J Dohmann Chevrolet\, 800 Robinson Road\, Berwick\, LA\, 70342\, United States
ATTACH;FMTTYPE=image/jpeg:https://cajuncoast.com/wp-content/uploads/2024/07/Cruzin-Camaro-Sports-Club-e1720808771511.jpg
ORGANIZER;CN="Cruzin' Camaro Sports club":MAILTO:cruzincamarosportsclub@gmail.com
END:VEVENT
BEGIN:VEVENT
DTSTART;TZID=America/Chicago:20240803T150000
DTEND;TZID=America/Chicago:20240804T190000
DTSTAMP:20260421T151956
CREATED:20240506T203712Z
LAST-MODIFIED:20240626T213551Z
UID:10001443-1722697200-1722798000@cajuncoast.com
SUMMARY:Live Music at the Mosquito Bar
DESCRIPTION:Bar opens at 4 pm\, $2 domestics til 6 \n\nSaturday-  Live Music\n\nSunday-  Live Music\n\n\n\nMosquito Bites and Burgers now open every Saturday and Sunday from 11-8 \n\n\nCOME GET YOUR BUZZ ON!!!
URL:https://cajuncoast.com/event/live-music-8-2-2/2024-08-03/
LOCATION:The Mosquito Bar\, 1495 E Stephensville Road\, Morgan City\, LA\, 70380\, United States
CATEGORIES:Live Music
ATTACH;FMTTYPE=image/jpeg:https://cajuncoast.com/wp-content/uploads/2024/04/mosquito-bar-e1712248357186.jpg
END:VEVENT
END:VCALENDAR