BEGIN:VCALENDAR
VERSION:2.0
PRODID:-//cajuncoast.com - ECPv6.15.20//NONSGML v1.0//EN
CALSCALE:GREGORIAN
METHOD:PUBLISH
X-WR-CALNAME:cajuncoast.com
X-ORIGINAL-URL:https://cajuncoast.com
X-WR-CALDESC:Events for cajuncoast.com
REFRESH-INTERVAL;VALUE=DURATION:PT1H
X-Robots-Tag:noindex
X-PUBLISHED-TTL:PT1H
BEGIN:VTIMEZONE
TZID:America/Chicago
BEGIN:DAYLIGHT
TZOFFSETFROM:-0600
TZOFFSETTO:-0500
TZNAME:CDT
DTSTART:20230312T080000
END:DAYLIGHT
BEGIN:STANDARD
TZOFFSETFROM:-0500
TZOFFSETTO:-0600
TZNAME:CST
DTSTART:20231105T070000
END:STANDARD
BEGIN:DAYLIGHT
TZOFFSETFROM:-0600
TZOFFSETTO:-0500
TZNAME:CDT
DTSTART:20240310T080000
END:DAYLIGHT
BEGIN:STANDARD
TZOFFSETFROM:-0500
TZOFFSETTO:-0600
TZNAME:CST
DTSTART:20241103T070000
END:STANDARD
BEGIN:DAYLIGHT
TZOFFSETFROM:-0600
TZOFFSETTO:-0500
TZNAME:CDT
DTSTART:20250309T080000
END:DAYLIGHT
BEGIN:STANDARD
TZOFFSETFROM:-0500
TZOFFSETTO:-0600
TZNAME:CST
DTSTART:20251102T070000
END:STANDARD
END:VTIMEZONE
BEGIN:VEVENT
DTSTART;TZID=America/Chicago:20241101T090000
DTEND;TZID=America/Chicago:20241130T170000
DTSTAMP:20260425T204235
CREATED:20241112T200041Z
LAST-MODIFIED:20241121T161151Z
UID:10003933-1730451600-1732986000@cajuncoast.com
SUMMARY:Living Along The Atchafalaya - Historical Exhibition
DESCRIPTION:During the month of November\, LIVING ALONG THE ATCHAFALAYA\, an exhibition of historic photographs and archival items will be displayed at the Cajun Coast Tourism Visitor’s Center\, 900 DR. MLK Blvd.\, Morgan City. The following is more information: \nExperience LIVING ALONG THE ATCHAFALAYA\, a once in a lifetime showing of historic photos\, focusing on the mighty Atchafalaya River’s effects on the lives of the residents of the Berwick Bay area. \nAlthough the Atchafalaya River is the focus\, many topics are covered that touch our lives through our association with this body of water – floods\, ferries\, steamboats\, showboats\, industry\, and many more are covered. \nYou will hear stories and see images that have not been seen or heard by many of the residents of Morgan City and our area. \nJoin us\, during November\, on Mondays – Fridays from 9 a.m. to 5 p.m. and Saturdays and Sundays from 9 am. to 3 p.m. at the Cajun Coast Tourism Visitor’s Center. \nThere is no charge to view the exhibition\, and class field trips and groups are welcome. \nThanks are given to the H&B Young Foundation\, the Artists Guild Unlimited\, the City of Morgan City\, the Main Street Board\, and the Morgan City Archives for their assistance. \n 
URL:https://cajuncoast.com/event/living-along-the-atchafalaya-historical-exhibition-2-2/
LOCATION:Cajun Coast Tourism\, 900 Dr. MLK Jr. Blvd.\, Morgan City\, LA\, 70380\, United States
ATTACH;FMTTYPE=image/png:https://cajuncoast.com/wp-content/uploads/2024/09/FLIERS-lettersize-e1727708795158.png
END:VEVENT
BEGIN:VEVENT
DTSTART;TZID=America/Chicago:20241125T080000
DTEND;TZID=America/Chicago:20241125T170000
DTSTAMP:20260425T204235
CREATED:20240708T144159Z
LAST-MODIFIED:20240708T144159Z
UID:10002077-1732521600-1732554000@cajuncoast.com
SUMMARY:Moonlight Monday
DESCRIPTION:Moonlight Monday has a full line up of vendors & local shops participating! Come out and join us for a great kickoff to the most wonderful time of year!
URL:https://cajuncoast.com/event/moonlight-monday/
LOCATION:La
ORGANIZER;CN="Morgan City Main Street":MAILTO:No Email available
END:VEVENT
BEGIN:VEVENT
DTSTART;TZID=America/Chicago:20241125T180000
DTEND;TZID=America/Chicago:20241125T200000
DTSTAMP:20260425T204235
CREATED:20241030T191914Z
LAST-MODIFIED:20241030T192306Z
UID:10003910-1732557600-1732564800@cajuncoast.com
SUMMARY:Bayou Vista Community Center Annual Christmas Tree Lighting
DESCRIPTION:Bayou Vista Community Center Annual Christmas Tree Lighting.  Meet Santa and enjoy Christmas music\, games\, and refreshments\, from 6 pm until.
URL:https://cajuncoast.com/event/bayou-vista-community-center-annual-christmas-tree-lighting/
LOCATION:Bayou Vista Community Center\, 1333 Belleview Drive\, Bayou Vista\, LA\, 70380\, United States
END:VEVENT
BEGIN:VEVENT
DTSTART;TZID=America/Chicago:20241125T190000
DTEND;TZID=America/Chicago:20241125T210000
DTSTAMP:20260425T204235
CREATED:20241024T214415Z
LAST-MODIFIED:20241210T223634Z
UID:10002448-1732561200-1732568400@cajuncoast.com
SUMMARY:Morgan City VFW Bingo
DESCRIPTION:7:00 ON MONDAY AND TUESDAY
URL:https://cajuncoast.com/event/morgan-city-vfw-bingo-3-2/2024-11-25/
LOCATION:VFW of Morgan City\, 1504 Sandra Street\, Morgan City\, LA\, 70380\, United States
ATTACH;FMTTYPE=image/jpeg:https://cajuncoast.com/wp-content/uploads/2024/10/VFW-Bingo-e1729806574709.jpg
END:VEVENT
END:VCALENDAR