BEGIN:VCALENDAR
VERSION:2.0
PRODID:-//cajuncoast.com - ECPv6.15.20//NONSGML v1.0//EN
CALSCALE:GREGORIAN
METHOD:PUBLISH
X-WR-CALNAME:cajuncoast.com
X-ORIGINAL-URL:https://cajuncoast.com
X-WR-CALDESC:Events for cajuncoast.com
REFRESH-INTERVAL;VALUE=DURATION:PT1H
X-Robots-Tag:noindex
X-PUBLISHED-TTL:PT1H
BEGIN:VTIMEZONE
TZID:America/Chicago
BEGIN:DAYLIGHT
TZOFFSETFROM:-0600
TZOFFSETTO:-0500
TZNAME:CDT
DTSTART:20230312T080000
END:DAYLIGHT
BEGIN:STANDARD
TZOFFSETFROM:-0500
TZOFFSETTO:-0600
TZNAME:CST
DTSTART:20231105T070000
END:STANDARD
BEGIN:DAYLIGHT
TZOFFSETFROM:-0600
TZOFFSETTO:-0500
TZNAME:CDT
DTSTART:20240310T080000
END:DAYLIGHT
BEGIN:STANDARD
TZOFFSETFROM:-0500
TZOFFSETTO:-0600
TZNAME:CST
DTSTART:20241103T070000
END:STANDARD
BEGIN:DAYLIGHT
TZOFFSETFROM:-0600
TZOFFSETTO:-0500
TZNAME:CDT
DTSTART:20250309T080000
END:DAYLIGHT
BEGIN:STANDARD
TZOFFSETFROM:-0500
TZOFFSETTO:-0600
TZNAME:CST
DTSTART:20251102T070000
END:STANDARD
END:VTIMEZONE
BEGIN:VEVENT
DTSTART;TZID=America/Chicago:20241101T090000
DTEND;TZID=America/Chicago:20241130T170000
DTSTAMP:20260425T191143
CREATED:20241112T200041Z
LAST-MODIFIED:20241121T161151Z
UID:10003933-1730451600-1732986000@cajuncoast.com
SUMMARY:Living Along The Atchafalaya - Historical Exhibition
DESCRIPTION:During the month of November\, LIVING ALONG THE ATCHAFALAYA\, an exhibition of historic photographs and archival items will be displayed at the Cajun Coast Tourism Visitor’s Center\, 900 DR. MLK Blvd.\, Morgan City. The following is more information: \nExperience LIVING ALONG THE ATCHAFALAYA\, a once in a lifetime showing of historic photos\, focusing on the mighty Atchafalaya River’s effects on the lives of the residents of the Berwick Bay area. \nAlthough the Atchafalaya River is the focus\, many topics are covered that touch our lives through our association with this body of water – floods\, ferries\, steamboats\, showboats\, industry\, and many more are covered. \nYou will hear stories and see images that have not been seen or heard by many of the residents of Morgan City and our area. \nJoin us\, during November\, on Mondays – Fridays from 9 a.m. to 5 p.m. and Saturdays and Sundays from 9 am. to 3 p.m. at the Cajun Coast Tourism Visitor’s Center. \nThere is no charge to view the exhibition\, and class field trips and groups are welcome. \nThanks are given to the H&B Young Foundation\, the Artists Guild Unlimited\, the City of Morgan City\, the Main Street Board\, and the Morgan City Archives for their assistance. \n 
URL:https://cajuncoast.com/event/living-along-the-atchafalaya-historical-exhibition-2-2/
LOCATION:Cajun Coast Tourism\, 900 Dr. MLK Jr. Blvd.\, Morgan City\, LA\, 70380\, United States
ATTACH;FMTTYPE=image/png:https://cajuncoast.com/wp-content/uploads/2024/09/FLIERS-lettersize-e1727708795158.png
END:VEVENT
BEGIN:VEVENT
DTSTART;TZID=America/Chicago:20241126T100000
DTEND;TZID=America/Chicago:20241130T170000
DTSTAMP:20260425T191143
CREATED:20241118T161937Z
LAST-MODIFIED:20241118T161937Z
UID:10003948-1732615200-1732986000@cajuncoast.com
SUMMARY:Black Friday Sale Week
DESCRIPTION:Hosted by Renouvele Thrift Store.\nEverything in store will be 50% off.\n*Cannot combine loyalty discounts. From 10am – 5pm.
URL:https://cajuncoast.com/event/black-friday-sale-week/
LOCATION:Renouvele Thrift Store\, 709 Main Street\, Franklin\, LA\, 70538\, United States
ATTACH;FMTTYPE=image/jpeg:https://cajuncoast.com/wp-content/uploads/2024/11/Renouvele-Thrift-Store-e1731946765519.jpg
END:VEVENT
BEGIN:VEVENT
DTSTART;TZID=America/Chicago:20241128T080000
DTEND;TZID=America/Chicago:20241201T170000
DTSTAMP:20260425T191143
CREATED:20240708T144040Z
LAST-MODIFIED:20241126T173714Z
UID:10002078-1732780800-1733072400@cajuncoast.com
SUMMARY:Spirit of Morgan City Christmas Festival
DESCRIPTION:Spirit of Morgan City Christmas Festival.\nHosted by Morgan City Main Street. \nCome join us as we celebrate the Christmas season in Downtown Morgan City. We will have lots of activities for the children along with great food and music.\n\nNovember 28th\nSpirit of Morgan City Shrimp Boat Lighting Ceremony and Ribbon Cutting and visit by Santa\, 5:45 pm\, Corner of Brashear and Federal Ave\, Morgan City\, (985) 380-4600 for more information. \n\n\nNovember 29th\nRockin’ Around the Christmas Tree lighting downtown Morgan City\, Freret Street Dock\, 5pm – 7pm\, 985.380.4600 \nNovember 30th\n6th Annual Mistletoe & Moss Holiday Market\, hosted by St. Mary Chamber of Commerce. From 11am – 4pm. HUGE holiday market with craft vendors\, makers\, food products and more\, under Hwy. 90 Bridge/Front Street\, Morgan City. \nSpirit of Morgan City Christmas Festival\, Morgan City\, Lawrence Park – 2pm to 8pm. Pictures with Santa and the Grinch\, Christmas Caroling\, Story Time at the Library\, Letters to Santa\, Cookie Decorating\, Face Painting\, Train Ride\, Ice Skating and more including Lighting of the Oaks in Lawrence Park at 5:45pm.\nDecember 1st\nPancakes with Santa & Buddy the Elf. Hosted by Morgan City Main Street. Will be Held At the Morgan City Auditorium from 9am – 11am. Fee Charged.
URL:https://cajuncoast.com/event/spirit-of-morgan-city-christmas-festival-2/
LOCATION:La
ATTACH;FMTTYPE=image/jpeg:https://cajuncoast.com/wp-content/uploads/2024/07/christmas-festival-e1732642615926.jpg
ORGANIZER;CN="Morgan City Main Street":MAILTO:No Email available
END:VEVENT
BEGIN:VEVENT
DTSTART;TZID=America/Chicago:20241129T100000
DTEND;TZID=America/Chicago:20241129T130000
DTSTAMP:20260425T191143
CREATED:20241122T201746Z
LAST-MODIFIED:20241126T173835Z
UID:10003954-1732874400-1732885200@cajuncoast.com
SUMMARY:Black Friday with Sweet Tangerines
DESCRIPTION:Join us for a morning of incredible deals\, festive vibes\, and delicious treats at Sweet Tangerines!\nExclusive Black Friday discounts on your favorite boutique styles.\nComplimentary coffee and donuts to fuel your shopping spree.\nThe perfect opportunity to check off your holiday shopping list.\nDon’t miss out—items are limited!\nGather your friends and make it a fun start to your holiday shopping season.\nWe can’t wait to see you!
URL:https://cajuncoast.com/event/black-friday-with-sweet-tangerines/
LOCATION:Sweet Tangerines Boutique\, 3103 First St.\, Berwick\, LA\, 70342\, United States
ATTACH;FMTTYPE=image/jpeg:https://cajuncoast.com/wp-content/uploads/2024/11/Sweet-Tangerines-e1732642698311.jpg
ORGANIZER;CN="Sweet Tangerines Boutique":MAILTO:No email
END:VEVENT
BEGIN:VEVENT
DTSTART;TZID=America/Chicago:20241129T170000
DTEND;TZID=America/Chicago:20241129T190000
DTSTAMP:20260425T191143
CREATED:20240617T154821Z
LAST-MODIFIED:20241126T173527Z
UID:10001988-1732899600-1732906800@cajuncoast.com
SUMMARY:Rockin Around the Christmas Tree & Lighting
DESCRIPTION:Rockin’ Around the Christmas Tree lighting downtown Morgan City\, Freret Street Dock\, 5pm – 7pm\, 985.380.4600
URL:https://cajuncoast.com/event/rockin-around-the-christmas-tree-lighting/
LOCATION:La
ORGANIZER;CN="Morgan City Main Street":MAILTO:No Email available
END:VEVENT
BEGIN:VEVENT
DTSTART;TZID=America/Chicago:20241129T170000
DTEND;TZID=America/Chicago:20241231T210000
DTSTAMP:20260425T191143
CREATED:20241126T175329Z
LAST-MODIFIED:20241126T175354Z
UID:10003957-1732899600-1735678800@cajuncoast.com
SUMMARY:Traditional Idlewild Plantation Christmas Lighting
DESCRIPTION:November 29th – December 31st  \nTraditional Idlewild Plantation Christmas Lighting \nDriving tour will be from 5 to 8 p.m. Sunday through Thursday and 5pm to 9 pm\, Friday and Saturday at 5pm to 9pm. Kemper Williams Park in Patterson for $5 per Vehicle (Dependent on Weather). Contact 985-395-2298 for more information. \n 
URL:https://cajuncoast.com/event/traditional-idlewild-plantation-christmas-lighting/
LOCATION:La
END:VEVENT
END:VCALENDAR