BEGIN:VCALENDAR
VERSION:2.0
PRODID:-//cajuncoast.com - ECPv6.15.20//NONSGML v1.0//EN
CALSCALE:GREGORIAN
METHOD:PUBLISH
X-ORIGINAL-URL:https://cajuncoast.com
X-WR-CALDESC:Events for cajuncoast.com
REFRESH-INTERVAL;VALUE=DURATION:PT1H
X-Robots-Tag:noindex
X-PUBLISHED-TTL:PT1H
BEGIN:VTIMEZONE
TZID:America/Chicago
BEGIN:DAYLIGHT
TZOFFSETFROM:-0600
TZOFFSETTO:-0500
TZNAME:CDT
DTSTART:20230312T080000
END:DAYLIGHT
BEGIN:STANDARD
TZOFFSETFROM:-0500
TZOFFSETTO:-0600
TZNAME:CST
DTSTART:20231105T070000
END:STANDARD
BEGIN:DAYLIGHT
TZOFFSETFROM:-0600
TZOFFSETTO:-0500
TZNAME:CDT
DTSTART:20240310T080000
END:DAYLIGHT
BEGIN:STANDARD
TZOFFSETFROM:-0500
TZOFFSETTO:-0600
TZNAME:CST
DTSTART:20241103T070000
END:STANDARD
BEGIN:DAYLIGHT
TZOFFSETFROM:-0600
TZOFFSETTO:-0500
TZNAME:CDT
DTSTART:20250309T080000
END:DAYLIGHT
BEGIN:STANDARD
TZOFFSETFROM:-0500
TZOFFSETTO:-0600
TZNAME:CST
DTSTART:20251102T070000
END:STANDARD
END:VTIMEZONE
BEGIN:VEVENT
DTSTART;TZID=America/Chicago:20241129T170000
DTEND;TZID=America/Chicago:20241231T210000
DTSTAMP:20260422T060151
CREATED:20241126T175329Z
LAST-MODIFIED:20241126T175354Z
UID:10003957-1732899600-1735678800@cajuncoast.com
SUMMARY:Traditional Idlewild Plantation Christmas Lighting
DESCRIPTION:November 29th – December 31st  \nTraditional Idlewild Plantation Christmas Lighting \nDriving tour will be from 5 to 8 p.m. Sunday through Thursday and 5pm to 9 pm\, Friday and Saturday at 5pm to 9pm. Kemper Williams Park in Patterson for $5 per Vehicle (Dependent on Weather). Contact 985-395-2298 for more information. \n 
URL:https://cajuncoast.com/event/traditional-idlewild-plantation-christmas-lighting/
LOCATION:LA
END:VEVENT
BEGIN:VEVENT
DTSTART;TZID=America/Chicago:20241202T180000
DTEND;TZID=America/Chicago:20241202T200000
DTSTAMP:20260422T060151
CREATED:20240805T164425Z
LAST-MODIFIED:20240805T164425Z
UID:10002476-1733162400-1733169600@cajuncoast.com
SUMMARY:Berwick Christmas Lighting
DESCRIPTION:Hosted by Town of Berwick.\nJoin us along the Atchafalaya River as Santa Claus makes his grand entrance\nby arriving by boat for our annual Christmas Lighting ceremony.\nHe will lead the countdown to the lighting of the Christmas lights all throughout the town!\nThere will be snacks\, carols\, and pictures with Santa!!!
URL:https://cajuncoast.com/event/berwick-christmas-lighting/
LOCATION:Along Atchafalaya River (Berwick)\, Bellview Front St.\, Berwick\, LA\, 70342\, United States
ATTACH;FMTTYPE=image/jpeg:https://cajuncoast.com/wp-content/uploads/2024/08/Berwick-Annual-Christmas-Lighting-e1722876221982.jpg
ORGANIZER;CN="Town of Berwick":MAILTO:caskew@townofberwick.org
END:VEVENT
BEGIN:VEVENT
DTSTART;TZID=America/Chicago:20241202T190000
DTEND;TZID=America/Chicago:20241202T210000
DTSTAMP:20260422T060151
CREATED:20241024T214415Z
LAST-MODIFIED:20241210T223634Z
UID:10002449-1733166000-1733173200@cajuncoast.com
SUMMARY:Morgan City VFW Bingo
DESCRIPTION:7:00 ON MONDAY AND TUESDAY
URL:https://cajuncoast.com/event/morgan-city-vfw-bingo-3-2/2024-12-02/
LOCATION:VFW of Morgan City\, 1504 Sandra Street\, Morgan City\, LA\, 70380\, United States
ATTACH;FMTTYPE=image/jpeg:https://cajuncoast.com/wp-content/uploads/2024/10/VFW-Bingo-e1729806574709.jpg
END:VEVENT
END:VCALENDAR