BEGIN:VCALENDAR
VERSION:2.0
PRODID:-//cajuncoast.com - ECPv6.15.20//NONSGML v1.0//EN
CALSCALE:GREGORIAN
METHOD:PUBLISH
X-ORIGINAL-URL:https://cajuncoast.com
X-WR-CALDESC:Events for cajuncoast.com
REFRESH-INTERVAL;VALUE=DURATION:PT1H
X-Robots-Tag:noindex
X-PUBLISHED-TTL:PT1H
BEGIN:VTIMEZONE
TZID:America/Chicago
BEGIN:DAYLIGHT
TZOFFSETFROM:-0600
TZOFFSETTO:-0500
TZNAME:CDT
DTSTART:20230312T080000
END:DAYLIGHT
BEGIN:STANDARD
TZOFFSETFROM:-0500
TZOFFSETTO:-0600
TZNAME:CST
DTSTART:20231105T070000
END:STANDARD
BEGIN:DAYLIGHT
TZOFFSETFROM:-0600
TZOFFSETTO:-0500
TZNAME:CDT
DTSTART:20240310T080000
END:DAYLIGHT
BEGIN:STANDARD
TZOFFSETFROM:-0500
TZOFFSETTO:-0600
TZNAME:CST
DTSTART:20241103T070000
END:STANDARD
BEGIN:DAYLIGHT
TZOFFSETFROM:-0600
TZOFFSETTO:-0500
TZNAME:CDT
DTSTART:20250309T080000
END:DAYLIGHT
BEGIN:STANDARD
TZOFFSETFROM:-0500
TZOFFSETTO:-0600
TZNAME:CST
DTSTART:20251102T070000
END:STANDARD
END:VTIMEZONE
BEGIN:VEVENT
DTSTART;TZID=America/Chicago:20241129T170000
DTEND;TZID=America/Chicago:20241231T210000
DTSTAMP:20260425T192124
CREATED:20241126T175329Z
LAST-MODIFIED:20241126T175354Z
UID:10003957-1732899600-1735678800@cajuncoast.com
SUMMARY:Traditional Idlewild Plantation Christmas Lighting
DESCRIPTION:November 29th – December 31st  \nTraditional Idlewild Plantation Christmas Lighting \nDriving tour will be from 5 to 8 p.m. Sunday through Thursday and 5pm to 9 pm\, Friday and Saturday at 5pm to 9pm. Kemper Williams Park in Patterson for $5 per Vehicle (Dependent on Weather). Contact 985-395-2298 for more information. \n 
URL:https://cajuncoast.com/event/traditional-idlewild-plantation-christmas-lighting/
LOCATION:La
END:VEVENT
BEGIN:VEVENT
DTSTART;TZID=America/Chicago:20241216T173000
DTEND;TZID=America/Chicago:20241216T193000
DTSTAMP:20260425T192124
CREATED:20241210T220449Z
LAST-MODIFIED:20241210T220449Z
UID:10003966-1734370200-1734377400@cajuncoast.com
SUMMARY:An Evening with Santa
DESCRIPTION:An Evening with Santa at The Market.\nJoin the Vendor crew and Santa for an evening of crafts for kids!\nDecorate a Christmas cookie\, make a jolly jar of cocoa\, build your own ornament\,\ndecorate a tumbler\, finger foods by Stewbaby’s\, and more!\nEach Craft station will have a minimal fee.
URL:https://cajuncoast.com/event/an-evening-with-santa/
LOCATION:The Market\, 1500 Federal Avenue\, Morgan City\, LA\, 70380\, United States
ATTACH;FMTTYPE=image/jpeg:https://cajuncoast.com/wp-content/uploads/2024/12/The-Market.jpg
ORGANIZER;CN="The Market":MAILTO:themarketunlimited@gmail.com
END:VEVENT
BEGIN:VEVENT
DTSTART;TZID=America/Chicago:20241216T180000
DTEND;TZID=America/Chicago:20241216T190000
DTSTAMP:20260425T192124
CREATED:20241210T220415Z
LAST-MODIFIED:20241210T220415Z
UID:10003967-1734372000-1734375600@cajuncoast.com
SUMMARY:Spirit of Morgan City Christmas Decorating Contest
DESCRIPTION:Hosted by Morgan City Main Street.\nDecorate your house\, yard\, or business exterior to show your Christmas spirit and enter to win!\nThe lights must be on for judging at 6pm to be eligible.\nGuest judges will view and announce winners on social media\, with prizes including bragging rights and a best decorated yard sign.
URL:https://cajuncoast.com/event/spirit-of-morgan-city-christmas-decorating-contest/
LOCATION:Morgan City\, 3257 Hwy 70\, Morgan City\, LA\, 70380\, United States
ATTACH;FMTTYPE=image/jpeg:https://cajuncoast.com/wp-content/uploads/2024/12/spirit-of-Morgan-City-Christmas-Decorating-Contest.jpg
ORGANIZER;CN="Morgan City Main Street":MAILTO:No Email available
END:VEVENT
BEGIN:VEVENT
DTSTART;TZID=America/Chicago:20241216T190000
DTEND;TZID=America/Chicago:20241216T210000
DTSTAMP:20260425T192124
CREATED:20241024T214415Z
LAST-MODIFIED:20241210T223634Z
UID:10002451-1734375600-1734382800@cajuncoast.com
SUMMARY:Morgan City VFW Bingo
DESCRIPTION:7:00 ON MONDAY AND TUESDAY
URL:https://cajuncoast.com/event/morgan-city-vfw-bingo-3-2/2024-12-16/
LOCATION:VFW of Morgan City\, 1504 Sandra Street\, Morgan City\, LA\, 70380\, United States
ATTACH;FMTTYPE=image/jpeg:https://cajuncoast.com/wp-content/uploads/2024/10/VFW-Bingo-e1729806574709.jpg
END:VEVENT
END:VCALENDAR