BEGIN:VCALENDAR
VERSION:2.0
PRODID:-//cajuncoast.com - ECPv6.15.20//NONSGML v1.0//EN
CALSCALE:GREGORIAN
METHOD:PUBLISH
X-WR-CALNAME:cajuncoast.com
X-ORIGINAL-URL:https://cajuncoast.com
X-WR-CALDESC:Events for cajuncoast.com
REFRESH-INTERVAL;VALUE=DURATION:PT1H
X-Robots-Tag:noindex
X-PUBLISHED-TTL:PT1H
BEGIN:VTIMEZONE
TZID:America/Chicago
BEGIN:DAYLIGHT
TZOFFSETFROM:-0600
TZOFFSETTO:-0500
TZNAME:CDT
DTSTART:20230312T080000
END:DAYLIGHT
BEGIN:STANDARD
TZOFFSETFROM:-0500
TZOFFSETTO:-0600
TZNAME:CST
DTSTART:20231105T070000
END:STANDARD
BEGIN:DAYLIGHT
TZOFFSETFROM:-0600
TZOFFSETTO:-0500
TZNAME:CDT
DTSTART:20240310T080000
END:DAYLIGHT
BEGIN:STANDARD
TZOFFSETFROM:-0500
TZOFFSETTO:-0600
TZNAME:CST
DTSTART:20241103T070000
END:STANDARD
BEGIN:DAYLIGHT
TZOFFSETFROM:-0600
TZOFFSETTO:-0500
TZNAME:CDT
DTSTART:20250309T080000
END:DAYLIGHT
BEGIN:STANDARD
TZOFFSETFROM:-0500
TZOFFSETTO:-0600
TZNAME:CST
DTSTART:20251102T070000
END:STANDARD
END:VTIMEZONE
BEGIN:VEVENT
DTSTART;TZID=America/Chicago:20241129T170000
DTEND;TZID=America/Chicago:20241231T210000
DTSTAMP:20260425T190558
CREATED:20241126T175329Z
LAST-MODIFIED:20241126T175354Z
UID:10003957-1732899600-1735678800@cajuncoast.com
SUMMARY:Traditional Idlewild Plantation Christmas Lighting
DESCRIPTION:November 29th – December 31st  \nTraditional Idlewild Plantation Christmas Lighting \nDriving tour will be from 5 to 8 p.m. Sunday through Thursday and 5pm to 9 pm\, Friday and Saturday at 5pm to 9pm. Kemper Williams Park in Patterson for $5 per Vehicle (Dependent on Weather). Contact 985-395-2298 for more information. \n 
URL:https://cajuncoast.com/event/traditional-idlewild-plantation-christmas-lighting/
LOCATION:La
END:VEVENT
BEGIN:VEVENT
DTSTART;TZID=America/Chicago:20241220T153000
DTEND;TZID=America/Chicago:20241220T170000
DTSTAMP:20260425T190558
CREATED:20241213T200751Z
LAST-MODIFIED:20241213T200751Z
UID:10003983-1734708600-1734714000@cajuncoast.com
SUMMARY:Patterson Library Movie Night
DESCRIPTION:The Patterson Library Movie Night will be Friday\, December 20th at 3:30pm. They will be watching The Polar Express! All ages are welcome! For more information\, you may contact Patterson Library at 985.395.2777
URL:https://cajuncoast.com/event/patterson-library-movie-night/
LOCATION:Patterson Branch Library\, 521 Catherine Street\, Patterson\, LA\, 70392\, United States
ATTACH;FMTTYPE=image/jpeg:https://cajuncoast.com/wp-content/uploads/2024/12/12.20-Patterson-Library-Movie-Night.jpg
END:VEVENT
BEGIN:VEVENT
DTSTART;TZID=America/Chicago:20241220T170000
DTEND;TZID=America/Chicago:20241220T200000
DTSTAMP:20260425T190558
CREATED:20240919T192001Z
LAST-MODIFIED:20240919T192048Z
UID:10002817-1734714000-1734724800@cajuncoast.com
SUMMARY:Live Music
DESCRIPTION:Hosted by One80 Downtown.\nCome and enjoy some live music by Allison Dozar.\n(Time TBD)
URL:https://cajuncoast.com/event/live-music-23/
LOCATION:One80 Downtown\, 180 Canton Street\, Berwick\, LA\, 70342\, United States
CATEGORIES:Live Music
ATTACH;FMTTYPE=image/jpeg:https://cajuncoast.com/wp-content/uploads/2024/09/Music-Line-up-8.jpg
ORGANIZER;CN="One80 Downtown":MAILTO:One80downtown@gmail.com
END:VEVENT
BEGIN:VEVENT
DTSTART;TZID=America/Chicago:20241220T180000
DTEND;TZID=America/Chicago:20241220T210000
DTSTAMP:20260425T190558
CREATED:20241210T220316Z
LAST-MODIFIED:20241210T220316Z
UID:10003969-1734717600-1734728400@cajuncoast.com
SUMMARY:Live Music
DESCRIPTION:Live Music by Michael Cape & Kevin Benoit.\nCome enjoy handcrafted cocktails and the beautiful acoustic!\nIt’s also the Christmas Teachers Party Dat!\nAll are welcome!
URL:https://cajuncoast.com/event/live-music-36/
LOCATION:One80 Downtown\, 180 Canton Street\, Berwick\, LA\, 70342\, United States
CATEGORIES:Live Music
ATTACH;FMTTYPE=image/jpeg:https://cajuncoast.com/wp-content/uploads/2024/12/Micheal-Cape-Kevin-Benoit.jpg
ORGANIZER;CN="One80 Downtown":MAILTO:One80downtown@gmail.com
END:VEVENT
BEGIN:VEVENT
DTSTART;TZID=America/Chicago:20241220T190000
DTEND;TZID=America/Chicago:20241220T203000
DTSTAMP:20260425T190558
CREATED:20241024T210505Z
LAST-MODIFIED:20241024T210505Z
UID:10003532-1734721200-1734726600@cajuncoast.com
SUMMARY:The Thrill of Hope Musical Production
DESCRIPTION:THE THRILL OF HOPE – FREE ADMISSION \n3 SHOWS: Dec 20th 7:00PM\, Dec 21st 2PM\, Dec 21st 7PM \nJoin us for one of Franklin’s favorite Christmas traditions as we celebrate the season with Crossing Place Fellowship’s 3rd annual ‘The Thrill of Hope’ musical production! \nPLUS!\nWe will have a petting zoo and ‘winter wonderland’ experience FREE of charge for the children from 6:00-6:45PM and for 30 minutes after the shows!\nDoors open for the show at 6:30PM!
URL:https://cajuncoast.com/event/the-thrill-of-hope-musical-production/2024-12-20/
LOCATION:La
ATTACH;FMTTYPE=image/png:https://cajuncoast.com/wp-content/uploads/2024/10/the-thrill-of-hope-1920-x-1080-px-e1729803864354.png
ORGANIZER;CN="Crossing Place Fellowship":MAILTO:media@crossingplace.org
END:VEVENT
END:VCALENDAR