BEGIN:VCALENDAR
VERSION:2.0
PRODID:-//cajuncoast.com - ECPv6.15.20//NONSGML v1.0//EN
CALSCALE:GREGORIAN
METHOD:PUBLISH
X-WR-CALNAME:cajuncoast.com
X-ORIGINAL-URL:https://cajuncoast.com
X-WR-CALDESC:Events for cajuncoast.com
REFRESH-INTERVAL;VALUE=DURATION:PT1H
X-Robots-Tag:noindex
X-PUBLISHED-TTL:PT1H
BEGIN:VTIMEZONE
TZID:America/Chicago
BEGIN:DAYLIGHT
TZOFFSETFROM:-0600
TZOFFSETTO:-0500
TZNAME:CDT
DTSTART:20240310T080000
END:DAYLIGHT
BEGIN:STANDARD
TZOFFSETFROM:-0500
TZOFFSETTO:-0600
TZNAME:CST
DTSTART:20241103T070000
END:STANDARD
BEGIN:DAYLIGHT
TZOFFSETFROM:-0600
TZOFFSETTO:-0500
TZNAME:CDT
DTSTART:20250309T080000
END:DAYLIGHT
BEGIN:STANDARD
TZOFFSETFROM:-0500
TZOFFSETTO:-0600
TZNAME:CST
DTSTART:20251102T070000
END:STANDARD
BEGIN:DAYLIGHT
TZOFFSETFROM:-0600
TZOFFSETTO:-0500
TZNAME:CDT
DTSTART:20260308T080000
END:DAYLIGHT
BEGIN:STANDARD
TZOFFSETFROM:-0500
TZOFFSETTO:-0600
TZNAME:CST
DTSTART:20261101T070000
END:STANDARD
END:VTIMEZONE
BEGIN:VEVENT
DTSTART;TZID=America/Chicago:20250306T180000
DTEND;TZID=America/Chicago:20250306T210000
DTSTAMP:20260423T161835
CREATED:20250305T214244Z
LAST-MODIFIED:20250305T214258Z
UID:10004385-1741284000-1741294800@cajuncoast.com
SUMMARY:Live Music
DESCRIPTION:By Jessey Adams performing at one80 Downtown From 6 pm – 9 pm.\nMulit-award-winning singer/songwriter Jessey Adams effortlessly blends outlaw and traditional country music\,\ncapturing the spirit of a vagabond as she performs across the U.S.\nHer powerful original songs reflect both the trill of the road and her small-town roots.\nA rising star from Michigan\, Jessey has garnered recognition for her storytelling\, winning titles\nat the Pensacola Beach Songwriters Festival and Michigan State Fair Superstars competitions in 2024\nand earning semi-finalist honors at Tennessee Songwriters Week.\nWith nominations for two Josie Music Awards and performances alongside artists like Cooper Alan\nand Sunny Sweeney\, Jessey Adams is a captivating force in country music.
URL:https://cajuncoast.com/event/live-music-46/
LOCATION:One80 Downtown\, 180 Canton Street\, Berwick\, LA\, 70342\, United States
CATEGORIES:Live Music
ATTACH;FMTTYPE=image/jpeg:https://cajuncoast.com/wp-content/uploads/2025/03/Live-music-by-Jessey-Adams-cajun-coast-e1741210954261.jpg
ORGANIZER;CN="One80 Downtown":MAILTO:One80downtown@gmail.com
END:VEVENT
BEGIN:VEVENT
DTSTART;TZID=America/Chicago:20250306T190000
DTEND;TZID=America/Chicago:20250306T210000
DTSTAMP:20260423T161835
CREATED:20240130T221502Z
LAST-MODIFIED:20260303T224408Z
UID:10000727-1741287600-1741294800@cajuncoast.com
SUMMARY:Bingo at Bayou Vista Volunteer Fire Department
DESCRIPTION:Hosted by Bayou Vista Volunteer Fire Department\, 1701 Saturn Road. \nThere will be 10 game books\, Double Bingo\, Coverall\, Early bird\, and a $2500 Jackpot. \nConcessions will be sold. Doors open at 5:30 pm. Card sales begin at 6 pm. The first game is at 7 pm. * \nNo outside food or drinks allowed\, and no alcohol allowed on premises. Children must be 8 years old to enter.
URL:https://cajuncoast.com/event/bingo-at-bayou-vista-volunteer-fire-department/2025-03-06/
LOCATION:Bayou Vista Volunteer Fire Dept.\, 1519 Hwy 182\, Bayou Vista\, LA\, 70380\, United States
ATTACH;FMTTYPE=image/jpeg:https://cajuncoast.com/wp-content/uploads/2024/01/bayou-vista-Bingo-e1772577838909.jpg
END:VEVENT
END:VCALENDAR