BEGIN:VCALENDAR
VERSION:2.0
PRODID:-//cajuncoast.com - ECPv6.15.20//NONSGML v1.0//EN
CALSCALE:GREGORIAN
METHOD:PUBLISH
X-ORIGINAL-URL:https://cajuncoast.com
X-WR-CALDESC:Events for cajuncoast.com
REFRESH-INTERVAL;VALUE=DURATION:PT1H
X-Robots-Tag:noindex
X-PUBLISHED-TTL:PT1H
BEGIN:VTIMEZONE
TZID:America/Chicago
BEGIN:DAYLIGHT
TZOFFSETFROM:-0600
TZOFFSETTO:-0500
TZNAME:CDT
DTSTART:20240310T080000
END:DAYLIGHT
BEGIN:STANDARD
TZOFFSETFROM:-0500
TZOFFSETTO:-0600
TZNAME:CST
DTSTART:20241103T070000
END:STANDARD
BEGIN:DAYLIGHT
TZOFFSETFROM:-0600
TZOFFSETTO:-0500
TZNAME:CDT
DTSTART:20250309T080000
END:DAYLIGHT
BEGIN:STANDARD
TZOFFSETFROM:-0500
TZOFFSETTO:-0600
TZNAME:CST
DTSTART:20251102T070000
END:STANDARD
BEGIN:DAYLIGHT
TZOFFSETFROM:-0600
TZOFFSETTO:-0500
TZNAME:CDT
DTSTART:20260308T080000
END:DAYLIGHT
BEGIN:STANDARD
TZOFFSETFROM:-0500
TZOFFSETTO:-0600
TZNAME:CST
DTSTART:20261101T070000
END:STANDARD
END:VTIMEZONE
BEGIN:VEVENT
DTSTART;TZID=America/Chicago:20250307T130000
DTEND;TZID=America/Chicago:20250403T160000
DTSTAMP:20260424T010107
CREATED:20250311T163643Z
LAST-MODIFIED:20250311T163643Z
UID:10004400-1741352400-1743696000@cajuncoast.com
SUMMARY:28th Annual St. Mary Parish Student Art Show
DESCRIPTION:Art show of the creative and talented students in St. Mary Parish \nOPEN to the public – 1-4 pm\, Wednesday to Friday and 11 am to 2 pm\, Saturday. \nAwards:  March 31st – Pre-K through 5th Grade\, 6 pm\, Middle to High School\, 6:30 pm.
URL:https://cajuncoast.com/event/28th-annual-st-mary-parish-student-art-show/
LOCATION:Artist Guild Unlimited\, 201 Everett Street\, MORGAN CITY\, LA\, 70380\, United States
END:VEVENT
BEGIN:VEVENT
DTSTART;TZID=America/Chicago:20250326T080000
DTEND;TZID=America/Chicago:20250330T170000
DTSTAMP:20260424T010107
CREATED:20250207T170946Z
LAST-MODIFIED:20250226T192253Z
UID:10004355-1742976000-1743354000@cajuncoast.com
SUMMARY:Greenhulk Mudbug Nationals
DESCRIPTION:GreenHulk Presents Outlaw Water Series\nMarch 26 to March 30\, 2025\nLake End Park \nWednesday\, March 26 – Mudbug Swamp Rides – Explore the Atchafalaya Swamp. Start at Doiron’s Landing.  Visit www.greenhulk.net for more information. \nThursday\, March 27 – Mudbug Swamp Rides – Visit www.greenhulk.net for more information. \nOutlaw Water Series\nMarch Madness Race \nFriday\, March 28 – Slalom Racing\nLake End Park – $1000 to fastest 100 mi Mudbug Rider.  Follow Nautiwater Racing for more information \nSaturday\, March 29 – Closed Course Racing\nLake End Park – starts at 8 am – Rider’s Meeting.\nFollow Nautiwater Racing for more information \nSunday\, March 30 – Closed Course Racing\nLake End Park – All day until awards at 5 pm.\nFollow Nautiwater Racing for more information.
URL:https://cajuncoast.com/event/greenhulk-mudbug-nationals/
LOCATION:Lake End Park\, 2300 LA Hwy 70\, Morgan City\, LA\, 70380
ATTACH;FMTTYPE=image/jpeg:https://cajuncoast.com/wp-content/uploads/2025/02/Greenhulk-Mudbug-Nationals-e1740597760115.jpg
END:VEVENT
BEGIN:VEVENT
DTSTART;TZID=America/Chicago:20250329T080000
DTEND;TZID=America/Chicago:20250329T110000
DTSTAMP:20260424T010107
CREATED:20250320T175835Z
LAST-MODIFIED:20250320T175835Z
UID:10004415-1743235200-1743246000@cajuncoast.com
SUMMARY:Fishing Clinic
DESCRIPTION:Hosted by St. Mary Parish 4-H and U.S. Fish and Wildlife Services.\nThey need your help to survey the potential fish population in the pond!\nIt’ll be a fun time to spend with your family and catch some fish!\nFrom 8 am – 11 am at Bayou Teche National Wildlife Refuge Scoter Pond\, Franklin.\nYou can register at St. Mary Parish 4 – H for their link.\nFor more information\, you can contact Brian Pember via email at brian_pember@fws.gov or call at 985-860-6681.
URL:https://cajuncoast.com/event/fishing-clinic/
LOCATION:Bayou Teche National Wildelife Refuge Scoter Pond\, End of Steven R. Road\, Franklin\, LA\, 70538\, United States
ATTACH;FMTTYPE=image/jpeg:https://cajuncoast.com/wp-content/uploads/2025/03/Get-your-Fish-On-cajun-coast.jpg
END:VEVENT
BEGIN:VEVENT
DTSTART;TZID=America/Chicago:20250329T080000
DTEND;TZID=America/Chicago:20250329T170000
DTSTAMP:20260424T010107
CREATED:20250128T171651Z
LAST-MODIFIED:20250314T143451Z
UID:10004333-1743235200-1743267600@cajuncoast.com
SUMMARY:Day at the Park Horseshoe Mania
DESCRIPTION:*Rescheduled for March 29th* \nHosted by Louisiana State Horseshoe Pitching Association.\nLSHPA represents organized horseshoe pitching within the state of Louisiana.\nProvide a competitive\, healthy\, economical\, lifetime\, family sport.\nPitch horseshoes for health and fun!\nFor more information you can go to their website at https://lshpa.com or contact AI Dodson (985) 519-3644.
URL:https://cajuncoast.com/event/day-at-the-park-horseshoe-mania-2/
LOCATION:Kemper Williams Park\, 264 Cotten Road\, Patterson\, LA\, 70392\, United States
ATTACH;FMTTYPE=image/png:https://cajuncoast.com/wp-content/uploads/2025/01/LSHPA-Cajun-Coast-1.png
ORGANIZER;CN="LSHPA":MAILTO:allinda67@gmail.com
END:VEVENT
BEGIN:VEVENT
DTSTART;TZID=America/Chicago:20250329T100000
DTEND;TZID=America/Chicago:20250329T160000
DTSTAMP:20260424T010107
CREATED:20250312T214032Z
LAST-MODIFIED:20250312T214032Z
UID:10004404-1743242400-1743264000@cajuncoast.com
SUMMARY:Sidewalk Sale
DESCRIPTION:Hosted by Southern Stork Sneak Peek & Boutique; 823 Ninth St.\nJoin this boutique for a sidewalk sale & all season inventory blowout event!\nPrices as low as $5 for items. Cajun Cost Coffee truck will be there as well as Ginger Snap Creations with Easter cookie kits!\nCrab your friends\, your coffee\, cookies\, credit cards\, & come shop! From 10 am to 4 pm.
URL:https://cajuncoast.com/event/sidewalk-sale/
LOCATION:Southern Stork Sneak Peek & Boutique\, 823 Ninth St.\, Morgan City\, LA\, 70380\, United States
ATTACH;FMTTYPE=image/jpeg:https://cajuncoast.com/wp-content/uploads/2025/03/Southern-Stork-Sneak-Peek-Boutique-cajun-coast-e1741815617842.jpg
ORGANIZER;CN="Southern Stork Sneak Peek &amp%3B Boutique":MAILTO:Southernstorkla@gmail.com
END:VEVENT
BEGIN:VEVENT
DTSTART;TZID=America/Chicago:20250329T183000
DTEND;TZID=America/Chicago:20250329T203000
DTSTAMP:20260424T010107
CREATED:20250312T214334Z
LAST-MODIFIED:20250312T214334Z
UID:10004399-1743273000-1743280200@cajuncoast.com
SUMMARY:Central Catholic Auction & Lip Sync Battle
DESCRIPTION:Doors open at 6:30 pm at the Morgan City Municipal Auditorium; 728 Myrtle St.\nGeneral admission includes admission & meal for $25/per ticket.
URL:https://cajuncoast.com/event/central-catholic-auction-lip-sync-battle/
LOCATION:Morgan City Municipal Auditorium\, 728 Myrtle St.\, Morgan City\, LA\, 70380\, United States
ATTACH;FMTTYPE=image/jpeg:https://cajuncoast.com/wp-content/uploads/2025/03/Auction-Lip-Sync-Battle-cajun-coast-e1741815795220.jpg
ORGANIZER;CN="Central Catholic":MAILTO:cceoffice@htdiocese.org
END:VEVENT
BEGIN:VEVENT
DTSTART;TZID=America/Chicago:20250329T190000
DTEND;TZID=America/Chicago:20250329T220000
DTSTAMP:20260424T010107
CREATED:20250324T155929Z
LAST-MODIFIED:20250324T155929Z
UID:10004419-1743274800-1743285600@cajuncoast.com
SUMMARY:Live Music
DESCRIPTION:Live Music by Payton Dinger Acoustic at One80 Downtown.
URL:https://cajuncoast.com/event/live-music-50/
LOCATION:One80 Downtown\, 180 Canton Street\, Berwick\, LA\, 70342\, United States
CATEGORIES:Live Music
ATTACH;FMTTYPE=image/jpeg:https://cajuncoast.com/wp-content/uploads/2025/03/Payton-Dinger-Acoustic-cajun-coast-e1742831956285.jpg
ORGANIZER;CN="One80 Downtown":MAILTO:One80downtown@gmail.com
END:VEVENT
END:VCALENDAR