BEGIN:VCALENDAR
VERSION:2.0
PRODID:-//cajuncoast.com - ECPv6.15.20//NONSGML v1.0//EN
CALSCALE:GREGORIAN
METHOD:PUBLISH
X-ORIGINAL-URL:https://cajuncoast.com
X-WR-CALDESC:Events for cajuncoast.com
REFRESH-INTERVAL;VALUE=DURATION:PT1H
X-Robots-Tag:noindex
X-PUBLISHED-TTL:PT1H
BEGIN:VTIMEZONE
TZID:America/Chicago
BEGIN:DAYLIGHT
TZOFFSETFROM:-0600
TZOFFSETTO:-0500
TZNAME:CDT
DTSTART:20240310T080000
END:DAYLIGHT
BEGIN:STANDARD
TZOFFSETFROM:-0500
TZOFFSETTO:-0600
TZNAME:CST
DTSTART:20241103T070000
END:STANDARD
BEGIN:DAYLIGHT
TZOFFSETFROM:-0600
TZOFFSETTO:-0500
TZNAME:CDT
DTSTART:20250309T080000
END:DAYLIGHT
BEGIN:STANDARD
TZOFFSETFROM:-0500
TZOFFSETTO:-0600
TZNAME:CST
DTSTART:20251102T070000
END:STANDARD
BEGIN:DAYLIGHT
TZOFFSETFROM:-0600
TZOFFSETTO:-0500
TZNAME:CDT
DTSTART:20260308T080000
END:DAYLIGHT
BEGIN:STANDARD
TZOFFSETFROM:-0500
TZOFFSETTO:-0600
TZNAME:CST
DTSTART:20261101T070000
END:STANDARD
END:VTIMEZONE
BEGIN:VEVENT
DTSTART;TZID=America/Chicago:20250522T080000
DTEND;TZID=America/Chicago:20250525T220000
DTSTAMP:20260423T011944
CREATED:20250226T190054Z
LAST-MODIFIED:20250226T190054Z
UID:10004365-1747900800-1748210400@cajuncoast.com
SUMMARY:2025 RV Rally The Cruisin Cajuns
DESCRIPTION:Hosted by Kemper Williams Park. – The Cruisin Cajuns\nWhether your RV Rally consists of a gathering of RV enthusiasts across the country or just a local chapter gathering\,\nthe side trips and excursions available on the Cajun Coast for your group will have you planning your return trip before you even unhook.
URL:https://cajuncoast.com/event/2025-rv-rally-the-cruisin-cajuns-5/
LOCATION:Kemper Williams Park\, 264 Cotten Road\, Patterson\, LA\, 70392\, United States
ORGANIZER;CN="Kemper Williams Park":MAILTO:kwp@stmaryparishla.gov
END:VEVENT
BEGIN:VEVENT
DTSTART;TZID=America/Chicago:20250523T190000
DTEND;TZID=America/Chicago:20250523T220000
DTSTAMP:20260423T011944
CREATED:20250509T161734Z
LAST-MODIFIED:20250509T161734Z
UID:10004929-1748026800-1748037600@cajuncoast.com
SUMMARY:Live Music
DESCRIPTION:Chase Landry Acoustic\, hosted by One80 Downtown; 180 Canton Street.\nMaking another acoustic appearance\, Chase Landry!
URL:https://cajuncoast.com/event/live-music-61/
LOCATION:One80 Downtown\, 180 Canton Street\, Berwick\, LA\, 70342\, United States
CATEGORIES:Live Music
ATTACH;FMTTYPE=image/jpeg:https://cajuncoast.com/wp-content/uploads/2025/05/Chase-Landry-cajun-coast-e1746807445576.jpg
ORGANIZER;CN="One80 Downtown":MAILTO:One80downtown@gmail.com
END:VEVENT
BEGIN:VEVENT
DTSTART;TZID=America/Chicago:20250523T190000
DTEND;TZID=America/Chicago:20250523T230000
DTSTAMP:20260423T011944
CREATED:20250325T182114Z
LAST-MODIFIED:20250325T190000Z
UID:10004421-1748026800-1748041200@cajuncoast.com
SUMMARY:1st Annual Casino Night
DESCRIPTION:Casino Night. Join for Southern Wishes 1st Annual Casino Night at the Petroleum Club Ball Room.\nAll Proceeds will go towards Casa of the 16th JDC.\nLet’s work together to change a kid’s life! Enjoy Food\, drinks\, live music by Soul Shine\, Silent Auction\, & CASINO!\nDress in Business Casual. From 7 pm – 11 pm $100 single Entry.
URL:https://cajuncoast.com/event/1st-annual-casino-night/
LOCATION:Petroleum Club of Morgan City\, 500 Roderick Street\, Morgan City\, LA\, 70380\, United States
ATTACH;FMTTYPE=image/jpeg:https://cajuncoast.com/wp-content/uploads/2025/03/Southern-Wishes-Casino-Night-cajun-coast-e1742926864676.jpg
END:VEVENT
END:VCALENDAR