BEGIN:VCALENDAR
VERSION:2.0
PRODID:-//cajuncoast.com - ECPv6.15.20//NONSGML v1.0//EN
CALSCALE:GREGORIAN
METHOD:PUBLISH
X-ORIGINAL-URL:https://cajuncoast.com
X-WR-CALDESC:Events for cajuncoast.com
REFRESH-INTERVAL;VALUE=DURATION:PT1H
X-Robots-Tag:noindex
X-PUBLISHED-TTL:PT1H
BEGIN:VTIMEZONE
TZID:America/Chicago
BEGIN:DAYLIGHT
TZOFFSETFROM:-0600
TZOFFSETTO:-0500
TZNAME:CDT
DTSTART:20240310T080000
END:DAYLIGHT
BEGIN:STANDARD
TZOFFSETFROM:-0500
TZOFFSETTO:-0600
TZNAME:CST
DTSTART:20241103T070000
END:STANDARD
BEGIN:DAYLIGHT
TZOFFSETFROM:-0600
TZOFFSETTO:-0500
TZNAME:CDT
DTSTART:20250309T080000
END:DAYLIGHT
BEGIN:STANDARD
TZOFFSETFROM:-0500
TZOFFSETTO:-0600
TZNAME:CST
DTSTART:20251102T070000
END:STANDARD
BEGIN:DAYLIGHT
TZOFFSETFROM:-0600
TZOFFSETTO:-0500
TZNAME:CDT
DTSTART:20260308T080000
END:DAYLIGHT
BEGIN:STANDARD
TZOFFSETFROM:-0500
TZOFFSETTO:-0600
TZNAME:CST
DTSTART:20261101T070000
END:STANDARD
END:VTIMEZONE
BEGIN:VEVENT
DTSTART;TZID=America/Chicago:20251129T170000
DTEND;TZID=America/Chicago:20251231T210000
DTSTAMP:20260423T005831
CREATED:20251104T171740Z
LAST-MODIFIED:20251104T171740Z
UID:10006475-1764435600-1767214800@cajuncoast.com
SUMMARY:Traditional Idlewild Plantation Christmas Lighting
DESCRIPTION:Driving tour will be from 5 pm to 8 pm.\nSunday through Thursday and 5 pm to 9 pm\, Friday and Saturday at 5 pm to 9 pm.\nKemper Williams Park in Patterson for $5 per Vehicle (Dependent on Weather).\nContact 985-395-2298 for more information.
URL:https://cajuncoast.com/event/traditional-idlewild-plantation-christmas-lighting-2/
LOCATION:Kemper Williams Park\, 264 Cotten Road\, Patterson\, LA\, 70392\, United States
ATTACH;FMTTYPE=image/jpeg:https://cajuncoast.com/wp-content/uploads/2025/10/Traditional-Idlewild-PlantationChristmas-Lighiting-cajun-coast-e1762276646332.jpg
ORGANIZER;CN="Kemper Williams Park":MAILTO:kwp@stmaryparishla.gov
END:VEVENT
BEGIN:VEVENT
DTSTART;TZID=America/Chicago:20251130T110000
DTEND;TZID=America/Chicago:20251130T170000
DTSTAMP:20260423T005831
CREATED:20251104T170320Z
LAST-MODIFIED:20251112T165304Z
UID:10006485-1764500400-1764522000@cajuncoast.com
SUMMARY:Santa and Family Mini Photos
DESCRIPTION:Santa Minis + Family Minis at the Beautiful Arlington Mansion!\nIt’s that magical time of year again! Join us at the stunning Arlington Mansion for a day of holiday memories.\nSanta Minis\n11:00 AM – 3:00 PM\nFamily Minis\n3:00 PM – 5:00 PM\nOnly $99 per session!\nSpots are limited\, so don’t miss this chance to capture timeless holiday portraits in a gorgeous setting.\nSign-up link coming soon — stay tuned!
URL:https://cajuncoast.com/event/santa-and-family-mini-photos/
LOCATION:Arlington Masnion\, 11532 Hwy. 182\, Franklin\, LA\, 70538\, United States
ATTACH;FMTTYPE=image/jpeg:https://cajuncoast.com/wp-content/uploads/2025/11/Santa-minis-Arlington-Mansion-Cajun-Coast-e1762275784417.jpg
ORGANIZER;CN="Arlington Mansion":MAILTO:Events@ArlingtonMansion.com
END:VEVENT
BEGIN:VEVENT
DTSTART;TZID=America/Chicago:20251130T150000
DTEND;TZID=America/Chicago:20251130T170000
DTSTAMP:20260423T005831
CREATED:20251016T165350Z
LAST-MODIFIED:20251016T165350Z
UID:10006454-1764514800-1764522000@cajuncoast.com
SUMMARY:Acting Arcade Studio Four Week Acting Series
DESCRIPTION:Arcade Acting Studio Presents:\nNew 4-Week Acting Series\nAges 6–17\nPrice: $125\n*All levels of experience welcome*\nJoin us for an exciting\, hands-on acting series where students will explore character development\, scene study\, and on-camera performance in a fun\, supportive environment.\nArcade Acting Studio\nLearn. Create. Perform.
URL:https://cajuncoast.com/event/acting-arcade-studio-four-week-acting-series/2025-11-30/
LOCATION:1110 Main St.\, 1110 Main St.\, Patterson\, LA\, 70392\, United States
ATTACH;FMTTYPE=image/jpeg:https://cajuncoast.com/wp-content/uploads/2025/10/Arcade-Acting-Cajun-Coast-e1760633616447.jpg
ORGANIZER;CN="Arcade Acting Studio":MAILTO:info@theactingstudiola.com
END:VEVENT
END:VCALENDAR