BEGIN:VCALENDAR
VERSION:2.0
PRODID:-//cajuncoast.com - ECPv6.15.20//NONSGML v1.0//EN
CALSCALE:GREGORIAN
METHOD:PUBLISH
X-WR-CALNAME:cajuncoast.com
X-ORIGINAL-URL:https://cajuncoast.com
X-WR-CALDESC:Events for cajuncoast.com
REFRESH-INTERVAL;VALUE=DURATION:PT1H
X-Robots-Tag:noindex
X-PUBLISHED-TTL:PT1H
BEGIN:VTIMEZONE
TZID:America/Chicago
BEGIN:DAYLIGHT
TZOFFSETFROM:-0600
TZOFFSETTO:-0500
TZNAME:CDT
DTSTART:20250309T080000
END:DAYLIGHT
BEGIN:STANDARD
TZOFFSETFROM:-0500
TZOFFSETTO:-0600
TZNAME:CST
DTSTART:20251102T070000
END:STANDARD
BEGIN:DAYLIGHT
TZOFFSETFROM:-0600
TZOFFSETTO:-0500
TZNAME:CDT
DTSTART:20260308T080000
END:DAYLIGHT
BEGIN:STANDARD
TZOFFSETFROM:-0500
TZOFFSETTO:-0600
TZNAME:CST
DTSTART:20261101T070000
END:STANDARD
BEGIN:DAYLIGHT
TZOFFSETFROM:-0600
TZOFFSETTO:-0500
TZNAME:CDT
DTSTART:20270314T080000
END:DAYLIGHT
BEGIN:STANDARD
TZOFFSETFROM:-0500
TZOFFSETTO:-0600
TZNAME:CST
DTSTART:20271107T070000
END:STANDARD
END:VTIMEZONE
BEGIN:VEVENT
DTSTART;TZID=America/Chicago:20260228T080000
DTEND;TZID=America/Chicago:20260228T110000
DTSTAMP:20260422T175346
CREATED:20260218T204010Z
LAST-MODIFIED:20260218T204010Z
UID:10006958-1772265600-1772276400@cajuncoast.com
SUMMARY:The Ultimate Car Show
DESCRIPTION:Hosted by Fraternal Order of Police – Atchafalaya Lodge#62.\nMeet at Lake End Park; 2300 LA-70\, from 8 am to 11 am.\nIf raining will reschedule to March 7th. Entry fee is $30.\nThere will also be a live DJ\, snowballs\, & Pastalaya.
URL:https://cajuncoast.com/event/the-ultimate-car-show/
LOCATION:Lake End Park\, 2300 LA Hwy 70\, Morgan City\, LA\, 70380
ATTACH;FMTTYPE=image/jpeg:https://cajuncoast.com/wp-content/uploads/2026/02/Fraternal-Order-of-Police-cajun-coast-e1771447199691.jpg
END:VEVENT
BEGIN:VEVENT
DTSTART;TZID=America/Chicago:20260228T080000
DTEND;TZID=America/Chicago:20260228T170000
DTSTAMP:20260422T175346
CREATED:20260202T204109Z
LAST-MODIFIED:20260202T204109Z
UID:10006912-1772265600-1772298000@cajuncoast.com
SUMMARY:Day at Park Horseshoe Mania
DESCRIPTION:Hosted by Louisiana State Horseshoe Pitchers Association.\nEnjoy a competitive\, healthful\, economical\, lifetime\, and family sport.\nFor more information contact Al Dodson at (985) 519-3644.
URL:https://cajuncoast.com/event/day-at-park-horseshoe-mania/
LOCATION:Kemper Williams Park\, 264 Cotten Road\, Patterson\, LA\, 70392\, United States
ATTACH;FMTTYPE=image/jpeg:https://cajuncoast.com/wp-content/uploads/2026/02/LSHPA-cajun-coast.jpg
ORGANIZER;CN="LSHPA":MAILTO:allinda67@gmail.com
END:VEVENT
BEGIN:VEVENT
DTSTART;TZID=America/Chicago:20260228T080000
DTEND;TZID=America/Chicago:20260301T000000
DTSTAMP:20260422T175346
CREATED:20250804T151637Z
LAST-MODIFIED:20250804T151637Z
UID:10006095-1772265600-1772323200@cajuncoast.com
SUMMARY:Cosmic Bowling
DESCRIPTION:Hosted by Steelwood Lanes.\nPay one price for all you can bowl from 8 pm until midnight!\n$14 + tax per person.
URL:https://cajuncoast.com/event/cosmic-bowling/2026-02-28/
LOCATION:Steelwood Lanes\, 7722 Hwy 182 E\, Morgan City\, LA\, 70380\, United States
ATTACH;FMTTYPE=image/jpeg:https://cajuncoast.com/wp-content/uploads/2025/08/Steelwood-Lanes-cajun-coast-e1754320584888.jpg
ORGANIZER;CN="Steelwood Lanes":MAILTO:steelwoodlanes@gmail.com
END:VEVENT
BEGIN:VEVENT
DTSTART;TZID=America/Chicago:20260228T100000
DTEND;TZID=America/Chicago:20260228T120000
DTSTAMP:20260422T175346
CREATED:20260123T162036Z
LAST-MODIFIED:20260123T162036Z
UID:10006809-1772272800-1772280000@cajuncoast.com
SUMMARY:Striking Through the Decades with Tri-City Sluggers 10u
DESCRIPTION:Hosted by Tri-City Sluggers\, Jenny Fields Harvey\, Katy Felton\, & Misty Ruiz.\nJoin them for their Decades-Themed Bowling Fundraiser at Steelwood Lanes.\nYou can register at the event\, ahead of time at Steelwood Lanes\, or through Venmo.\nSend your $20 payment\, include your name\, & add “Bowling Tournament” in the notes.\nVenmo: @tcsluggerlance. They will also be selling jambalaya.\nRaffle tickets will be sold before the event & up until the time of the drawing.\nPrizes will be announced at the bowling tournament.\nThey will also have a 50/50 raffle held at the event.\nDress up like your favorite decade\, bring your friends & family\, & come support Tri-City Sluggers 10U.\nAll ages welcome.
URL:https://cajuncoast.com/event/striking-through-the-decades-with-tri-city-sluggers-10u/
LOCATION:Steelwood Lanes\, 7722 Hwy 182 E\, Morgan City\, LA\, 70380\, United States
ATTACH;FMTTYPE=image/jpeg:https://cajuncoast.com/wp-content/uploads/2026/01/Striking-through-the-decades-cajun-coast-e1769185219709.jpg
END:VEVENT
BEGIN:VEVENT
DTSTART;TZID=America/Chicago:20260228T100000
DTEND;TZID=America/Chicago:20260228T120000
DTSTAMP:20260422T175346
CREATED:20260223T181606Z
LAST-MODIFIED:20260223T181607Z
UID:10006933-1772272800-1772280000@cajuncoast.com
SUMMARY:Black History Month Quiz Bowl Contest
DESCRIPTION:Black History Month Quiz Bowl Contest\, hosted by St. Mary Parish Library in Partnership with 100 Black Men of St. Mary Parish; All schools in St. Mary Parish are invited to participate. The winning team receives a $1000 scholarship. Free Admission and open to the public. Two person Team in a double elimination tournament. Saturday February 28\, 2026\, 10 am. Patterson Senior High 2525 Main St. Patterson. For more details contact Ashton Myers (337) 828-5364
URL:https://cajuncoast.com/event/black-history-month-quiz-bowl-contest-2/
LOCATION:Patterson Senior High\, 2525 Main Street\, Patterson\, La\, 70392
CATEGORIES:Annual Events
ATTACH;FMTTYPE=image/jpeg:https://cajuncoast.com/wp-content/uploads/2026/02/St-Mary-Parish-Library-100-Black-Men-Quiz-Bowl-Contest-e1771023552577.jpg
ORGANIZER;CN="St. Mary Parish Library":MAILTO:info@stmaryparishlibrary.org
END:VEVENT
BEGIN:VEVENT
DTSTART;TZID=America/Chicago:20260228T100000
DTEND;TZID=America/Chicago:20260228T180000
DTSTAMP:20260422T175346
CREATED:20251104T173228Z
LAST-MODIFIED:20260123T163022Z
UID:10006470-1772272800-1772301600@cajuncoast.com
SUMMARY:Morgan City Retro Con 2026
DESCRIPTION:Hosted by Louisiana Retro Con.\nThey’re celebrating the 25th anniversary of one of Nintendo’s most beloved consoles: the GameCube!\nTickets will be available for purchase at the door\, and\npreorder tickets will soon be available online at: https:/www.louisianaretroconvention.com/tickets.\nMorgan City Retro Con is a testament to the OG Louisiana Retro Con events!\nIt’s all of the fun\, nostalgic stuff you have come to love\, without the extra fluff!\nIf you have never been to one of their shows before\, here are just some of the other things you can do at this amazing event:\nBlast to the past in the FREE Retro Con Arcade area (now featuring DIGITAL PINBALL\, Cruis’n USA\, AREA 51\, and so much more)!\nEnter their retro and modern video game tournaments with special prizes!\nBuy\, sell\, and trade with video games\, TCG\, comics\, toys\, and many other retro collectible vendors from all across LA and even the United States!\nTheir shows showcase multiple amazing local artists\, comic creators\, crafters\, cosplayers\, special guests\, and so much more!\nMark your calendars for an amazing show\, because you don’t want to miss out on\nLouisiana’s ultimate locally owned and operated video game and nostalgia event.
URL:https://cajuncoast.com/event/morgan-city-retro-con-2026/2026-02-28/
LOCATION:Morgan City Municipal Auditorium\, 728 Myrtle St.\, Morgan City\, LA\, 70380\, United States
CATEGORIES:Annual Events
ATTACH;FMTTYPE=image/png:https://cajuncoast.com/wp-content/uploads/2025/11/retro-con-2-e1769185792670.png
ORGANIZER;CN="Louisiana Retro Con":MAILTO:LouisianaRetroCon@gmail.com
END:VEVENT
BEGIN:VEVENT
DTSTART;TZID=America/Chicago:20260228T180000
DTEND;TZID=America/Chicago:20260228T210000
DTSTAMP:20260422T175346
CREATED:20260113T164903Z
LAST-MODIFIED:20260113T164903Z
UID:10006726-1772301600-1772312400@cajuncoast.com
SUMMARY:Live Music
DESCRIPTION:Hosted by Lake End Park.\nFrom 6 pm to 9 pm in the camper’s pavilion.\nEnjoy music by Freddie Rodrigue.\nPlease come out\, bring your dancing shoes\, and pass a good time at their beautiful park.\nIf anyone has any questions or concerns\, please call their office at 985-380-4623.
URL:https://cajuncoast.com/event/live-music-109/
LOCATION:Lake End Park\, 2300 LA Hwy 70\, Morgan City\, LA\, 70380
CATEGORIES:Live Music
ATTACH;FMTTYPE=image/jpeg:https://cajuncoast.com/wp-content/uploads/2026/01/Lake-End-Park-cajun-coast-4-e1768322934756.jpg
ORGANIZER;CN="Lake End Park":MAILTO:website@lakeendpark.net
END:VEVENT
BEGIN:VEVENT
DTSTART;TZID=America/Chicago:20260228T190000
DTEND;TZID=America/Chicago:20260228T220000
DTSTAMP:20260422T175346
CREATED:20260218T210034Z
LAST-MODIFIED:20260218T210034Z
UID:10006942-1772305200-1772316000@cajuncoast.com
SUMMARY:Live Music
DESCRIPTION:Hosted by One80 Downtown.\nEnjoy music by Payton Dinger\,\ntheir local acoustic singer!\nMark your calendar!
URL:https://cajuncoast.com/event/live-music-121/
LOCATION:One80 Downtown\, 180 Canton Street\, Berwick\, LA\, 70342\, United States
CATEGORIES:Live Music
ATTACH;FMTTYPE=image/jpeg:https://cajuncoast.com/wp-content/uploads/2026/02/Live-Music-cajun-coast-2-e1771448393344.jpg
ORGANIZER;CN="One80 Downtown":MAILTO:One80downtown@gmail.com
END:VEVENT
BEGIN:VEVENT
DTSTART;TZID=America/Chicago:20260228T200000
DTEND;TZID=America/Chicago:20260228T200000
DTSTAMP:20260422T175346
CREATED:20260210T163920Z
LAST-MODIFIED:20260227T202445Z
UID:10006927-1772308800-1772308800@cajuncoast.com
SUMMARY:Morgan City Retro After-Party 2026 (21+)
DESCRIPTION:Hosted by Louisiana Retro Con. 21+ Only!\nNo cover.  Join them after the Saturday festivities of Morgan City Retro Con 2026 for their official after-party!\nGrab a drink at Legend’s Lounge (inside the Clarion Inn)\nwith the LRC crew as they celebrate nostalgia with some good vibes from 8 pm – til.\nDancing & open Mic Karaoke will be ongoing throughout the night\, along with other activities.\nLegend’s Lounge also has dart boards & pool tables for those that fancy a good competition over a brew.
URL:https://cajuncoast.com/event/morgan-city-retro-after-party-2026-21/
LOCATION:Legend’s Lounge\, 520 Roderick Street\, Morgan City\, LA\, 70380\, United States
ATTACH;FMTTYPE=image/jpeg:https://cajuncoast.com/wp-content/uploads/2026/02/Louisiana-Retro-Con-cajun-coast-e1770741540212.jpg
ORGANIZER;CN="Louisiana Retro Con":MAILTO:LouisianaRetroCon@gmail.com
END:VEVENT
END:VCALENDAR