BEGIN:VCALENDAR
VERSION:2.0
PRODID:-//cajuncoast.com - ECPv6.15.20//NONSGML v1.0//EN
CALSCALE:GREGORIAN
METHOD:PUBLISH
X-ORIGINAL-URL:https://cajuncoast.com
X-WR-CALDESC:Events for cajuncoast.com
REFRESH-INTERVAL;VALUE=DURATION:PT1H
X-Robots-Tag:noindex
X-PUBLISHED-TTL:PT1H
BEGIN:VTIMEZONE
TZID:America/Chicago
BEGIN:DAYLIGHT
TZOFFSETFROM:-0600
TZOFFSETTO:-0500
TZNAME:CDT
DTSTART:20240310T080000
END:DAYLIGHT
BEGIN:STANDARD
TZOFFSETFROM:-0500
TZOFFSETTO:-0600
TZNAME:CST
DTSTART:20241103T070000
END:STANDARD
BEGIN:DAYLIGHT
TZOFFSETFROM:-0600
TZOFFSETTO:-0500
TZNAME:CDT
DTSTART:20250309T080000
END:DAYLIGHT
BEGIN:STANDARD
TZOFFSETFROM:-0500
TZOFFSETTO:-0600
TZNAME:CST
DTSTART:20251102T070000
END:STANDARD
BEGIN:DAYLIGHT
TZOFFSETFROM:-0600
TZOFFSETTO:-0500
TZNAME:CDT
DTSTART:20260308T080000
END:DAYLIGHT
BEGIN:STANDARD
TZOFFSETFROM:-0500
TZOFFSETTO:-0600
TZNAME:CST
DTSTART:20261101T070000
END:STANDARD
END:VTIMEZONE
BEGIN:VEVENT
DTSTART;TZID=America/Chicago:20250704T150000
DTEND;TZID=America/Chicago:20250704T160000
DTSTAMP:20260419T235809
CREATED:20250529T194537Z
LAST-MODIFIED:20250623T194842Z
UID:10004969-1751641200-1751644800@cajuncoast.com
SUMMARY:4th Annual Boat Parade
DESCRIPTION:Hosted by the City of Morgan City at Lake End Park; 2300 LA-70. Decorate your boat with red\, white\, & blue!\nPrizes will be awarded to 1st\, 2nd\, & 3rd place winners for the most festive boat!\nJudging begins at 4 pm in front of the new Pavilion.\nSign-up sheets can be submitted to Vanessa Spinella at 985-380-4639 or v.spinella@cityofmc.com.
URL:https://cajuncoast.com/event/4th-annual-boat-parade/
LOCATION:Lake End Park\, 2300 LA Hwy 70\, Morgan City\, LA\, 70380
CATEGORIES:Annual Events
ATTACH;FMTTYPE=image/jpeg:https://cajuncoast.com/wp-content/uploads/2025/05/4th-Annual-Boat-Parade-Cajun-Coast-e1750708115220.jpg
END:VEVENT
BEGIN:VEVENT
DTSTART;TZID=America/Chicago:20250705T080000
DTEND;TZID=America/Chicago:20250705T220000
DTSTAMP:20260419T235809
CREATED:20250623T151433Z
LAST-MODIFIED:20250623T151433Z
UID:10005001-1751702400-1751752800@cajuncoast.com
SUMMARY:2nd Annual Summer Party
DESCRIPTION:Hosted by Daiquiris & Company – Morgan City.\nJoin them for this year’s summer party themed Hawaiian Luau!\nThey will have free food\, specialty drinks\, live music with JJ Starbuck\, and raffles!
URL:https://cajuncoast.com/event/2nd-annual-summer-party/
LOCATION:Daiquiris & Company – Morgan City\, 1550 Hwy 90\, Morgan City\, LA\, 70380\, United States
CATEGORIES:Annual Events
ATTACH;FMTTYPE=image/jpeg:https://cajuncoast.com/wp-content/uploads/2025/06/Daiquiris-Company-Morgan-City-cajun-coast-e1750691665839.jpg
ORGANIZER;CN="Daiquiris &amp%3B Company - Morgan City":MAILTO:info@daiquirisandcompany.com
END:VEVENT
BEGIN:VEVENT
DTSTART;TZID=America/Chicago:20250719T120000
DTEND;TZID=America/Chicago:20250719T160000
DTSTAMP:20260419T235809
CREATED:20250624T150728Z
LAST-MODIFIED:20250624T150728Z
UID:10005006-1752926400-1752940800@cajuncoast.com
SUMMARY:2025 Back to School Bash for Students & Friends of St. Mary Parish
DESCRIPTION:Event Planning & Design By S. Hartman LLC along with family and friends will be hosting\nthe 5th Annual Back to School Bash for students and friends of St Mary Parish!\nThe 2025 Back to School Bash will take place at the Patterson Civic Center.\nThis is a FREE event for students and friends of St Mary Parish in which they will\nbe giving FREE school supplies. Their goal is to supply 500 students ranging from\nelementary to college with free school supplies and resources needed to succeed!\nAlong with giving out FREE school supplies\, they have STEM related educational\nactivities\, games\, door prizes\, and vendors to shop!\nThe CEO Kendrick White of the Gulf Coast Organization\, Kathy\, Tx will be awarding\nscholarships for students between ninth grade and college!\nThe Gulf Coast Organization is a non-profit organization that provides educational\nand career planning resources for the youth! They look forward to seeing you all.\nAnd remember\, students have to be present to receive school supplies.\nFor more information you can call at 404-422-3775.
URL:https://cajuncoast.com/event/2025-back-to-school-bash-for-students-friends-of-st-mary-parish/
LOCATION:Patterson Civic Center\, 116 Cotten Road Patterson\, Patterson\, LA\, 70392\, United States
CATEGORIES:Annual Events
ATTACH;FMTTYPE=image/jpeg:https://cajuncoast.com/wp-content/uploads/2025/06/5th-annual-2025-Back-to-School-Bash-for-Students-Friends-cajun-coast-e1750777626744.jpg
END:VEVENT
BEGIN:VEVENT
DTSTART;VALUE=DATE:20250725
DTEND;VALUE=DATE:20250727
DTSTAMP:20260419T235809
CREATED:20250401T213326Z
LAST-MODIFIED:20250623T194541Z
UID:10004430-1753401600-1753574399@cajuncoast.com
SUMMARY:14th Annual BBQ Bash
DESCRIPTION:The annual Bayou BBQ Bash a BCA-sanctioned event hosted by St. Mary Detachment Marine Corps League.\nHeld rain or shine in Morgan City\, LA\, each July.\nIt will take place under the US 90 Bridge from 4 pm to 9 pm on July 25th and 8 am to 5 pm on July 26th.\nCome join and enjoy food anytime\, live music\, arts & crafts\, and more!\nFor more information\, contact Bill at (985) 384-3446\, (985) 372-8880 or email at wgoessl@hotmail.com. \n  \nClick here to download forms  St. Mary Detachment Marine Corps League \n 
URL:https://cajuncoast.com/event/14th-annual-bbq-bash/
LOCATION:Under Hwy 90 Bridge\, 800 Front Street\, Morgan City\, LA\, 70380\, United States
CATEGORIES:Annual Events
ATTACH;FMTTYPE=image/jpeg:https://cajuncoast.com/wp-content/uploads/2025/04/BBQ-BAsh.jpg
ORGANIZER;CN="St. Mary Detcahment Marine Corps League":MAILTO:wgoessl@hotmail.com
END:VEVENT
END:VCALENDAR