BEGIN:VCALENDAR
VERSION:2.0
PRODID:-//cajuncoast.com - ECPv6.15.20//NONSGML v1.0//EN
CALSCALE:GREGORIAN
METHOD:PUBLISH
X-ORIGINAL-URL:https://cajuncoast.com
X-WR-CALDESC:Events for cajuncoast.com
REFRESH-INTERVAL;VALUE=DURATION:PT1H
X-Robots-Tag:noindex
X-PUBLISHED-TTL:PT1H
BEGIN:VTIMEZONE
TZID:America/Chicago
BEGIN:DAYLIGHT
TZOFFSETFROM:-0600
TZOFFSETTO:-0500
TZNAME:CDT
DTSTART:20240310T080000
END:DAYLIGHT
BEGIN:STANDARD
TZOFFSETFROM:-0500
TZOFFSETTO:-0600
TZNAME:CST
DTSTART:20241103T070000
END:STANDARD
BEGIN:DAYLIGHT
TZOFFSETFROM:-0600
TZOFFSETTO:-0500
TZNAME:CDT
DTSTART:20250309T080000
END:DAYLIGHT
BEGIN:STANDARD
TZOFFSETFROM:-0500
TZOFFSETTO:-0600
TZNAME:CST
DTSTART:20251102T070000
END:STANDARD
BEGIN:DAYLIGHT
TZOFFSETFROM:-0600
TZOFFSETTO:-0500
TZNAME:CDT
DTSTART:20260308T080000
END:DAYLIGHT
BEGIN:STANDARD
TZOFFSETFROM:-0500
TZOFFSETTO:-0600
TZNAME:CST
DTSTART:20261101T070000
END:STANDARD
END:VTIMEZONE
BEGIN:VEVENT
DTSTART;TZID=America/Chicago:20250816T180000
DTEND;TZID=America/Chicago:20250816T200000
DTSTAMP:20260425T052446
CREATED:20250512T142558Z
LAST-MODIFIED:20250623T194733Z
UID:10004936-1755367200-1755374400@cajuncoast.com
SUMMARY:9th Annual Trivia Night
DESCRIPTION:Hosted by Autism Bayou – An Affiliate of Autism Society.\nWill take place at Morgan City Municipal Auditorium; 728 Myrtle St.\nThink you’ve got what it takes to be the ultimate trivia champ?\nGather your team and put your knowledge to the test at Trivia Night—an evening full of fun\, facts\, and friendly competition!\nDoors open at 5 pm and games start at 6 pm. Teams up to 6 players per team.\nPrizes for the 1st place team and last place team winners. Expect theme rounds\, surprising questions\, and plenty of laughs.\nWhether you’re a pop culture pro\, history buff\, or random fact guru\, there’s question with your name on it.\nRSVP now and bring your a-game! Tickets can be purchased online at givebutter.com/P1wlos or visit Hosts Facebook page.
URL:https://cajuncoast.com/event/9th-annual-trivia-night/
LOCATION:Morgan City Municipal Auditorium\, 728 Myrtle St.\, Morgan City\, LA\, 70380\, United States
CATEGORIES:Annual Events
ATTACH;FMTTYPE=image/jpeg:https://cajuncoast.com/wp-content/uploads/2025/05/Trivia-Autisim-Society-e1750708026782.jpg
ORGANIZER;CN="Autism Bayou - An Affiliate of Autism Society":MAILTO:bayouautism@yahoo.com
END:VEVENT
BEGIN:VEVENT
DTSTART;TZID=America/Chicago:20250821T080000
DTEND;TZID=America/Chicago:20250822T130000
DTSTAMP:20260425T052446
CREATED:20250801T194644Z
LAST-MODIFIED:20250801T194911Z
UID:10005529-1755763200-1755867600@cajuncoast.com
SUMMARY:3rd Annual Bayou Business Summit
DESCRIPTION:Hosted by COLAB at Cypress Bayou Casino Hotel.\nThis is a high impact gathering of regional leaders\, policymakers\, & business professionals\nfocused on what’s next for the Bayou Region. This year’s summit will center around innovation\,\nenergy\, & growth\, with panel discussions exploring the future of industry\, workforce\, & regional opportunity.\nYou can get your tickets at https://www.eventbrite.com/e/1431482846729?aff=oddtdtcreator
URL:https://cajuncoast.com/event/3rd-annual-bayou-business-summit/
LOCATION:Cypress Bayou Casino & Hotel\, 832 Marin Luther King Road\, Charenton\, LA\, 70523\, United States
CATEGORIES:Annual Events
ATTACH;FMTTYPE=image/jpeg:https://cajuncoast.com/wp-content/uploads/2025/07/COLAB-cajun-coast-e1754077503469.jpg
ORGANIZER;CN="COLAB":MAILTO:news@bayouregion.com
END:VEVENT
BEGIN:VEVENT
DTSTART;TZID=America/Chicago:20250827T113000
DTEND;TZID=America/Chicago:20250827T123000
DTSTAMP:20260425T052446
CREATED:20250829T192536Z
LAST-MODIFIED:20250829T192536Z
UID:10006173-1756294200-1756297800@cajuncoast.com
SUMMARY:Bayou Bend LUNCH & LEARN Presents From gumbo to Go: Functional Fitness for Real Life
DESCRIPTION:Join us on Wednesday\, September 24th from 11:30 AM – 12:30 PM for September’s Lunch & Learn series in the Conference Center inside the Wellness Center at Bayou Bend.\nJoin Nate Leblanc\, corrective exercise specialist\, as he discusses practical\, real-world strategies for everyday fitness and injury prevention while enjoying delicious gumbo generously provided by Raintree Market.\nNate\, who is also a firefighter and functional movement consultant\, brings years of front-line experience and knowledge to this month’s presentation. Attendees can expect to learn:\n–How functional movement can boost daily energy\n–Simple strategies to prevent aches\, pains\, and injuries\n–Practical tips to move better at work\, at home\, and in your community\n–Everyday strength training that translates into real life \nFree to attend but registration is required to ensure enough seating and lunches.
URL:https://cajuncoast.com/event/bayou-bend-lunch-learn-presents-from-gumbo-to-go-functional-fitness-for-real-life/
LOCATION:Bayou Bend Fitness Center\, 1029 Northwest Blvd.\, Franklin\, LA\, 70538\, United States
CATEGORIES:Annual Events
ATTACH;FMTTYPE=image/jpeg:https://cajuncoast.com/wp-content/uploads/2025/08/Bayou-Bend-Gumbo-Cajun-Coast-e1756495525831.jpg
ORGANIZER;CN="Bayou Bend Health System":MAILTO:No Email available
END:VEVENT
BEGIN:VEVENT
DTSTART;TZID=America/Chicago:20250828T080000
DTEND;TZID=America/Chicago:20250901T170000
DTSTAMP:20260425T052446
CREATED:20250404T200321Z
LAST-MODIFIED:20250821T155849Z
UID:10004801-1756368000-1756746000@cajuncoast.com
SUMMARY:90th Louisiana Shrimp and Petroleum Festival
DESCRIPTION:The Louisiana Shrimp and Petroleum Festival will celebrate 90 years!  This five day extravaganza features live music\, historic events – such as Blessing of the Fleet and Mass in the Park\, arts and crafts\, Fireworks on the River\, children’s activities\, three parades and more! \nPhoto Bingo – July 24th to August 26\, 2025 \n  \nCajun Coast Tourism is kicking off the fun ahead of the 90th Louisiana Shrimp & Petroleum Festival with a photo challenge that showcases the people\, places\, and spirit of the Cajun Coast. \nPick up your bingo card starting Thursday\, July 24\, at the Pre-BBQ Bash Party at the Holiday Inn Express in Morgan City. After that\, cards will be available at the Cajun Coast Visitor Center (900 Dr. Martin Luther King Blvd.) or download the Shrimp & Petroleum Festival Photo Bingo Card. \nComplete a blackout card by snapping photos for each square and submit your photos with your NAME AND PHONE NUMBER to the S&P Photo Bingo Google Drive Folder (click the link or scan the QR Code) by August 25 for a chance to win! The winner\, drawn August 26\, will receive $300 cash\, two carnival ride bracelets\, a festival swag bag\, and two Petro Pit tickets. \nCelebrate 90 YEARS of the Louisiana Shrimp & Petroleum Festival Exhibit\nPharr Chapel United Methodist Church\, 517 Federal Avenue\, Morgan City \nAugust 19\, 20\, 21\, 23\, 26\, 27 10 am to 3 pm\nSeptember 3\, 4\, 5\, and 6 – 10 am to 3 pm \nFESTIVAL WEEKEND – August 28\, 29. 30\, 31 and September 1 – 10 am to 5 pm. \nSPONSORED by \n  \n\nThursday\, August 28\, 2025\nRibbon Cutting – 5:15 pm – Downtown Morgan City\nCarnival Rides – Pay one Price Arm bands – Mitchell Brothers\, 5 to 10 pm\nArtist Guild Unlimited 61st Annual Show & Sale\, 1 to 4 pm\n90th Anniversary – Festival Exhibit – Pharr Chapel United Methodist Church\, 10 am to 5 pm. \nSHUTTLE TOURS AVAILABLE FROM HOTELS TO FESTIVAL \nFriday\, August 29\, 2025\nArts and Crafts Marketplace\, 5 to 9 pm\nArtist Guild Unlimited 61st Annual Show & Sale\, 1 to 4 pm\nCajun Culinary Classic\,  5 to 11 pm.\nCarnival Rides by Mitchell Brothers\, 5 to Midnight\n90th Anniversary – Festival Exhibit – Pharr Chapel United Methodist Church\, 10 am to 5 pm.\nPetro Pit – VIP Admission Only – 5 to 11 pm\nMusic in the Park –\n5:30 pm to 8:30 pm – Caleb Lapeyrouse & The Drivers\n9 pm to 11 pm – Swampland Revival \nSaturday\, August 30\, 2025\n100 Black Men 5K Run/Walk – 8 am\nGolf Tournament – 8 am\nChildren’s Day Activities – Lawrence Park\, 8 am to 10:30 am\nMarketplace Under the Bridge – 9 am to 9 pm\nChildren’s Parade\, 11 am.\nChildren’s Village Ribbon Cutting – 1 pm\nChildren’s Village – 1 pm to 5 pm.\nCarnival Rides by Mitchell Brothers\, 12 noon to midnight\nArtist Guild Unlimited 61st Annual Show & Sale\, 11 am to 5 pm\nCajun Culinary Classic\, 11 am to 11 pm.\nPetro Pit – VIP Admission Only\, 2 pm to 11 pm.\n90th Anniversary – Festival Exhibit – Pharr Chapel United Methodist Church\, 10 am to 5 pm.\nGospel in the Park\, 11 am to 2:30 pm\nShrimp Cookoff\, MC Dock\, 2 pm.\nMusic in the Park –\n11:30 am – 12:30 am – SCL Worship\n1 pm to 2:30 pm – Rachel Fleetwood and Perfect Love\n3 pm to 5 pm – Left on Red\n5:30 pm to 7 pm. – Centro Norteno\n7:30 pm to 9 pm – Kerry Thibodaux Band\n9:30 pm to 11 pm – Chapel Hart \n3rd Street Music Stage Lineup\n9:30 am to 11:30 am – Chris Zeringue\n12:15 pm to 2:15 pm – Royal Shrimp Rumble\, Hosted by Gulf State Wrestling\n3:30 pm to 5:30 pm – Joe Haydel \nSunday\, August 31\, 2025\nMass in the Park\, 8:30 am to 9:30 am\nRotary Pancake Breakfast – 8 am to 10:30 am – Lawrence Park and St. Joseph’s Hall\nBloody Mary’s and Mimosas – 9:30 am to 11:30 am – Lawrence Park\nBlessing of the Fleet and Water Parade\, 10 am to 12 noon\nMarketplace Under the Bridge – 9 am to 9 pm\nChildren’s Village\, 1 to 5 pm.\nCarnival Rides by Mitchell Brothers\, 12 noon to midnight\nCajun Culinary Classic\, 11 am to 11 pm\nFireworks on the River\, 9 pm\nStreet Parade\, 3 pm\n90th Anniversary – Festival Exhibit – Pharr Chapel United Methodist Church\, 10 am to 5 pm.\nArtist Guild Unlimited 61st Annual Show & Sale\, 11 am to 5 pm\nPetro Pit – VIP Admission Only\, 11 am to 11 pm\nMusic in the Park –\n12 noon to 1 pm – Rick Lorenzo\n1:30 pm to 3:30 pm – Chubby Carrier and the Bayou Swamp Band\n4 to 6 pm – Transit\n6:30 pm to 8:30 pm – Dustin Lee Guedry Band\n9 pm to 11 pm – Kings of Leon \n3rd Street Music Stage Lineup\n9:30 am to 11:30 am – Harley Talbott\n12 noon to 2 pm – Russ Cheramie\n2:30 pm to 4:30 pm – Casie and Jonny \nMonday\, September 1\, 2025\nMarketplace Under the Bridge – 9 am to 5 pm\nArtist Guild Unlimited 61st Annual Show & Sale\, 11 am to 5 pm\nCajun Culinary Classic\, 11 am to 7 pm\nCarnival Rides – Pay one Price bracelet\, 12 noon to 9 pm\n90th Anniversary – Festival Exhibit – Pharr Chapel United Methodist Church\, 10 am to 5 pm.\nPetro Pit – VIP Admission Only\nMusic in the Park –\n12 noon to 2 pm – Cliff Hillebran\n2:30 pm to 4:30 pm – Cajun Roots\n5 pm to 7 pm – South 70 \nDiving & ROV Museum Tours – \n10 am and 2 pm\, – August 28\, 2025\nOn the Hour starting at 10 am – August 29\, 2025\nOn the Hour starting at 10 am – August 30\, 2025\n1 pm\, 2 pm and 3 pm\, – August 31\, 2025\nOn the Hour starting at 10 am – September 2\, 2025 \nHelicoptor Tours  – COST
URL:https://cajuncoast.com/event/90th-louisiana-shrimp-petroleum-festival/
LOCATION:Under the Bridge – Morgan City\, Second Street & Federal Avenue\, Morgan City\, LA\, 70380\, United States
CATEGORIES:Annual Events
ATTACH;FMTTYPE=image/jpeg:https://cajuncoast.com/wp-content/uploads/2025/04/LSP_Circle_Color-e1751036329908.jpg
ORGANIZER;CN="Louisiana Shrimp & Petroleum Festival":MAILTO:info@shrimpandpetroleum.org
END:VEVENT
BEGIN:VEVENT
DTSTART;TZID=America/Chicago:20250830T200000
DTEND;TZID=America/Chicago:20250831T010000
DTSTAMP:20260425T052446
CREATED:20250624T151156Z
LAST-MODIFIED:20250624T151203Z
UID:10005005-1756584000-1756602000@cajuncoast.com
SUMMARY:2nd Annual Summer Soiree
DESCRIPTION:Hosted by Krewe of Sheba.\nThe arrival of summer marks the return of Krewe of Sheba’s #SummerSoiree\,\ntaking place Labor Day weekend\, at the Patterson Area Civic Center.\nThis year’s Black & Gala will be a formal affair\, featuring exceptional cuisine\, champagne\,\ngreat music and dancing\, and esteemed guests from across the country.\nYou are cordially invited to join for an unforgettable evening of elegance and refinement.\nKrewe of Sheba is offering last year’s ticket prices for a limited Time!\nEvery ticket purchase is donated to KOS and is tax-deductible.\nGet your tickets on their Facebook page link for this event.
URL:https://cajuncoast.com/event/2nd-annual-summer-soiree/
LOCATION:Patterson Civic Center\, 116 Cotten Road Patterson\, Patterson\, LA\, 70392\, United States
CATEGORIES:Annual Events
ATTACH;FMTTYPE=image/jpeg:https://cajuncoast.com/wp-content/uploads/2025/06/Krewe-of-Sheba-cajun-coast-e1750777899573.jpg
ORGANIZER;CN="Krewe of Sheba":MAILTO:Info@kreweofsheba.com
END:VEVENT
END:VCALENDAR