BEGIN:VCALENDAR
VERSION:2.0
PRODID:-//cajuncoast.com - ECPv6.15.20//NONSGML v1.0//EN
CALSCALE:GREGORIAN
METHOD:PUBLISH
X-WR-CALNAME:cajuncoast.com
X-ORIGINAL-URL:https://cajuncoast.com
X-WR-CALDESC:Events for cajuncoast.com
REFRESH-INTERVAL;VALUE=DURATION:PT1H
X-Robots-Tag:noindex
X-PUBLISHED-TTL:PT1H
BEGIN:VTIMEZONE
TZID:America/Chicago
BEGIN:DAYLIGHT
TZOFFSETFROM:-0600
TZOFFSETTO:-0500
TZNAME:CDT
DTSTART:20240310T080000
END:DAYLIGHT
BEGIN:STANDARD
TZOFFSETFROM:-0500
TZOFFSETTO:-0600
TZNAME:CST
DTSTART:20241103T070000
END:STANDARD
BEGIN:DAYLIGHT
TZOFFSETFROM:-0600
TZOFFSETTO:-0500
TZNAME:CDT
DTSTART:20250309T080000
END:DAYLIGHT
BEGIN:STANDARD
TZOFFSETFROM:-0500
TZOFFSETTO:-0600
TZNAME:CST
DTSTART:20251102T070000
END:STANDARD
BEGIN:DAYLIGHT
TZOFFSETFROM:-0600
TZOFFSETTO:-0500
TZNAME:CDT
DTSTART:20260308T080000
END:DAYLIGHT
BEGIN:STANDARD
TZOFFSETFROM:-0500
TZOFFSETTO:-0600
TZNAME:CST
DTSTART:20261101T070000
END:STANDARD
END:VTIMEZONE
BEGIN:VEVENT
DTSTART;TZID=America/Chicago:20251101T093000
DTEND;TZID=America/Chicago:20251101T130000
DTSTAMP:20260421T223206
CREATED:20251009T163148Z
LAST-MODIFIED:20251009T163305Z
UID:10006311-1761989400-1762002000@cajuncoast.com
SUMMARY:Gumbo Cook-Off Fundraiser
DESCRIPTION:Ochsner St. Mary invites you to join them for their upcoming “Roux Rumble” Gumbo Cook-Off to benefit the Louisiana Chapter of the Alzheimer’s Association!\nEnjoy a variety of mouthwatering Gumbo and take part in crowning the people’s Champ Gumbo.\nJoin us for a fun-filled day of food\, music\, and community support.\nAll proceeds will benefit the Alzheimer’s Association Bayou Walk to end Alzheimer’s.\nTogether\, Let’s make a difference in the fight against Alzheimer’s!\nFor more information\, sponsorship opportunities\, and tickets\, contact Brett Hernandez; brett.hernandez@ochsner.org.
URL:https://cajuncoast.com/event/gumbo-cook-off-fundraiser/
LOCATION:Lawrence Park\, 715 Second St\, Morgan City\, LA\, 70380\, United States
CATEGORIES:Annual Events
ATTACH;FMTTYPE=image/jpeg:https://cajuncoast.com/wp-content/uploads/2025/10/Gumbo-Cook-off-Alzheimers-Cajun-Coast-e1760027482317.jpg
ORGANIZER;CN="Ochsner Bayou":MAILTO:feedback@Ochsner.org
END:VEVENT
BEGIN:VEVENT
DTSTART;TZID=America/Chicago:20251106T120000
DTEND;TZID=America/Chicago:20251106T190000
DTSTAMP:20260421T223206
CREATED:20251023T161456Z
LAST-MODIFIED:20251023T161456Z
UID:10006460-1762430400-1762455600@cajuncoast.com
SUMMARY:T-Shirts and Treasures Christmas Open House
DESCRIPTION:You don’t want to miss one of our favorite events of the year — it’s always full of holiday cheer\, great deals & sweet surprises!\nIt’s our STEAL A KISS SALE!\nPull a Hershey Kiss to receive your discount of 10-50% off your ENTRE purchase!
URL:https://cajuncoast.com/event/t-shirts-and-treasures-christmas-open-house/
LOCATION:T-Shirts and Treasure\, 1726 Main St\, Franklin\, LA\, 70538\, United States
CATEGORIES:Annual Events
ATTACH;FMTTYPE=image/jpeg:https://cajuncoast.com/wp-content/uploads/2025/10/Treasures-Cajun-Coast-e1761236082974.jpg
END:VEVENT
BEGIN:VEVENT
DTSTART;TZID=America/Chicago:20251107T170000
DTEND;TZID=America/Chicago:20251109T190000
DTSTAMP:20260421T223206
CREATED:20250404T200518Z
LAST-MODIFIED:20251021T204729Z
UID:10004798-1762534800-1762714800@cajuncoast.com
SUMMARY:11th Annual Berwick Lighthouse Festival
DESCRIPTION:Berwick Lighthouse Festival \n November 7th – 6 pm to 11 pm\nNovember 8th– 9 am to 11 pm\, \nNovember 9th – 9 am to 5 pm. \n11th Annual Berwick Lighthouse Festival\, hosted by Town of Berwick\, promises to be a lively and engaging family-oriented event\, celebrating community spirit along the scenic Atchafalaya River in Berwick. \nBegins at 5 pm on Belleview and Front St. Berwick. \nSome of the Festivities will include: live music\, arts and crafts\, food\,  cookie bake-off\, carnival\, fireworks\, parade\, gumbo cook-off\,  Mass on the River\, cornhole tournament\, night bike ride\, and so much more! \n 
URL:https://cajuncoast.com/event/11th-annual-berwick-lighthouse-festival/
LOCATION:Belllview Front Street\, Bellview Front St.\, Berwick\, LA\, 70380\, United States
CATEGORIES:Annual Events
ATTACH;FMTTYPE=image/jpeg:https://cajuncoast.com/wp-content/uploads/2025/04/Berwick-Lighthouse-Festival-cajun-coast-e1743797106820.jpg
ORGANIZER;CN="Town of Berwick":MAILTO:caskew@townofberwick.org
END:VEVENT
BEGIN:VEVENT
DTSTART;TZID=America/Chicago:20251108T080000
DTEND;TZID=America/Chicago:20251108T170000
DTSTAMP:20260421T223206
CREATED:20250710T213928Z
LAST-MODIFIED:20250710T213928Z
UID:10005029-1762588800-1762621200@cajuncoast.com
SUMMARY:Gumbo Cook-Off
DESCRIPTION:This event is associated with the Berwick Lighthouse Festival.\nGrab your friends\, families\, or co-workers and make a team!\nCategory: Chicken & Sausage Gumbo.\nAwards for 1st\, 2nd\, & people’s choice.\nEntry fee: $25 per team\nSamples: $10 all you can eat\n**All proceeds benefit the St. Mary Council on Aging**\nContact Nick Rogers for more information (985) 397-2248 or nick.rogersjr1980@gmail.com.
URL:https://cajuncoast.com/event/gumbo-cook-off/
LOCATION:Along Atchafalaya River (Berwick)\, Bellview Front St.\, Berwick\, LA\, 70342\, United States
CATEGORIES:Annual Events
ATTACH;FMTTYPE=image/jpeg:https://cajuncoast.com/wp-content/uploads/2025/07/Gumbo-Cook-Off-cajun-coast-e1752183518469.jpg
ORGANIZER;CN="Town of Berwick":MAILTO:caskew@townofberwick.org
END:VEVENT
BEGIN:VEVENT
DTSTART;TZID=America/Chicago:20251108T080000
DTEND;TZID=America/Chicago:20251108T170000
DTSTAMP:20260421T223206
CREATED:20250821T200406Z
LAST-MODIFIED:20250916T212510Z
UID:10006153-1762588800-1762621200@cajuncoast.com
SUMMARY:St. Mary Landmarks Raffle
DESCRIPTION:Hosted by St. Mary Chapter of the Louisiana Landmarks Society.\nWe’re thrilled to announce our annual raffle with three incredible prize packages up for grabs!\nFor just $10 per chance\, you could win big while supporting a great organization.\nRaffle tickets are available at select locations listed below: FIFOLET Candle Makers\, The French Door\, Gather on Main\, Chic and Shabby\, and the Grevemberg House. Your participation will help us preserve and protect our beloved landmarks.\nLet’s make a difference together!
URL:https://cajuncoast.com/event/st-mary-landmarks-raffle/
LOCATION:St. Mary Chapter of The Louisiana Landmarks Society\, 1529 Sterling Road\, Franklin\, LA\, 70538\, United States
CATEGORIES:Annual Events
ATTACH;FMTTYPE=image/jpeg:https://cajuncoast.com/wp-content/uploads/2025/08/Landmark-Raffle-Cajun-Coast-e1755806635116.jpg
ORGANIZER;CN="St. Mary Chapter of the Louisiana Landmarks Society":MAILTO:Info@grevemberghouse.com
END:VEVENT
BEGIN:VEVENT
DTSTART;TZID=America/Chicago:20251108T110000
DTEND;TZID=America/Chicago:20251108T130000
DTSTAMP:20260421T223206
CREATED:20250731T205913Z
LAST-MODIFIED:20250731T205913Z
UID:10005070-1762599600-1762606800@cajuncoast.com
SUMMARY:Cookie Bake-Off
DESCRIPTION:This Bake-Off is in association with the Berwick Lighthouse Festival –\n11 am located downtown on the beautiful Atchafalaya Riverfront!\nThink you’ve got the vest cookie in town?\nBring the sweets for Berwick’s first-ever Cookie Bake-Off!\nAges 7 & up are welcome. Entry fee is $10.\nJudging Categories: Taste\, Texture\, Creativity\, Presentation\, & Classic Execution.\nPrizes awarded for: Best Overall\, Best Youth Entry\, & Most Creative!\nAll proceeds go to the St. Mary Council on Aging.
URL:https://cajuncoast.com/event/cookie-bake-off/
LOCATION:Berwick Riverfront\, Berwick\, Louisiana\, 703342
CATEGORIES:Annual Events
ATTACH;FMTTYPE=image/jpeg:https://cajuncoast.com/wp-content/uploads/2025/07/Cookie-Bake-Off-cajun-coast-e1753995531917.jpg
ORGANIZER;CN="Town of Berwick":MAILTO:caskew@townofberwick.org
END:VEVENT
BEGIN:VEVENT
DTSTART;TZID=America/Chicago:20251108T190000
DTEND;TZID=America/Chicago:20251108T210000
DTSTAMP:20260421T223206
CREATED:20251016T164758Z
LAST-MODIFIED:20251107T194652Z
UID:10006450-1762628400-1762635600@cajuncoast.com
SUMMARY:A Victorian Mummy Unwrapping
DESCRIPTION:Enter the candlelit Teche theater and wind the clock back to 1895\, where the infamous Dr. Eugenia Mooney invites you to behold a most curious spectacle.\nWith a surgeon’s precision and a showman’s flair\, she unveils the mysteries of the ancient dead—layer by crumbling layer.\nHistory\, mystery and secrets of the Egyptian art of mummification await that brave enough to watch the past revealed.\nDirect link for tickets and VIP after show experience available here.\nhttps://square.link/u/Z18x64Sc\nhttps://halfpennydreadfuls.com/…/a-Victorian-mummy…/\nGeneral Admission is $20 at the door and $30 VIP online.
URL:https://cajuncoast.com/event/a-victorian-mummy-unwrapping/
LOCATION:Teche Theatre for Performing Arts\, 501 Main Street\, Franklin\, LA\, 70538\, United States
CATEGORIES:Annual Events
ATTACH;FMTTYPE=image/jpeg:https://cajuncoast.com/wp-content/uploads/2025/10/Victorian-Mummy-Cajun-Coast-e1760633195532.jpg
ORGANIZER;CN="Teche Theatre for the Performing Arts":MAILTO:techetheatreboard@gmail.com
END:VEVENT
BEGIN:VEVENT
DTSTART;TZID=America/Chicago:20251115T100000
DTEND;TZID=America/Chicago:20251116T170000
DTSTAMP:20260421T223206
CREATED:20251114T170419Z
LAST-MODIFIED:20251114T170434Z
UID:10006562-1763200800-1763312400@cajuncoast.com
SUMMARY:15th Annual Centerville Art Show
DESCRIPTION:All local artists are welcome to participate and sell their art! Contact +13375781378.
URL:https://cajuncoast.com/event/15th-annual-centerville-art-show/
LOCATION:B & B Steamboat Inn\, 9106 Hwy 182\, Centerville\, LA\, 70522\, United States
CATEGORIES:Annual Events
ATTACH;FMTTYPE=image/jpeg:https://cajuncoast.com/wp-content/uploads/2025/11/Centerille-Art-Show-cajun-coast-e1763139834538.jpg
END:VEVENT
BEGIN:VEVENT
DTSTART;TZID=America/Chicago:20251121T190000
DTEND;TZID=America/Chicago:20251121T220000
DTSTAMP:20260421T223206
CREATED:20251016T163616Z
LAST-MODIFIED:20251016T163616Z
UID:10006452-1763751600-1763762400@cajuncoast.com
SUMMARY:80's Karaoke
DESCRIPTION:Join us for a totally tubular night of 80s hits\, neon lights\, and karaoke fun!\nCome dressed in your brightest glow gear and sing your heart out to your favorite throwback jams.
URL:https://cajuncoast.com/event/80s-karaoke/
LOCATION:One80 Downtown\, 180 Canton Street\, Berwick\, LA\, 70342\, United States
CATEGORIES:Annual Events
ATTACH;FMTTYPE=image/jpeg:https://cajuncoast.com/wp-content/uploads/2025/10/80s-Karaoke-Cajun-Coast-e1760632545742.jpg
ORGANIZER;CN="One80 Downtown":MAILTO:One80downtown@gmail.com
END:VEVENT
BEGIN:VEVENT
DTSTART;TZID=America/Chicago:20251122T100000
DTEND;TZID=America/Chicago:20251122T170000
DTSTAMP:20260421T223206
CREATED:20250710T201337Z
LAST-MODIFIED:20251021T205742Z
UID:10005028-1763805600-1763830800@cajuncoast.com
SUMMARY:2nd Annual Turkey Bash
DESCRIPTION:Hosted by Mama G’s & Swampland Revival. \nJoin us at Mama G’s Parking lot. This is a fund-raiser for families in Morgan City. \nBring canned goods\, Hams\, or Turkeys for the families in need of food for Thanksgiving Day. \nIn the parking lot there is going to be anything over rice cook-off that includes 1st\, 2nd\, & 3rd place prizes. \nThere will also be live music\, a beer drinking contest\, & fun jumps for the kids. \nContact Kolin Leonard on Facebook or text at 985- 519-4799. \nA $50 fee per cooking team. Participate in this event for a great cause. \nAll money collected from the cook-off team will be put towards buying groceries for families in need in Morgan City.
URL:https://cajuncoast.com/event/2nd-annual-turkey-bash/
LOCATION:Mama G’s Bar & Grill\, 7540 Hwy 182 E\, Morgan City\, LA\, 70380\, United States
CATEGORIES:Annual Events
ATTACH;FMTTYPE=image/jpeg:https://cajuncoast.com/wp-content/uploads/2025/07/2nd-Annual-Turkey-Bash-cajun-coast-e1752178401634.jpg
ORGANIZER;CN="Mama G's Bar &amp%3B Grill":MAILTO:mamaglounge@gmail.com
END:VEVENT
BEGIN:VEVENT
DTSTART;TZID=America/Chicago:20251122T150000
DTEND;TZID=America/Chicago:20251122T200000
DTSTAMP:20260421T223206
CREATED:20251002T163245Z
LAST-MODIFIED:20251021T205330Z
UID:10006250-1763823600-1763841600@cajuncoast.com
SUMMARY:1st Ever Christmas Parade and Bayou Vista Community Center Lighting Ceremony
DESCRIPTION:BVCC is hosting the 1st ever Christmas Parade.\nGet ready to strut your stuff with the parade line-up kicking off at 3PM! Walkers\, Bicycles\, Skates\, Skateboards\, Wagons & Strollers will be FREE to participate.\nSide by Sides & Golf Carts will have a $10 entry fee. This fee will be donated to St. Mary Parish Sheriff’s Office Toys for Tots. \nThe parade rolls out at 3:30 PM and will wind its way back to the Community Center just in time for the grand Lighting Ceremony at 6PM. Santa Claus\, Hot Chocolate\, Cookies\, Hot Dogs\, and Bike give aways will following the Lighting Ceremony. \nAny questions? Contact Chief Price 985-397-6012 or 985-221-6070. \nRegistration Applications can be picked up or dropped off at Bayou Vista Volunteer Fire Department or the BVCC office at 1333 Belleview Street.
URL:https://cajuncoast.com/event/1st-annual-christmas-parade-and-bvcc-lighting-ceremony/
LOCATION:Bayou Vista Civic Center\, 1333 Bellview Street\, Bayou Vista\, LA\, 70380\, United States
CATEGORIES:Annual Events
ATTACH;FMTTYPE=image/jpeg:https://cajuncoast.com/wp-content/uploads/2025/10/BVCC-Christmas-Lighting-Cajun-Coast-e1759422757927.jpg
END:VEVENT
BEGIN:VEVENT
DTSTART;TZID=America/Chicago:20251123T150000
DTEND;TZID=America/Chicago:20251123T170000
DTSTAMP:20260421T223206
CREATED:20251120T224910Z
LAST-MODIFIED:20251120T224910Z
UID:10006624-1763910000-1763917200@cajuncoast.com
SUMMARY:Season’s Beatings 3
DESCRIPTION:Gulf State Wrestling will host a Toys for Tots fundraiser.\nDoors open at 2 p.m.\nFor tickets call 985-518-0433\nMikeb.Ameliarec@yahoo.com
URL:https://cajuncoast.com/event/seasons-beatings-3/
LOCATION:Berwick Civic Center\, 300 Pattie Drive\, Berwick\, LA\, 70342\, United States
CATEGORIES:Annual Events
ATTACH;FMTTYPE=image/jpeg:https://cajuncoast.com/wp-content/uploads/2025/11/Toys-for-tots-Cajun-Coast-e1763678934736.jpg
ORGANIZER;CN="Gulf State Wrestling":MAILTO:gulfstatewrestlingla@gmail.com
END:VEVENT
BEGIN:VEVENT
DTSTART;TZID=America/Chicago:20251123T170000
DTEND;TZID=America/Chicago:20251123T190000
DTSTAMP:20260421T223206
CREATED:20251120T221137Z
LAST-MODIFIED:20251120T221137Z
UID:10006625-1763917200-1763924400@cajuncoast.com
SUMMARY:Patterson Annual Lighting of the Christmas Tree
DESCRIPTION:Kick off the holiday season with this beloved tradition.\nBring your family and friends to enjoy the magic of the Christmas tree lighting in our beautiful community.
URL:https://cajuncoast.com/event/patterson-annual-lighting-of-the-christmas-tree-2/
LOCATION:Morey Park\, Main Street\, Patterson\, 70392\, United States
CATEGORIES:Annual Events
ATTACH;FMTTYPE=image/jpeg:https://cajuncoast.com/wp-content/uploads/2025/11/2024-Morey-Park-Lighting-Cajun-Coast-e1763675590326.jpg
END:VEVENT
BEGIN:VEVENT
DTSTART;TZID=America/Chicago:20251124T160000
DTEND;TZID=America/Chicago:20251124T200000
DTSTAMP:20260421T223206
CREATED:20250905T162112Z
LAST-MODIFIED:20251021T205500Z
UID:10006184-1764000000-1764014400@cajuncoast.com
SUMMARY:13th Annual Moonlight Monday
DESCRIPTION:Hosted by Morgan City Main Street and Wildflower Boutique. \nEnjoy live music\, delicious food\, & local vendors while exploring festive storefronts filled with holiday cheer. \nBring the whole family to kick off the Christmas season in a magical evening of community fun while you check off your Christmas list! \nThe highlight of the night will be the Lighting of the Dock Christmas Tree\, a magical moment that kicks off the holiday season in true Morgan City style!
URL:https://cajuncoast.com/event/13th-annual-moonlight-monday/
LOCATION:Downtown Morgan City\, LA\, 70380\, United States
CATEGORIES:Annual Events
ATTACH;FMTTYPE=image/jpeg:https://cajuncoast.com/wp-content/uploads/2025/09/13th-Annual-Moonlight-Monday-cajun-coast-e1757089259675.jpg
END:VEVENT
BEGIN:VEVENT
DTSTART;TZID=America/Chicago:20251129T110000
DTEND;TZID=America/Chicago:20251129T160000
DTSTAMP:20260421T223206
CREATED:20250703T183802Z
LAST-MODIFIED:20251021T210111Z
UID:10005011-1764414000-1764432000@cajuncoast.com
SUMMARY:7th Annual Mistletoe and Moss Market
DESCRIPTION:Hosted by St. Mary Chamber of Commerce. \nHuge holiday market with craft vendors\, makers\, food products\, and more!
URL:https://cajuncoast.com/event/7th-annual-mistletoe-moss-market/
LOCATION:Under the Bridge – Morgan City\, Second Street & Federal Avenue\, Morgan City\, LA\, 70380\, United States
CATEGORIES:Annual Events
ATTACH;FMTTYPE=image/jpeg:https://cajuncoast.com/wp-content/uploads/2025/07/7th-Annual-Mistletoe-Mostt-Holiday-Market-cajun-coast-e1751567861324.jpg
ORGANIZER;CN="St. Mary Chamber of Commerce":MAILTO:infor@stmarychamber.com
END:VEVENT
END:VCALENDAR