BEGIN:VCALENDAR
VERSION:2.0
PRODID:-//cajuncoast.com - ECPv6.15.20//NONSGML v1.0//EN
CALSCALE:GREGORIAN
METHOD:PUBLISH
X-WR-CALNAME:cajuncoast.com
X-ORIGINAL-URL:https://cajuncoast.com
X-WR-CALDESC:Events for cajuncoast.com
REFRESH-INTERVAL;VALUE=DURATION:PT1H
X-Robots-Tag:noindex
X-PUBLISHED-TTL:PT1H
BEGIN:VTIMEZONE
TZID:America/Chicago
BEGIN:DAYLIGHT
TZOFFSETFROM:-0600
TZOFFSETTO:-0500
TZNAME:CDT
DTSTART:20250309T080000
END:DAYLIGHT
BEGIN:STANDARD
TZOFFSETFROM:-0500
TZOFFSETTO:-0600
TZNAME:CST
DTSTART:20251102T070000
END:STANDARD
BEGIN:DAYLIGHT
TZOFFSETFROM:-0600
TZOFFSETTO:-0500
TZNAME:CDT
DTSTART:20260308T080000
END:DAYLIGHT
BEGIN:STANDARD
TZOFFSETFROM:-0500
TZOFFSETTO:-0600
TZNAME:CST
DTSTART:20261101T070000
END:STANDARD
BEGIN:DAYLIGHT
TZOFFSETFROM:-0600
TZOFFSETTO:-0500
TZNAME:CDT
DTSTART:20270314T080000
END:DAYLIGHT
BEGIN:STANDARD
TZOFFSETFROM:-0500
TZOFFSETTO:-0600
TZNAME:CST
DTSTART:20271107T070000
END:STANDARD
END:VTIMEZONE
BEGIN:VEVENT
DTSTART;TZID=America/Chicago:20260501T180000
DTEND;TZID=America/Chicago:20260502T010000
DTSTAMP:20260419T235514
CREATED:20260109T204621Z
LAST-MODIFIED:20260218T205016Z
UID:10006718-1777658400-1777683600@cajuncoast.com
SUMMARY:4th Annual Swamp Pop Festival
DESCRIPTION:Presented by Mama G’s Bar & Grill.\nThey can’t wait to see you all for this great event of community fun.\nFeaturing performances on the Pulus Signs Sound Stage\,\nshowcasing a mix of Swamp Pop favorites\, regional artists\, &\ncrowd-pleasing local bands. Including craft vendors\, food vendors\, & a live auction benefiting NICS. \nMusic Lineup:\nMay 1st –\nCliff Hillebran Band; 6 pm to 7:30 pm\nJusin Cornett Band; 8 pm to 9:45 pm\nKerry Thibodaux Band; 10 pm to 1 am\nMay 2nd –\nLandon Romero & 2nd Generation; 11 am to 12 pm\nCaleb Lapeyrouse & The Drivers; 12:30 pm to 2:30 pm\nAlex Theriot (inside Stage); 1:30 pm to 4:30 pm\nSwampland Revival; 3 pm to 5 pm\nGary T (Inside Stage); 4:30 pm to 6:30 pm\nRyan Foret & Foret Tradition; 5:30 pm to 8:30 pm.
URL:https://cajuncoast.com/event/4th-annual-swamp-pop-festival/2026-05-01/
LOCATION:Mama G’s Bar & Grill\, 7540 Hwy 182 E\, Morgan City\, LA\, 70380\, United States
CATEGORIES:Annual Events,Live Music
ATTACH;FMTTYPE=image/jpeg:https://cajuncoast.com/wp-content/uploads/2026/01/4th-Annual-Swamp-Pop-Festival-cajun-coast-e1767991550383.jpg
ORGANIZER;CN="Mama G's Bar &amp%3B Grill":MAILTO:mamaglounge@gmail.com
END:VEVENT
BEGIN:VEVENT
DTSTART;TZID=America/Chicago:20260502T110000
DTEND;TZID=America/Chicago:20260502T203000
DTSTAMP:20260419T235514
CREATED:20260109T204621Z
LAST-MODIFIED:20260218T205016Z
UID:10006719-1777719600-1777753800@cajuncoast.com
SUMMARY:4th Annual Swamp Pop Festival
DESCRIPTION:Presented by Mama G’s Bar & Grill.\nThey can’t wait to see you all for this great event of community fun.\nFeaturing performances on the Pulus Signs Sound Stage\,\nshowcasing a mix of Swamp Pop favorites\, regional artists\, &\ncrowd-pleasing local bands. Including craft vendors\, food vendors\, & a live auction benefiting NICS. \nMusic Lineup:\nMay 1st –\nCliff Hillebran Band; 6 pm to 7:30 pm\nJusin Cornett Band; 8 pm to 9:45 pm\nKerry Thibodaux Band; 10 pm to 1 am\nMay 2nd –\nLandon Romero & 2nd Generation; 11 am to 12 pm\nCaleb Lapeyrouse & The Drivers; 12:30 pm to 2:30 pm\nAlex Theriot (inside Stage); 1:30 pm to 4:30 pm\nSwampland Revival; 3 pm to 5 pm\nGary T (Inside Stage); 4:30 pm to 6:30 pm\nRyan Foret & Foret Tradition; 5:30 pm to 8:30 pm.
URL:https://cajuncoast.com/event/4th-annual-swamp-pop-festival/2026-05-02/
LOCATION:Mama G’s Bar & Grill\, 7540 Hwy 182 E\, Morgan City\, LA\, 70380\, United States
CATEGORIES:Annual Events,Live Music
ATTACH;FMTTYPE=image/jpeg:https://cajuncoast.com/wp-content/uploads/2026/01/4th-Annual-Swamp-Pop-Festival-cajun-coast-e1767991550383.jpg
ORGANIZER;CN="Mama G's Bar &amp%3B Grill":MAILTO:mamaglounge@gmail.com
END:VEVENT
BEGIN:VEVENT
DTSTART;TZID=America/Chicago:20260516T080000
DTEND;TZID=America/Chicago:20260516T170000
DTSTAMP:20260419T235514
CREATED:20260225T165922Z
LAST-MODIFIED:20260309T203734Z
UID:10006983-1778918400-1778950800@cajuncoast.com
SUMMARY:Kiwanis Club of East St Mary’s Annual Kids Fishing Rodeo
DESCRIPTION:Free fishing contest for children ages 3 – 15 years old.  It will be held at Lake End Park\, Morgan City. \nA parent or guardian must accompany each child during the entire event. \nFree hot dogs and refreshments for participants.  Trophies and door prizes will be awarded.
URL:https://cajuncoast.com/event/kiwanis-club-of-east-st-marys-annual-kids-fishing-rodeo/
LOCATION:Lake End Park\, 2300 LA Hwy 70\, Morgan City\, LA\, 70380
CATEGORIES:Annual Events
ATTACH;FMTTYPE=image/jpeg:https://cajuncoast.com/wp-content/uploads/2026/02/Kiwanis-Club-of-East-St-Marys-Annual-Kids-Fishing-Rodeo-Cahun-Coast-Visitors-e1773088643833.jpg
ORGANIZER;CN="Kiwanis Club of East St. Mary":MAILTO:debbies@kcsrcpas.com
END:VEVENT
END:VCALENDAR