BEGIN:VCALENDAR
VERSION:2.0
PRODID:-//cajuncoast.com - ECPv6.15.20//NONSGML v1.0//EN
CALSCALE:GREGORIAN
METHOD:PUBLISH
X-ORIGINAL-URL:https://cajuncoast.com
X-WR-CALDESC:Events for cajuncoast.com
REFRESH-INTERVAL;VALUE=DURATION:PT1H
X-Robots-Tag:noindex
X-PUBLISHED-TTL:PT1H
BEGIN:VTIMEZONE
TZID:America/Chicago
BEGIN:DAYLIGHT
TZOFFSETFROM:-0600
TZOFFSETTO:-0500
TZNAME:CDT
DTSTART:20250309T080000
END:DAYLIGHT
BEGIN:STANDARD
TZOFFSETFROM:-0500
TZOFFSETTO:-0600
TZNAME:CST
DTSTART:20251102T070000
END:STANDARD
BEGIN:DAYLIGHT
TZOFFSETFROM:-0600
TZOFFSETTO:-0500
TZNAME:CDT
DTSTART:20260308T080000
END:DAYLIGHT
BEGIN:STANDARD
TZOFFSETFROM:-0500
TZOFFSETTO:-0600
TZNAME:CST
DTSTART:20261101T070000
END:STANDARD
BEGIN:DAYLIGHT
TZOFFSETFROM:-0600
TZOFFSETTO:-0500
TZNAME:CDT
DTSTART:20270314T080000
END:DAYLIGHT
BEGIN:STANDARD
TZOFFSETFROM:-0500
TZOFFSETTO:-0600
TZNAME:CST
DTSTART:20271107T070000
END:STANDARD
END:VTIMEZONE
BEGIN:VEVENT
DTSTART;TZID=America/Chicago:20260606T150000
DTEND;TZID=America/Chicago:20260606T170000
DTSTAMP:20260419T235831
CREATED:20250410T192103Z
LAST-MODIFIED:20250410T192103Z
UID:10004819-1780758000-1780765200@cajuncoast.com
SUMMARY:6th Annual Recital
DESCRIPTION:6th Annual Recital\, hosted by Morgan City Dance Theater.\nIt begins at 3 pm at Morgan City Municipal Auditorium.\nStay tuned for more information!
URL:https://cajuncoast.com/event/6th-annual-recital/
LOCATION:Morgan City Municipal Auditorium\, 728 Myrtle St.\, Morgan City\, LA\, 70380\, United States
CATEGORIES:Annual Events
ATTACH;FMTTYPE=image/jpeg:https://cajuncoast.com/wp-content/uploads/2025/04/Morgan-City-Dance-Theatre-cajun-coast-e1744312814778.jpg
ORGANIZER;CN="Morgan City Dance Theater":MAILTO:Info@morgancitydancetheater.com
END:VEVENT
BEGIN:VEVENT
DTSTART;TZID=America/Chicago:20260619T080000
DTEND;TZID=America/Chicago:20260621T170000
DTSTAMP:20260419T235831
CREATED:20260109T194809Z
LAST-MODIFIED:20260409T170528Z
UID:10006717-1781856000-1782061200@cajuncoast.com
SUMMARY:6th Annual Soul Food Festival
DESCRIPTION:Hosted by the 100 Black Men of St. Mary Parish.\nAt Parc Sur La Tech in Franklin for a weekend of\nunforgettable music\, delicious food\, community fun\, & more!\nThis family-friendly event will feature a variety of activities to enjoy\,\nincluding live performances\, a health village\, food vendors\, races\, & special exhibitions.\nYou can purchase your tickets & get more information by visiting soulfoodfest.net. \nThe music lineup is as follows:\nFriday June 19th \n5:00 pm – 10 pm DJ Unpredictable\n8:00 pm – 9 pm Hotboy Ronald and the Next Level Band \nSaturday June 20th \n5:00 pm – 10:30 pm DJ Unpredictable\n7:00 pm -7:30 pm Lil Runt\n7:45 pm – 8:45 pm Andrew Jackson and Band\n9:00 pm – 9:50 pm Sweet Southern Heat Band \n 
URL:https://cajuncoast.com/event/soulfoodfest2026/
LOCATION:Parc Sur La Teche\, Parc Sur La Teche\, Franklin\, LA\, 70538\, United States
CATEGORIES:Annual Events,Live Music
ATTACH;FMTTYPE=image/jpeg:https://cajuncoast.com/wp-content/uploads/2026/01/Soulfood-Festival-cajun-coast.jpg
ORGANIZER;CN="100 Black Men of St. Mary Parish Soul Food Festival":MAILTO:J_ina@ymail.com
END:VEVENT
BEGIN:VEVENT
DTSTART;TZID=America/Chicago:20260627T090000
DTEND;TZID=America/Chicago:20260627T130000
DTSTAMP:20260419T235831
CREATED:20260218T210408Z
LAST-MODIFIED:20260218T210408Z
UID:10006946-1782550800-1782565200@cajuncoast.com
SUMMARY:2nd Annual Market & Family Fun Day
DESCRIPTION:Hosted by BVCC.\nSo\, mark your calendar to bring the kids out while shopping at their market.\nTo be a vendor\, please contact the office at 985-395-6552.
URL:https://cajuncoast.com/event/2nd-annual-market-family-fun-day/
LOCATION:Bayou Vista Community Center\, 1333 Belleview Drive\, Bayou Vista\, LA\, 70380\, United States
CATEGORIES:Annual Events
ATTACH;FMTTYPE=image/jpeg:https://cajuncoast.com/wp-content/uploads/2026/02/BVVC-cajun-coast-e1771448637107.jpg
ORGANIZER;CN="Bayou Vista Community Center":MAILTO:No email
END:VEVENT
BEGIN:VEVENT
DTSTART;TZID=America/Chicago:20260627T120000
DTEND;TZID=America/Chicago:20260627T150000
DTSTAMP:20260419T235831
CREATED:20260223T175334Z
LAST-MODIFIED:20260223T175334Z
UID:10006970-1782561600-1782572400@cajuncoast.com
SUMMARY:3rd Annual Berwick lighthouse Festival Pageant
DESCRIPTION:Hosted by Berwick Lighthouse Festival Pageant & Katherine Broussard.\nThe crown awaits! Who will be crowned as the new Berwick Lighthouse Festival Queens?\nChildren’s pageant will be at Berwick Civic Center\, 300 Pattie Dr\, at 3 pm & registration at 5 pm.\nQueen’s Pageant will be with Mrs. Deb at 6 pm. Meet at the Berwick Civic Center\, 300 Pattie Dr. Forms are ready.\nPlease leave your email below the Berwick Lighthouse Festival pageant Facebook page event for more information.\nFor further information\, please contact Berwick Lighthouse Festival Pageant at 337-578-3203 or email at berwicklighthousepageant@gmail.com.
URL:https://cajuncoast.com/event/3rd-annual-berwick-lighthouse-festival-pageant/
LOCATION:Berwick Civic Center\, 300 Pattie Drive\, Berwick\, LA\, 70342\, United States
CATEGORIES:Annual Events
ATTACH;FMTTYPE=image/jpeg:https://cajuncoast.com/wp-content/uploads/2026/02/Berwick-LIghthouse-Festival-cajun-coast-e1771869204653.jpg
ORGANIZER;CN="Berwick Lighthouse Festival Pageant":MAILTO:berwicklighthousepageant@gmail.com
END:VEVENT
END:VCALENDAR