BEGIN:VCALENDAR
VERSION:2.0
PRODID:-//cajuncoast.com - ECPv6.15.20//NONSGML v1.0//EN
CALSCALE:GREGORIAN
METHOD:PUBLISH
X-ORIGINAL-URL:https://cajuncoast.com
X-WR-CALDESC:Events for cajuncoast.com
REFRESH-INTERVAL;VALUE=DURATION:PT1H
X-Robots-Tag:noindex
X-PUBLISHED-TTL:PT1H
BEGIN:VTIMEZONE
TZID:America/Chicago
BEGIN:DAYLIGHT
TZOFFSETFROM:-0600
TZOFFSETTO:-0500
TZNAME:CDT
DTSTART:20230312T080000
END:DAYLIGHT
BEGIN:STANDARD
TZOFFSETFROM:-0500
TZOFFSETTO:-0600
TZNAME:CST
DTSTART:20231105T070000
END:STANDARD
BEGIN:DAYLIGHT
TZOFFSETFROM:-0600
TZOFFSETTO:-0500
TZNAME:CDT
DTSTART:20240310T080000
END:DAYLIGHT
BEGIN:STANDARD
TZOFFSETFROM:-0500
TZOFFSETTO:-0600
TZNAME:CST
DTSTART:20241103T070000
END:STANDARD
BEGIN:DAYLIGHT
TZOFFSETFROM:-0600
TZOFFSETTO:-0500
TZNAME:CDT
DTSTART:20250309T080000
END:DAYLIGHT
BEGIN:STANDARD
TZOFFSETFROM:-0500
TZOFFSETTO:-0600
TZNAME:CST
DTSTART:20251102T070000
END:STANDARD
END:VTIMEZONE
BEGIN:VEVENT
DTSTART;TZID=America/Chicago:20241101T170000
DTEND;TZID=America/Chicago:20241103T200000
DTSTAMP:20260423T130038
CREATED:20240229T154804Z
LAST-MODIFIED:20241022T191143Z
UID:10001355-1730480400-1730664000@cajuncoast.com
SUMMARY:Berwick Lighthouse Festival
DESCRIPTION:Berwick Lighthouse Festival \nLive Music: \nFriday\, November 1\, 2024\n6:30 to 8:30 pm – Spank the Monkey\n9 to 11 pm – Tommy G & Stormy Weather \nSaturday\, November 2\, 2024\n1:30 to 3:30 pm – Swamp Land Revival\n4 to 6 pm – Nik L Beer\n6:30 to 8:30 pm – Foret Tradition\n9:30 to 11:30 pm\, – Jamie Bergeron \nSunday\, November 3\, 2024\n2 to 4 pm – Kaleb Olivier\n4:30 to 6:30 pm – Chubby Carrier & the Bayou Swamp Band \nGreat Food\, Bike Ride\, Carnival\,  Crafts\, Cook-off\, VIP section\, Parade\, Pageant\, Fireworks\, and so much more!! \nAll along the beautiful Atchafalaya River at Southwest Reef Lighthouse\,3246 Bellelview Front Street\, Berwick
URL:https://cajuncoast.com/event/berwick-lighthouse-festival-2/
LOCATION:Southwest Reef Lighthouse\, 3246 Bellview Front St.\, Berwick\, LA\, 70342\, United States
CATEGORIES:Annual Events,Live Music
ATTACH;FMTTYPE=image/jpeg:https://cajuncoast.com/wp-content/uploads/2024/02/Lighthouse-music-lineup-e1727281234263.jpg
ORGANIZER;CN="Town of Berwick":MAILTO:caskew@townofberwick.org
END:VEVENT
END:VCALENDAR