BEGIN:VCALENDAR
VERSION:2.0
PRODID:-//cajuncoast.com - ECPv6.15.20//NONSGML v1.0//EN
CALSCALE:GREGORIAN
METHOD:PUBLISH
X-ORIGINAL-URL:https://cajuncoast.com
X-WR-CALDESC:Events for cajuncoast.com
REFRESH-INTERVAL;VALUE=DURATION:PT1H
X-Robots-Tag:noindex
X-PUBLISHED-TTL:PT1H
BEGIN:VTIMEZONE
TZID:America/Chicago
BEGIN:DAYLIGHT
TZOFFSETFROM:-0600
TZOFFSETTO:-0500
TZNAME:CDT
DTSTART:20240310T080000
END:DAYLIGHT
BEGIN:STANDARD
TZOFFSETFROM:-0500
TZOFFSETTO:-0600
TZNAME:CST
DTSTART:20241103T070000
END:STANDARD
BEGIN:DAYLIGHT
TZOFFSETFROM:-0600
TZOFFSETTO:-0500
TZNAME:CDT
DTSTART:20250309T080000
END:DAYLIGHT
BEGIN:STANDARD
TZOFFSETFROM:-0500
TZOFFSETTO:-0600
TZNAME:CST
DTSTART:20251102T070000
END:STANDARD
BEGIN:DAYLIGHT
TZOFFSETFROM:-0600
TZOFFSETTO:-0500
TZNAME:CDT
DTSTART:20260308T080000
END:DAYLIGHT
BEGIN:STANDARD
TZOFFSETFROM:-0500
TZOFFSETTO:-0600
TZNAME:CST
DTSTART:20261101T070000
END:STANDARD
END:VTIMEZONE
BEGIN:VEVENT
DTSTART;TZID=America/Chicago:20250705T080000
DTEND;TZID=America/Chicago:20250705T220000
DTSTAMP:20260419T223857
CREATED:20250623T151433Z
LAST-MODIFIED:20250623T151433Z
UID:10005001-1751702400-1751752800@cajuncoast.com
SUMMARY:2nd Annual Summer Party
DESCRIPTION:Hosted by Daiquiris & Company – Morgan City.\nJoin them for this year’s summer party themed Hawaiian Luau!\nThey will have free food\, specialty drinks\, live music with JJ Starbuck\, and raffles!
URL:https://cajuncoast.com/event/2nd-annual-summer-party/
LOCATION:Daiquiris & Company – Morgan City\, 1550 Hwy 90\, Morgan City\, LA\, 70380\, United States
CATEGORIES:Annual Events
ATTACH;FMTTYPE=image/jpeg:https://cajuncoast.com/wp-content/uploads/2025/06/Daiquiris-Company-Morgan-City-cajun-coast-e1750691665839.jpg
ORGANIZER;CN="Daiquiris &amp%3B Company - Morgan City":MAILTO:info@daiquirisandcompany.com
END:VEVENT
END:VCALENDAR