BEGIN:VCALENDAR
VERSION:2.0
PRODID:-//cajuncoast.com - ECPv6.15.20//NONSGML v1.0//EN
CALSCALE:GREGORIAN
METHOD:PUBLISH
X-ORIGINAL-URL:https://cajuncoast.com
X-WR-CALDESC:Events for cajuncoast.com
REFRESH-INTERVAL;VALUE=DURATION:PT1H
X-Robots-Tag:noindex
X-PUBLISHED-TTL:PT1H
BEGIN:VTIMEZONE
TZID:America/Chicago
BEGIN:DAYLIGHT
TZOFFSETFROM:-0600
TZOFFSETTO:-0500
TZNAME:CDT
DTSTART:20240310T080000
END:DAYLIGHT
BEGIN:STANDARD
TZOFFSETFROM:-0500
TZOFFSETTO:-0600
TZNAME:CST
DTSTART:20241103T070000
END:STANDARD
BEGIN:DAYLIGHT
TZOFFSETFROM:-0600
TZOFFSETTO:-0500
TZNAME:CDT
DTSTART:20250309T080000
END:DAYLIGHT
BEGIN:STANDARD
TZOFFSETFROM:-0500
TZOFFSETTO:-0600
TZNAME:CST
DTSTART:20251102T070000
END:STANDARD
BEGIN:DAYLIGHT
TZOFFSETFROM:-0600
TZOFFSETTO:-0500
TZNAME:CDT
DTSTART:20260308T080000
END:DAYLIGHT
BEGIN:STANDARD
TZOFFSETFROM:-0500
TZOFFSETTO:-0600
TZNAME:CST
DTSTART:20261101T070000
END:STANDARD
END:VTIMEZONE
BEGIN:VEVENT
DTSTART;TZID=America/Chicago:20250827T113000
DTEND;TZID=America/Chicago:20250827T123000
DTSTAMP:20260424T121110
CREATED:20250829T192536Z
LAST-MODIFIED:20250829T192536Z
UID:10006173-1756294200-1756297800@cajuncoast.com
SUMMARY:Bayou Bend LUNCH & LEARN Presents From gumbo to Go: Functional Fitness for Real Life
DESCRIPTION:Join us on Wednesday\, September 24th from 11:30 AM – 12:30 PM for September’s Lunch & Learn series in the Conference Center inside the Wellness Center at Bayou Bend.\nJoin Nate Leblanc\, corrective exercise specialist\, as he discusses practical\, real-world strategies for everyday fitness and injury prevention while enjoying delicious gumbo generously provided by Raintree Market.\nNate\, who is also a firefighter and functional movement consultant\, brings years of front-line experience and knowledge to this month’s presentation. Attendees can expect to learn:\n–How functional movement can boost daily energy\n–Simple strategies to prevent aches\, pains\, and injuries\n–Practical tips to move better at work\, at home\, and in your community\n–Everyday strength training that translates into real life \nFree to attend but registration is required to ensure enough seating and lunches.
URL:https://cajuncoast.com/event/bayou-bend-lunch-learn-presents-from-gumbo-to-go-functional-fitness-for-real-life/
LOCATION:Bayou Bend Fitness Center\, 1029 Northwest Blvd.\, Franklin\, LA\, 70538\, United States
CATEGORIES:Annual Events
ATTACH;FMTTYPE=image/jpeg:https://cajuncoast.com/wp-content/uploads/2025/08/Bayou-Bend-Gumbo-Cajun-Coast-e1756495525831.jpg
ORGANIZER;CN="Bayou Bend Health System":MAILTO:No Email available
END:VEVENT
END:VCALENDAR