BEGIN:VCALENDAR
VERSION:2.0
PRODID:-//cajuncoast.com - ECPv6.15.20//NONSGML v1.0//EN
CALSCALE:GREGORIAN
METHOD:PUBLISH
X-WR-CALNAME:cajuncoast.com
X-ORIGINAL-URL:https://cajuncoast.com
X-WR-CALDESC:Events for cajuncoast.com
REFRESH-INTERVAL;VALUE=DURATION:PT1H
X-Robots-Tag:noindex
X-PUBLISHED-TTL:PT1H
BEGIN:VTIMEZONE
TZID:America/Chicago
BEGIN:DAYLIGHT
TZOFFSETFROM:-0600
TZOFFSETTO:-0500
TZNAME:CDT
DTSTART:20240310T080000
END:DAYLIGHT
BEGIN:STANDARD
TZOFFSETFROM:-0500
TZOFFSETTO:-0600
TZNAME:CST
DTSTART:20241103T070000
END:STANDARD
BEGIN:DAYLIGHT
TZOFFSETFROM:-0600
TZOFFSETTO:-0500
TZNAME:CDT
DTSTART:20250309T080000
END:DAYLIGHT
BEGIN:STANDARD
TZOFFSETFROM:-0500
TZOFFSETTO:-0600
TZNAME:CST
DTSTART:20251102T070000
END:STANDARD
BEGIN:DAYLIGHT
TZOFFSETFROM:-0600
TZOFFSETTO:-0500
TZNAME:CDT
DTSTART:20260308T080000
END:DAYLIGHT
BEGIN:STANDARD
TZOFFSETFROM:-0500
TZOFFSETTO:-0600
TZNAME:CST
DTSTART:20261101T070000
END:STANDARD
END:VTIMEZONE
BEGIN:VEVENT
DTSTART;TZID=America/Chicago:20251031T173000
DTEND;TZID=America/Chicago:20251031T190000
DTSTAMP:20260419T152042
CREATED:20250915T192525Z
LAST-MODIFIED:20250915T192525Z
UID:10006220-1761931800-1761937200@cajuncoast.com
SUMMARY:BVCC Fall Carnival
DESCRIPTION:Fall Carnival – Games\, Candy\, and lots of Fun\nOct. 31\, 2025\n5:30pm-7pm
URL:https://cajuncoast.com/event/bvcc-fall-carnival/
LOCATION:Bayou Vista Community Center\, 1333 Belleview Drive\, Bayou Vista\, LA\, 70380\, United States
CATEGORIES:Annual Events
ATTACH;FMTTYPE=image/jpeg:https://cajuncoast.com/wp-content/uploads/2025/09/Fall-Carnival-2025-e1757964311290.jpg
ORGANIZER;CN="Bayou Vista Community Center":MAILTO:No email
END:VEVENT
BEGIN:VEVENT
DTSTART;TZID=America/Chicago:20251031T180000
DTEND;TZID=America/Chicago:20251031T210000
DTSTAMP:20260419T152042
CREATED:20251002T163637Z
LAST-MODIFIED:20251002T163637Z
UID:10006249-1761933600-1761944400@cajuncoast.com
SUMMARY:Sycamore Street Graveyard Trick-or-Treat
DESCRIPTION:We will have our spooky walk-through graveyard with our classic characters\, as well as fresh new faces\, this year! Make it past them and you will be rewarded with your candy! We are also happy to announce that our photo booth is back this year\, so don’t forget to grab your picture! We will also be giving out prizes for the costumes that we find are top-notch\, so come dressed to impress! The first hour of our haunt will be reserved for smaller children and the elderly\, so the scares will be minimal. If you wish to get the full scare experience\, please come during the final two hours of the event.\nWe just have a few rules:\n1. We ask that you stay along the pathway that we have provided for you.\n2. Do not push or shove each other. Everyone deserves the chance to go through at his or her own pace.\n3. Please do not crowd the entrances\, exits\, or the observation area.\n4. Follow the barricade lines set up\, and do not cut.\n5. If you are recording\, please turn off external video lighting.\n6. Do not touch our actors.\nWe will have workers enforcing these rules\, and we ask that you please follow their directions. If you do not follow these rules\, we will not allow you into the graveyard. Let’s work together to keep everybody safe!
URL:https://cajuncoast.com/event/sycamore-street-graveyard-trick-or-treat/
LOCATION:Sycamore Street Graveyard\, 904 Sycamore Street\, Morgan City\, LA\, 70380\, United States
CATEGORIES:Annual Events
ATTACH;FMTTYPE=image/jpeg:https://cajuncoast.com/wp-content/uploads/2025/10/Sycamore-Street-Graveyard-Cajun-Coast-e1759422870670.jpg
END:VEVENT
END:VCALENDAR