BEGIN:VCALENDAR
VERSION:2.0
PRODID:-//cajuncoast.com - ECPv6.15.20//NONSGML v1.0//EN
CALSCALE:GREGORIAN
METHOD:PUBLISH
X-ORIGINAL-URL:https://cajuncoast.com
X-WR-CALDESC:Events for cajuncoast.com
REFRESH-INTERVAL;VALUE=DURATION:PT1H
X-Robots-Tag:noindex
X-PUBLISHED-TTL:PT1H
BEGIN:VTIMEZONE
TZID:America/Chicago
BEGIN:DAYLIGHT
TZOFFSETFROM:-0600
TZOFFSETTO:-0500
TZNAME:CDT
DTSTART:20240310T080000
END:DAYLIGHT
BEGIN:STANDARD
TZOFFSETFROM:-0500
TZOFFSETTO:-0600
TZNAME:CST
DTSTART:20241103T070000
END:STANDARD
BEGIN:DAYLIGHT
TZOFFSETFROM:-0600
TZOFFSETTO:-0500
TZNAME:CDT
DTSTART:20250309T080000
END:DAYLIGHT
BEGIN:STANDARD
TZOFFSETFROM:-0500
TZOFFSETTO:-0600
TZNAME:CST
DTSTART:20251102T070000
END:STANDARD
BEGIN:DAYLIGHT
TZOFFSETFROM:-0600
TZOFFSETTO:-0500
TZNAME:CDT
DTSTART:20260308T080000
END:DAYLIGHT
BEGIN:STANDARD
TZOFFSETFROM:-0500
TZOFFSETTO:-0600
TZNAME:CST
DTSTART:20261101T070000
END:STANDARD
END:VTIMEZONE
BEGIN:VEVENT
DTSTART;TZID=America/Chicago:20251206T100000
DTEND;TZID=America/Chicago:20251206T140000
DTSTAMP:20260420T013507
CREATED:20251017T204545Z
LAST-MODIFIED:20251205T174151Z
UID:10006459-1765015200-1765029600@cajuncoast.com
SUMMARY:Mingle & Jingle
DESCRIPTION:Hosted by The Franklin Merchants’ Association.\nGet ready to kick off the holiday season in the heart of downtown Franklin from 10 am to 2 pm.\nJoin us for a day full of festive fun! There will be facepainting\, crafts with the Library\, DJ Santa & His Elf\,\nGiant Snow Globe & Snow Time\, Christmas Cookie Scavenger Hunt\, Pictures with Santa\,\nmeet & greet with Elsa\, Anna\, & Olaf\, Shopping & Activities in the shops\, Bayou to Main Vendors\, and\n“Ruck Around the Christmas Tree” is fun! Bring your friends\, family\, and holiday cheer for a magical day\nof shopping\, music\, snow\, and Christmas spirit right on Main Street in Franklin!
URL:https://cajuncoast.com/event/mingle-jingle-2/
LOCATION:Franklin Main Street\, Hwy 182\, Franklin\, LA\, 70539\, United States
CATEGORIES:Annual Events
ATTACH;FMTTYPE=image/jpeg:https://cajuncoast.com/wp-content/uploads/2025/10/Mingle-Jingle-cajun-coast-e1760733922192.jpg
END:VEVENT
BEGIN:VEVENT
DTSTART;TZID=America/Chicago:20251206T110000
DTEND;TZID=America/Chicago:20251206T140000
DTSTAMP:20260420T013507
CREATED:20250822T185112Z
LAST-MODIFIED:20251205T163211Z
UID:10006164-1765018800-1765029600@cajuncoast.com
SUMMARY:4th Annual Winter Festival
DESCRIPTION:Hosted by Lighthouse Community Church.\nGet ready for a magical day of holiday fun at the Berwick Civic Center!\nThey’re bringing the community together for a free event filled with music\, delicious food\,\nexciting games\, creative crafts\, visits with Santa\, & much more!\nBring your friends\, family\, & holiday spirit & let’s make memories together at this festive celebration!
URL:https://cajuncoast.com/event/4th-annual-winter-festival/
LOCATION:Berwick Civic Center\, 300 Pattie Drive\, Berwick\, LA\, 70342\, United States
CATEGORIES:Annual Events
ATTACH;FMTTYPE=image/png:https://cajuncoast.com/wp-content/uploads/2025/08/Winter-Fest-FB-Event-Cover-Photo-2025-1-e1764952317504.png
ORGANIZER;CN="Lighthouse Community church":MAILTO:lccberwickmedia@gmail.com
END:VEVENT
BEGIN:VEVENT
DTSTART;TZID=America/Chicago:20251206T160000
DTEND;TZID=America/Chicago:20251206T200000
DTSTAMP:20260420T013507
CREATED:20250717T150439Z
LAST-MODIFIED:20250717T150439Z
UID:10005040-1765036800-1765051200@cajuncoast.com
SUMMARY:8th Annual Miracle on First Street
DESCRIPTION:Hosted by The Old Building.\nMark your calendars and join them for a magical evening filled with Christmas cheer\,\ntwinkling lights\, live music\, and the kind of small-town Christmas spirit that warms the heart.\nThis beloved tradition is their way of saying Thank You to the wonderful community!\nCome make memories with them where Christmas magic lives on First Street.
URL:https://cajuncoast.com/event/8th-annual-miracle-on-first-street/
LOCATION:The Old Building\, 3190 First Street\, Berwick\, Louisiana\, 70342
CATEGORIES:Annual Events,Live Music
ATTACH;FMTTYPE=image/jpeg:https://cajuncoast.com/wp-content/uploads/2025/07/Miracle-on-First-Street-cajun-coast-e1752764666110.jpg
ORGANIZER;CN="The Old Building":MAILTO:Theoldbuildingvenue@gmail.com
END:VEVENT
END:VCALENDAR