BEGIN:VCALENDAR
VERSION:2.0
PRODID:-//cajuncoast.com - ECPv6.15.20//NONSGML v1.0//EN
CALSCALE:GREGORIAN
METHOD:PUBLISH
X-WR-CALNAME:cajuncoast.com
X-ORIGINAL-URL:https://cajuncoast.com
X-WR-CALDESC:Events for cajuncoast.com
REFRESH-INTERVAL;VALUE=DURATION:PT1H
X-Robots-Tag:noindex
X-PUBLISHED-TTL:PT1H
BEGIN:VTIMEZONE
TZID:America/Chicago
BEGIN:DAYLIGHT
TZOFFSETFROM:-0600
TZOFFSETTO:-0500
TZNAME:CDT
DTSTART:20250309T080000
END:DAYLIGHT
BEGIN:STANDARD
TZOFFSETFROM:-0500
TZOFFSETTO:-0600
TZNAME:CST
DTSTART:20251102T070000
END:STANDARD
BEGIN:DAYLIGHT
TZOFFSETFROM:-0600
TZOFFSETTO:-0500
TZNAME:CDT
DTSTART:20260308T080000
END:DAYLIGHT
BEGIN:STANDARD
TZOFFSETFROM:-0500
TZOFFSETTO:-0600
TZNAME:CST
DTSTART:20261101T070000
END:STANDARD
BEGIN:DAYLIGHT
TZOFFSETFROM:-0600
TZOFFSETTO:-0500
TZNAME:CDT
DTSTART:20270314T080000
END:DAYLIGHT
BEGIN:STANDARD
TZOFFSETFROM:-0500
TZOFFSETTO:-0600
TZNAME:CST
DTSTART:20271107T070000
END:STANDARD
END:VTIMEZONE
BEGIN:VEVENT
DTSTART;TZID=America/Chicago:20260125T120000
DTEND;TZID=America/Chicago:20260125T140000
DTSTAMP:20260420T012839
CREATED:20260113T163739Z
LAST-MODIFIED:20260113T163739Z
UID:10006736-1769342400-1769349600@cajuncoast.com
SUMMARY:Mimoa’s & Beads
DESCRIPTION:Hosted by The French Door.\nJoin them for a kickoff party to the Mardi Gras season!\nHang out\, grab a mimosa\, & shop for all your Krewe gifts & parade apparel & accessories!\nEnjoy discounts & a chance to win a shopping spree! 20% off Mardi Gras.\nKrewe with the most members will be entered to win $100 shopping spree.\nMardi Gras themed goodie bags for the first 10 customers.\nFree Mardi Gras jewelry with every purchase while supplies last.
URL:https://cajuncoast.com/event/mimoas-beads/
LOCATION:The French Door\, 608 Main St.\, Franklin\, LA\, 70538\, United States
CATEGORIES:Coupons & Specials
ATTACH;FMTTYPE=image/jpeg:https://cajuncoast.com/wp-content/uploads/2026/01/The-French-Door-cajun-coast-e1768322235945.jpg
ORGANIZER;CN="The French Door":MAILTO:thefrenchdoorfranklin@gmail.com
END:VEVENT
END:VCALENDAR