BEGIN:VCALENDAR
VERSION:2.0
PRODID:-//cajuncoast.com - ECPv6.15.20//NONSGML v1.0//EN
CALSCALE:GREGORIAN
METHOD:PUBLISH
X-WR-CALNAME:cajuncoast.com
X-ORIGINAL-URL:https://cajuncoast.com
X-WR-CALDESC:Events for cajuncoast.com
REFRESH-INTERVAL;VALUE=DURATION:PT1H
X-Robots-Tag:noindex
X-PUBLISHED-TTL:PT1H
BEGIN:VTIMEZONE
TZID:America/Chicago
BEGIN:DAYLIGHT
TZOFFSETFROM:-0600
TZOFFSETTO:-0500
TZNAME:CDT
DTSTART:20240310T080000
END:DAYLIGHT
BEGIN:STANDARD
TZOFFSETFROM:-0500
TZOFFSETTO:-0600
TZNAME:CST
DTSTART:20241103T070000
END:STANDARD
BEGIN:DAYLIGHT
TZOFFSETFROM:-0600
TZOFFSETTO:-0500
TZNAME:CDT
DTSTART:20250309T080000
END:DAYLIGHT
BEGIN:STANDARD
TZOFFSETFROM:-0500
TZOFFSETTO:-0600
TZNAME:CST
DTSTART:20251102T070000
END:STANDARD
BEGIN:DAYLIGHT
TZOFFSETFROM:-0600
TZOFFSETTO:-0500
TZNAME:CDT
DTSTART:20260308T080000
END:DAYLIGHT
BEGIN:STANDARD
TZOFFSETFROM:-0500
TZOFFSETTO:-0600
TZNAME:CST
DTSTART:20261101T070000
END:STANDARD
END:VTIMEZONE
BEGIN:VEVENT
DTSTART;TZID=America/Chicago:20251003T090000
DTEND;TZID=America/Chicago:20251005T213000
DTSTAMP:20260424T001714
CREATED:20250905T161949Z
LAST-MODIFIED:20250905T161949Z
UID:10006185-1759482000-1759699800@cajuncoast.com
SUMMARY:1 Year Anniversary of Bealls in Morgan City\, LA!
DESCRIPTION:Join Bealls as they celebrate their 1-year anniversary.\nThey will have giveaways all weekend long!\nStore opens at 9 am at 6435 Hwy 182 E\, Morgan City.
URL:https://cajuncoast.com/event/1-year-anniversary-of-bealls-in-morgan-city-la/
LOCATION:Bealls\, Colonial Plaza\, 6435 Hwy 182 E\, Morgan City\, LA\, 70380\, United States
CATEGORIES:Coupons & Specials
ATTACH;FMTTYPE=image/jpeg:https://cajuncoast.com/wp-content/uploads/2025/09/Bealls-cajun-coast-e1757088983273.jpg
ORGANIZER;CN="Bealls":MAILTO:guestservices@bealls.com
END:VEVENT
END:VCALENDAR