BEGIN:VCALENDAR
VERSION:2.0
PRODID:-//cajuncoast.com - ECPv6.15.20//NONSGML v1.0//EN
CALSCALE:GREGORIAN
METHOD:PUBLISH
X-WR-CALNAME:cajuncoast.com
X-ORIGINAL-URL:https://cajuncoast.com
X-WR-CALDESC:Events for cajuncoast.com
REFRESH-INTERVAL;VALUE=DURATION:PT1H
X-Robots-Tag:noindex
X-PUBLISHED-TTL:PT1H
BEGIN:VTIMEZONE
TZID:America/Chicago
BEGIN:DAYLIGHT
TZOFFSETFROM:-0600
TZOFFSETTO:-0500
TZNAME:CDT
DTSTART:20240310T080000
END:DAYLIGHT
BEGIN:STANDARD
TZOFFSETFROM:-0500
TZOFFSETTO:-0600
TZNAME:CST
DTSTART:20241103T070000
END:STANDARD
BEGIN:DAYLIGHT
TZOFFSETFROM:-0600
TZOFFSETTO:-0500
TZNAME:CDT
DTSTART:20250309T080000
END:DAYLIGHT
BEGIN:STANDARD
TZOFFSETFROM:-0500
TZOFFSETTO:-0600
TZNAME:CST
DTSTART:20251102T070000
END:STANDARD
BEGIN:DAYLIGHT
TZOFFSETFROM:-0600
TZOFFSETTO:-0500
TZNAME:CDT
DTSTART:20260308T080000
END:DAYLIGHT
BEGIN:STANDARD
TZOFFSETFROM:-0500
TZOFFSETTO:-0600
TZNAME:CST
DTSTART:20261101T070000
END:STANDARD
END:VTIMEZONE
BEGIN:VEVENT
DTSTART;TZID=America/Chicago:20251004T100000
DTEND;TZID=America/Chicago:20251004T140000
DTSTAMP:20260424T071931
CREATED:20250724T165556Z
LAST-MODIFIED:20250929T200412Z
UID:10005053-1759572000-1759586400@cajuncoast.com
SUMMARY:Annual Centerville Knights of Columbus Cast Iron Cook-Off
DESCRIPTION:This event is hosted by Centerville Volunteer Fire Company in partner with\nCenterville Volunteer Fire Department in honor of Fire Prevention Week.\nThis event will be held at the Centerville KC Home; 189 Elm Street at 10am-2pm.\nGet ready for a full day of fun\, food\, and community spirit!\nBring together your best cast iron creations to the table.\nCategories include Appetizer\, Dessert\, Seafood\, and Non-Seafood competitions!\nThere will be live music\, cake walks\, silent auctions\, and a large fun jump & a\ndunking booth for some extra laughs and community fun!\nThe band will be set up outside this year with plenty of space to dance and enjoy a variety of music for all ages.
URL:https://cajuncoast.com/event/castironcookoff/
LOCATION:Centerville KC Home\, 189 Elm Street\, Centerville\, LA\, 70522\, United States
CATEGORIES:Live Music
ATTACH;FMTTYPE=image/jpeg:https://cajuncoast.com/wp-content/uploads/2025/07/Annual-Centerville-Knights-of-Columbus-Cast-Iron-Cook-Off-cajun-coast-e1753375978404.jpg
END:VEVENT
BEGIN:VEVENT
DTSTART;TZID=America/Chicago:20251004T183000
DTEND;TZID=America/Chicago:20251004T213000
DTSTAMP:20260424T071931
CREATED:20250715T161147Z
LAST-MODIFIED:20250715T161318Z
UID:10005033-1759602600-1759613400@cajuncoast.com
SUMMARY:Live Music
DESCRIPTION:Live music by Left On Red Acoustic at One80 Downtown.\nCome out and enjoy the show!\nIf you wear one of LOR Acoustic shirts or hats\, you get in absolutely free!
URL:https://cajuncoast.com/event/live-music-78/
LOCATION:One80 Downtown\, 180 Canton Street\, Berwick\, LA\, 70342\, United States
CATEGORIES:Live Music
ATTACH;FMTTYPE=image/jpeg:https://cajuncoast.com/wp-content/uploads/2025/07/LOR-Acoustic-cajun-coast-e1752595894185.jpg
ORGANIZER;CN="Left on Red":MAILTO:leftonred70380@gmail.com
END:VEVENT
BEGIN:VEVENT
DTSTART;TZID=America/Chicago:20251011T110000
DTEND;TZID=America/Chicago:20251011T140000
DTSTAMP:20260424T071931
CREATED:20250203T180217Z
LAST-MODIFIED:20250327T154936Z
UID:10004347-1760180400-1760191200@cajuncoast.com
SUMMARY:2nd Annual Weenie Spaghetti Cookoff
DESCRIPTION:11 am til 2 pm\, under the Morgan City Bridge at 2nd Street. Door Prizes\, Peoples Choice Award and 1st\, 2nd and 3rd Place. Come out and please help us support Hearts of Hope: Live Music for free\, and if you choose to sample\, it is $10\, all you can eat!!! Thank You!
URL:https://cajuncoast.com/event/2nd-annual-weenie-spaghetti-cookoff/
LOCATION:LA
CATEGORIES:Live Music
ATTACH;FMTTYPE=image/jpeg:https://cajuncoast.com/wp-content/uploads/2025/02/weenie-e1743090495769.jpg
END:VEVENT
BEGIN:VEVENT
DTSTART;TZID=America/Chicago:20251017T110000
DTEND;TZID=America/Chicago:20251017T200000
DTSTAMP:20260424T071931
CREATED:20251002T164959Z
LAST-MODIFIED:20251002T164959Z
UID:10006239-1760698800-1760731200@cajuncoast.com
SUMMARY:Food Truck Fridays
DESCRIPTION:Hosted by Morgan City Main Street at the pavilion of Lake End Park this fall!\nJoin us for delicious food\, fun\, and live music by Clif Hillebran.\nFood trucks will be there from lunch till 8 pm. Live music is from 6 pm to 8 pm.\nThis Friday\, there will be Bayouland Cooking\, Eastgate BBQ\, T-Paul’s Cajun Catering\, and Mr. Milkshake.\nThere will be picnic tables\, games for the kids – and don’t forget your lawn chairs!\nIt’s the perfect way to kick off your weekend. Bring the family\, invite your friends\, and come hungry.
URL:https://cajuncoast.com/event/food-truck-fridays-3/
LOCATION:Lake End Park\, 2300 LA Hwy 70\, Morgan City\, LA\, 70380
CATEGORIES:Live Music
ATTACH;FMTTYPE=image/jpeg:https://cajuncoast.com/wp-content/uploads/2025/09/Food-Truck-Fridays-cajun-coast-e1759423767607.jpg
ORGANIZER;CN="Morgan City Main Street":MAILTO:No Email available
END:VEVENT
BEGIN:VEVENT
DTSTART;TZID=America/Chicago:20251018T190000
DTEND;TZID=America/Chicago:20251018T220000
DTSTAMP:20260424T071931
CREATED:20251002T165703Z
LAST-MODIFIED:20251002T165703Z
UID:10006235-1760814000-1760824800@cajuncoast.com
SUMMARY:Live Music
DESCRIPTION:Hosted by One80 Downtown.\nJoin us for a night with the amazing & talented Rick Lorenzo and featuring Booga Curry!\nMake plans to come!
URL:https://cajuncoast.com/event/live-music-90/
LOCATION:One80 Downtown\, 180 Canton Street\, Berwick\, LA\, 70342\, United States
CATEGORIES:Live Music
ATTACH;FMTTYPE=image/jpeg:https://cajuncoast.com/wp-content/uploads/2025/09/One80-Downtown-cajun-coast-e1759424198438.jpg
ORGANIZER;CN="One80 Downtown":MAILTO:One80downtown@gmail.com
END:VEVENT
BEGIN:VEVENT
DTSTART;TZID=America/Chicago:20251020T190000
DTEND;TZID=America/Chicago:20251020T210000
DTSTAMP:20260424T071931
CREATED:20250609T163659Z
LAST-MODIFIED:20250609T164052Z
UID:10004981-1760986800-1760994000@cajuncoast.com
SUMMARY:The Waddington Brothers
DESCRIPTION:Hosted by Morgan City Live Community Concert Association.\nThe Waddington Brothers\, a band of four brothers from rural North Dakota\, perform what they live:\nmusic that is real to them\, that takes listeners on a journey through the heart of the American West.\nSeth\, Ethan\, Jacob and Job skillfully blend cowboy and bluegrass music\, creating a style that is timelessly\nclassic and yet refreshingly new and unique. Their rich\, stirring harmonies and instrumental versatility bring\nfamiliar favorites like “Old Home Town\,” “Less Traveled Road\,” and “Red River Valley” to life in way that is\nentertaining and engaging for audiences of all ages! You can get your tickets at MorganCityLive.com.
URL:https://cajuncoast.com/event/the-waddington-brothers/
LOCATION:Morgan City Auditorium\, 728 Myrtle St\, Morgan City\, LA\, 70380\, United States
CATEGORIES:Live Music
ATTACH;FMTTYPE=image/png:https://cajuncoast.com/wp-content/uploads/2025/06/The-Waddington-Brothers-Cajun-Coast-e1749486727105.png
ORGANIZER;CN="Morgan City Live Community Concert Association":MAILTO:No Email
END:VEVENT
BEGIN:VEVENT
DTSTART;TZID=America/Chicago:20251024T190000
DTEND;TZID=America/Chicago:20251024T220000
DTSTAMP:20260424T071931
CREATED:20250915T164530Z
LAST-MODIFIED:20250915T164530Z
UID:10006214-1761332400-1761343200@cajuncoast.com
SUMMARY:Live Music
DESCRIPTION:Live Music\, by Lowdown at One80 Downtown.\nLowdown is a four-piece cover band from South Louisiana playing songs from the 60s – today!\nCome join us for another amazing performance by Lowdown!
URL:https://cajuncoast.com/event/live-music-88/
LOCATION:One80 Downtown\, 180 Canton Street\, Berwick\, LA\, 70342\, United States
CATEGORIES:Live Music
ATTACH;FMTTYPE=image/jpeg:https://cajuncoast.com/wp-content/uploads/2025/09/LowDown-cajun-coast-e1757954722905.jpg
END:VEVENT
BEGIN:VEVENT
DTSTART;TZID=America/Chicago:20251031T210000
DTEND;TZID=America/Chicago:20251031T230000
DTSTAMP:20260424T071931
CREATED:20250902T165638Z
LAST-MODIFIED:20250905T162434Z
UID:10006176-1761944400-1761951600@cajuncoast.com
SUMMARY:Threat Level Midnight Halloween Party
DESCRIPTION:Threat Level Midnight\, formed in 2019\, is a unique cover band playing a wide variety of your favorite hits from the 60s to today. Bars\, parties\, and festivals from Louisiana to Mississippi always have a good time when we come to town. If you are in the mood to ROCK or take it to the floor for a slow dance\, we got you covered!
URL:https://cajuncoast.com/event/threat-level-midnight-halloween-party/
LOCATION:Pool Do’s Sports Bar\, 615 Brashear Ave\, Morgan City\, LA\, 70380\, United States
CATEGORIES:Live Music
ATTACH;FMTTYPE=image/jpeg:https://cajuncoast.com/wp-content/uploads/2025/09/halloween-pool-do-e1757089468893.jpg
END:VEVENT
END:VCALENDAR