BEGIN:VCALENDAR
VERSION:2.0
PRODID:-//cajuncoast.com - ECPv6.15.20//NONSGML v1.0//EN
CALSCALE:GREGORIAN
METHOD:PUBLISH
X-ORIGINAL-URL:https://cajuncoast.com
X-WR-CALDESC:Events for cajuncoast.com
REFRESH-INTERVAL;VALUE=DURATION:PT1H
X-Robots-Tag:noindex
X-PUBLISHED-TTL:PT1H
BEGIN:VTIMEZONE
TZID:America/Chicago
BEGIN:DAYLIGHT
TZOFFSETFROM:-0600
TZOFFSETTO:-0500
TZNAME:CDT
DTSTART:20240310T080000
END:DAYLIGHT
BEGIN:STANDARD
TZOFFSETFROM:-0500
TZOFFSETTO:-0600
TZNAME:CST
DTSTART:20241103T070000
END:STANDARD
BEGIN:DAYLIGHT
TZOFFSETFROM:-0600
TZOFFSETTO:-0500
TZNAME:CDT
DTSTART:20250309T080000
END:DAYLIGHT
BEGIN:STANDARD
TZOFFSETFROM:-0500
TZOFFSETTO:-0600
TZNAME:CST
DTSTART:20251102T070000
END:STANDARD
BEGIN:DAYLIGHT
TZOFFSETFROM:-0600
TZOFFSETTO:-0500
TZNAME:CDT
DTSTART:20260308T080000
END:DAYLIGHT
BEGIN:STANDARD
TZOFFSETFROM:-0500
TZOFFSETTO:-0600
TZNAME:CST
DTSTART:20261101T070000
END:STANDARD
END:VTIMEZONE
BEGIN:VEVENT
DTSTART;TZID=America/Chicago:20250503T080000
DTEND;TZID=America/Chicago:20250503T170000
DTSTAMP:20260424T153105
CREATED:20250417T192724Z
LAST-MODIFIED:20250417T192724Z
UID:10004829-1746259200-1746291600@cajuncoast.com
SUMMARY:29th Annual Bayou Teche Black Bear Festival
DESCRIPTION:Hosted by The Franklin Merchant’s Association.\nIt takes place in Historic Downtown Franklin from 8 am to 5 pm.\nWe are excited to join the festival and Bayou to Main together with all vendors on the Bayou side that day!\nThere will be an 5k Running of the Bears\, Vendors\, Music\, Houseboats\, The Cajun Greek joins us for a\nCast Iron Anything Over Rice Cookoff\, Shadowlawn Spring Art Show\, Corn Hole Tournament\, and Cake Walk!\nJoin us for all the Fun! The music is from 10 am until 8 pm!
URL:https://cajuncoast.com/event/29th-annual-bayou-teche-black-bear-festival/
LOCATION:Historic Downtown Franklin\, Franklin\, LA\, 70538\, United States
CATEGORIES:Annual Events,Live Music
ATTACH;FMTTYPE=image/jpeg:https://cajuncoast.com/wp-content/uploads/2025/04/Bayou-Teche-Black-Bear-Festival-cajun-coast-e1744918030329.jpg
END:VEVENT
BEGIN:VEVENT
DTSTART;TZID=America/Chicago:20250503T190000
DTEND;TZID=America/Chicago:20250503T220000
DTSTAMP:20260424T153105
CREATED:20250401T203851Z
LAST-MODIFIED:20250402T163243Z
UID:10004428-1746298800-1746309600@cajuncoast.com
SUMMARY:Live Music
DESCRIPTION:Live Music by Joshua Bergeron Acoustic at One80 Downtown. From 7 pm to 10 pm.\nWe are excited for the up-and-coming Joshua Bergeron to come and sing acoustic.\nThis is his second time performing here\, let’s show him the hometown love!
URL:https://cajuncoast.com/event/live-muic/
LOCATION:One80 Downtown\, 180 Canton Street\, Berwick\, LA\, 70342\, United States
CATEGORIES:Live Music
ATTACH;FMTTYPE=image/jpeg:https://cajuncoast.com/wp-content/uploads/2025/04/Joshua-Bergeron-cajun-coast-e1743539910469.jpg
ORGANIZER;CN="One80 Downtown":MAILTO:One80downtown@gmail.com
END:VEVENT
END:VCALENDAR