BEGIN:VCALENDAR
VERSION:2.0
PRODID:-//cajuncoast.com - ECPv6.15.20//NONSGML v1.0//EN
CALSCALE:GREGORIAN
METHOD:PUBLISH
X-ORIGINAL-URL:https://cajuncoast.com
X-WR-CALDESC:Events for cajuncoast.com
REFRESH-INTERVAL;VALUE=DURATION:PT1H
X-Robots-Tag:noindex
X-PUBLISHED-TTL:PT1H
BEGIN:VTIMEZONE
TZID:America/Chicago
BEGIN:DAYLIGHT
TZOFFSETFROM:-0600
TZOFFSETTO:-0500
TZNAME:CDT
DTSTART:20240310T080000
END:DAYLIGHT
BEGIN:STANDARD
TZOFFSETFROM:-0500
TZOFFSETTO:-0600
TZNAME:CST
DTSTART:20241103T070000
END:STANDARD
BEGIN:DAYLIGHT
TZOFFSETFROM:-0600
TZOFFSETTO:-0500
TZNAME:CDT
DTSTART:20250309T080000
END:DAYLIGHT
BEGIN:STANDARD
TZOFFSETFROM:-0500
TZOFFSETTO:-0600
TZNAME:CST
DTSTART:20251102T070000
END:STANDARD
BEGIN:DAYLIGHT
TZOFFSETFROM:-0600
TZOFFSETTO:-0500
TZNAME:CDT
DTSTART:20260308T080000
END:DAYLIGHT
BEGIN:STANDARD
TZOFFSETFROM:-0500
TZOFFSETTO:-0600
TZNAME:CST
DTSTART:20261101T070000
END:STANDARD
END:VTIMEZONE
BEGIN:VEVENT
DTSTART;TZID=America/Chicago:20250530T190000
DTEND;TZID=America/Chicago:20250530T220000
DTSTAMP:20260420T233220
CREATED:20250408T212219Z
LAST-MODIFIED:20250408T212219Z
UID:10004814-1748631600-1748642400@cajuncoast.com
SUMMARY:Live Music
DESCRIPTION:Live music by a South Louisiana Musician Allie G at One80 Downtown.
URL:https://cajuncoast.com/event/live-music-54/
LOCATION:One80 Downtown\, 180 Canton Street\, Berwick\, LA\, 70342\, United States
CATEGORIES:Live Music
ATTACH;FMTTYPE=image/jpeg:https://cajuncoast.com/wp-content/uploads/2025/04/Allie-G-Music-cajun-coast-e1744147327485.jpg
ORGANIZER;CN="Allie G Music":MAILTO:alliegmusicbooking@gmail.com
END:VEVENT
BEGIN:VEVENT
DTSTART;TZID=America/Chicago:20250530T213000
DTEND;TZID=America/Chicago:20250530T233000
DTSTAMP:20260420T233220
CREATED:20250422T194910Z
LAST-MODIFIED:20250422T194910Z
UID:10004833-1748640600-1748647800@cajuncoast.com
SUMMARY:Live Music
DESCRIPTION:Enjoy live Music by Left on Red\, at Mama G’s.
URL:https://cajuncoast.com/event/live-music-57/
LOCATION:Mama G’s Bar & Grill\, 7540 Hwy 182 E\, Morgan City\, LA\, 70380\, United States
CATEGORIES:Live Music
ATTACH;FMTTYPE=image/jpeg:https://cajuncoast.com/wp-content/uploads/2025/04/Left-on-Red-cajun-coast-1-e1745351262531.jpg
ORGANIZER;CN="Left on Red":MAILTO:leftonred70380@gmail.com
END:VEVENT
END:VCALENDAR