BEGIN:VCALENDAR
VERSION:2.0
PRODID:-//cajuncoast.com - ECPv6.15.20//NONSGML v1.0//EN
CALSCALE:GREGORIAN
METHOD:PUBLISH
X-WR-CALNAME:cajuncoast.com
X-ORIGINAL-URL:https://cajuncoast.com
X-WR-CALDESC:Events for cajuncoast.com
REFRESH-INTERVAL;VALUE=DURATION:PT1H
X-Robots-Tag:noindex
X-PUBLISHED-TTL:PT1H
BEGIN:VTIMEZONE
TZID:America/Chicago
BEGIN:DAYLIGHT
TZOFFSETFROM:-0600
TZOFFSETTO:-0500
TZNAME:CDT
DTSTART:20240310T080000
END:DAYLIGHT
BEGIN:STANDARD
TZOFFSETFROM:-0500
TZOFFSETTO:-0600
TZNAME:CST
DTSTART:20241103T070000
END:STANDARD
BEGIN:DAYLIGHT
TZOFFSETFROM:-0600
TZOFFSETTO:-0500
TZNAME:CDT
DTSTART:20250309T080000
END:DAYLIGHT
BEGIN:STANDARD
TZOFFSETFROM:-0500
TZOFFSETTO:-0600
TZNAME:CST
DTSTART:20251102T070000
END:STANDARD
BEGIN:DAYLIGHT
TZOFFSETFROM:-0600
TZOFFSETTO:-0500
TZNAME:CDT
DTSTART:20260308T080000
END:DAYLIGHT
BEGIN:STANDARD
TZOFFSETFROM:-0500
TZOFFSETTO:-0600
TZNAME:CST
DTSTART:20261101T070000
END:STANDARD
END:VTIMEZONE
BEGIN:VEVENT
DTSTART;TZID=America/Chicago:20250915T190000
DTEND;TZID=America/Chicago:20250915T210000
DTSTAMP:20260420T202027
CREATED:20250609T163000Z
LAST-MODIFIED:20250609T163000Z
UID:10004980-1757962800-1757970000@cajuncoast.com
SUMMARY:PIANOMANIA! - Rockin' the 1950s with Jared Freiburg
DESCRIPTION:Hosted by Morgan City Live Concert Series. Piano virtuoso Jared Freiburg has been performing 1950s era\nmusic since he was a teenager. With legends like Jerry Lee Lewis\, Fats Domino and Ray Charles as his role\nmodels and sources of inspiration\, Freiburg channeled his talents into a hugely successful career as a touring\nmusician and has gone on to tour and perform in venues of all sizes around the world. Filled with good vibrations\,\nelectrifying piano mastery and a non-stop parade of favorite Golden Oldies\, this show celebrates the music and artists\nof the early years of Rock ‘N Roll with songs like “Real Wild Child\,” “Pretty Woman\,” “Blue Suede Shoes\,” and more!\nYou can get your tickets at MorganCityLive.com.
URL:https://cajuncoast.com/event/pianomania-rockin-the-1950s-with-jared-freiburg/
LOCATION:Morgan City Auditorium\, 728 Myrtle St\, Morgan City\, LA\, 70380\, United States
CATEGORIES:Live Music
ATTACH;FMTTYPE=image/png:https://cajuncoast.com/wp-content/uploads/2025/06/PIANOMANIA-–-Rockin-the-1950s-with-Jared-Freiburg-Cajun-Coast-e1749486527351.png
ORGANIZER;CN="Morgan City Live Community Concert Association":MAILTO:No Email
END:VEVENT
END:VCALENDAR