BEGIN:VCALENDAR
VERSION:2.0
PRODID:-//cajuncoast.com - ECPv6.15.20//NONSGML v1.0//EN
CALSCALE:GREGORIAN
METHOD:PUBLISH
X-WR-CALNAME:cajuncoast.com
X-ORIGINAL-URL:https://cajuncoast.com
X-WR-CALDESC:Events for cajuncoast.com
REFRESH-INTERVAL;VALUE=DURATION:PT1H
X-Robots-Tag:noindex
X-PUBLISHED-TTL:PT1H
BEGIN:VTIMEZONE
TZID:America/Chicago
BEGIN:DAYLIGHT
TZOFFSETFROM:-0600
TZOFFSETTO:-0500
TZNAME:CDT
DTSTART:20240310T080000
END:DAYLIGHT
BEGIN:STANDARD
TZOFFSETFROM:-0500
TZOFFSETTO:-0600
TZNAME:CST
DTSTART:20241103T070000
END:STANDARD
BEGIN:DAYLIGHT
TZOFFSETFROM:-0600
TZOFFSETTO:-0500
TZNAME:CDT
DTSTART:20250309T080000
END:DAYLIGHT
BEGIN:STANDARD
TZOFFSETFROM:-0500
TZOFFSETTO:-0600
TZNAME:CST
DTSTART:20251102T070000
END:STANDARD
BEGIN:DAYLIGHT
TZOFFSETFROM:-0600
TZOFFSETTO:-0500
TZNAME:CDT
DTSTART:20260308T080000
END:DAYLIGHT
BEGIN:STANDARD
TZOFFSETFROM:-0500
TZOFFSETTO:-0600
TZNAME:CST
DTSTART:20261101T070000
END:STANDARD
END:VTIMEZONE
BEGIN:VEVENT
DTSTART;TZID=America/Chicago:20251004T100000
DTEND;TZID=America/Chicago:20251004T140000
DTSTAMP:20260423T075243
CREATED:20250724T165556Z
LAST-MODIFIED:20250929T200412Z
UID:10005053-1759572000-1759586400@cajuncoast.com
SUMMARY:Annual Centerville Knights of Columbus Cast Iron Cook-Off
DESCRIPTION:This event is hosted by Centerville Volunteer Fire Company in partner with\nCenterville Volunteer Fire Department in honor of Fire Prevention Week.\nThis event will be held at the Centerville KC Home; 189 Elm Street at 10am-2pm.\nGet ready for a full day of fun\, food\, and community spirit!\nBring together your best cast iron creations to the table.\nCategories include Appetizer\, Dessert\, Seafood\, and Non-Seafood competitions!\nThere will be live music\, cake walks\, silent auctions\, and a large fun jump & a\ndunking booth for some extra laughs and community fun!\nThe band will be set up outside this year with plenty of space to dance and enjoy a variety of music for all ages.
URL:https://cajuncoast.com/event/castironcookoff/
LOCATION:Centerville KC Home\, 189 Elm Street\, Centerville\, LA\, 70522\, United States
CATEGORIES:Live Music
ATTACH;FMTTYPE=image/jpeg:https://cajuncoast.com/wp-content/uploads/2025/07/Annual-Centerville-Knights-of-Columbus-Cast-Iron-Cook-Off-cajun-coast-e1753375978404.jpg
END:VEVENT
BEGIN:VEVENT
DTSTART;TZID=America/Chicago:20251004T183000
DTEND;TZID=America/Chicago:20251004T213000
DTSTAMP:20260423T075243
CREATED:20250715T161147Z
LAST-MODIFIED:20250715T161318Z
UID:10005033-1759602600-1759613400@cajuncoast.com
SUMMARY:Live Music
DESCRIPTION:Live music by Left On Red Acoustic at One80 Downtown.\nCome out and enjoy the show!\nIf you wear one of LOR Acoustic shirts or hats\, you get in absolutely free!
URL:https://cajuncoast.com/event/live-music-78/
LOCATION:One80 Downtown\, 180 Canton Street\, Berwick\, LA\, 70342\, United States
CATEGORIES:Live Music
ATTACH;FMTTYPE=image/jpeg:https://cajuncoast.com/wp-content/uploads/2025/07/LOR-Acoustic-cajun-coast-e1752595894185.jpg
ORGANIZER;CN="Left on Red":MAILTO:leftonred70380@gmail.com
END:VEVENT
END:VCALENDAR