BEGIN:VCALENDAR
VERSION:2.0
PRODID:-//cajuncoast.com - ECPv6.15.20//NONSGML v1.0//EN
CALSCALE:GREGORIAN
METHOD:PUBLISH
X-WR-CALNAME:cajuncoast.com
X-ORIGINAL-URL:https://cajuncoast.com
X-WR-CALDESC:Events for cajuncoast.com
REFRESH-INTERVAL;VALUE=DURATION:PT1H
X-Robots-Tag:noindex
X-PUBLISHED-TTL:PT1H
BEGIN:VTIMEZONE
TZID:America/Chicago
BEGIN:DAYLIGHT
TZOFFSETFROM:-0600
TZOFFSETTO:-0500
TZNAME:CDT
DTSTART:20250309T080000
END:DAYLIGHT
BEGIN:STANDARD
TZOFFSETFROM:-0500
TZOFFSETTO:-0600
TZNAME:CST
DTSTART:20251102T070000
END:STANDARD
BEGIN:DAYLIGHT
TZOFFSETFROM:-0600
TZOFFSETTO:-0500
TZNAME:CDT
DTSTART:20260308T080000
END:DAYLIGHT
BEGIN:STANDARD
TZOFFSETFROM:-0500
TZOFFSETTO:-0600
TZNAME:CST
DTSTART:20261101T070000
END:STANDARD
BEGIN:DAYLIGHT
TZOFFSETFROM:-0600
TZOFFSETTO:-0500
TZNAME:CDT
DTSTART:20270314T080000
END:DAYLIGHT
BEGIN:STANDARD
TZOFFSETFROM:-0500
TZOFFSETTO:-0600
TZNAME:CST
DTSTART:20271107T070000
END:STANDARD
END:VTIMEZONE
BEGIN:VEVENT
DTSTART;TZID=America/Chicago:20260307T180000
DTEND;TZID=America/Chicago:20260307T210000
DTSTAMP:20260421T192844
CREATED:20260113T164807Z
LAST-MODIFIED:20260113T164807Z
UID:10006727-1772906400-1772917200@cajuncoast.com
SUMMARY:Live Music
DESCRIPTION:Hosted by Lake End Park.\nFrom 6 pm to 9 pm in the camper’s pavilion.\nEnjoy music by Freddie Rodrigue.\nPlease come out\, bring your dancing shoes\, and pass a good time at their beautiful park.\nIf anyone has any questions or concerns\, please call their office at 985-380-4623.
URL:https://cajuncoast.com/event/live-music-108/
LOCATION:Lake End Park\, 2300 LA Hwy 70\, Morgan City\, LA\, 70380
CATEGORIES:Live Music
ATTACH;FMTTYPE=image/jpeg:https://cajuncoast.com/wp-content/uploads/2026/01/Lake-End-Park-cajun-coast-7-e1768322766624.jpg
ORGANIZER;CN="Lake End Park":MAILTO:website@lakeendpark.net
END:VEVENT
BEGIN:VEVENT
DTSTART;TZID=America/Chicago:20260307T190000
DTEND;TZID=America/Chicago:20260307T220000
DTSTAMP:20260421T192844
CREATED:20260218T205910Z
LAST-MODIFIED:20260218T205910Z
UID:10006941-1772910000-1772920800@cajuncoast.com
SUMMARY:Live Music
DESCRIPTION:Hosted by One80 Downtown\nEnjoy music by Hal Bruni.\nMark your calendar for a treat.\nLocal guy singing at a local lounge.
URL:https://cajuncoast.com/event/live-music-120/
LOCATION:One80 Downtown\, 180 Canton Street\, Berwick\, LA\, 70342\, United States
CATEGORIES:Live Music
ATTACH;FMTTYPE=image/jpeg:https://cajuncoast.com/wp-content/uploads/2026/02/Live-Music-cajun-coast-1-e1771448341698.jpg
END:VEVENT
END:VCALENDAR