BEGIN:VCALENDAR
VERSION:2.0
PRODID:-//cajuncoast.com - ECPv6.15.20//NONSGML v1.0//EN
CALSCALE:GREGORIAN
METHOD:PUBLISH
X-ORIGINAL-URL:https://cajuncoast.com
X-WR-CALDESC:Events for cajuncoast.com
REFRESH-INTERVAL;VALUE=DURATION:PT1H
X-Robots-Tag:noindex
X-PUBLISHED-TTL:PT1H
BEGIN:VTIMEZONE
TZID:America/Chicago
BEGIN:DAYLIGHT
TZOFFSETFROM:-0600
TZOFFSETTO:-0500
TZNAME:CDT
DTSTART:20240310T080000
END:DAYLIGHT
BEGIN:STANDARD
TZOFFSETFROM:-0500
TZOFFSETTO:-0600
TZNAME:CST
DTSTART:20241103T070000
END:STANDARD
BEGIN:DAYLIGHT
TZOFFSETFROM:-0600
TZOFFSETTO:-0500
TZNAME:CDT
DTSTART:20250309T080000
END:DAYLIGHT
BEGIN:STANDARD
TZOFFSETFROM:-0500
TZOFFSETTO:-0600
TZNAME:CST
DTSTART:20251102T070000
END:STANDARD
BEGIN:DAYLIGHT
TZOFFSETFROM:-0600
TZOFFSETTO:-0500
TZNAME:CDT
DTSTART:20260308T080000
END:DAYLIGHT
BEGIN:STANDARD
TZOFFSETFROM:-0500
TZOFFSETTO:-0600
TZNAME:CST
DTSTART:20261101T070000
END:STANDARD
END:VTIMEZONE
BEGIN:VEVENT
DTSTART;TZID=America/Chicago:20250628T100000
DTEND;TZID=America/Chicago:20250628T110000
DTSTAMP:20260422T232137
CREATED:20250424T212626Z
LAST-MODIFIED:20250424T212626Z
UID:10004917-1751104800-1751108400@cajuncoast.com
SUMMARY:2nd Annual Berwick Lighthouse Festival Children’s Pageant!
DESCRIPTION:This event is open to the public at 11 am and Registration at 10 am!\nMeet at the Berwick Civic Center; 300 Pattie Dr. For more information\, please contact\nBerwick Lighthouse Festival Pageant at 337-578-3203 or email at berwicklighthousepageant@gmail.com.
URL:https://cajuncoast.com/event/2nd-annual-berwick-lighthouse-festival-childrens-pageant/
LOCATION:Berwick Civic Center\, 300 Pattie Drive\, Berwick\, LA\, 70342\, United States
CATEGORIES:Annual Events
ATTACH;FMTTYPE=image/jpeg:https://cajuncoast.com/wp-content/uploads/2025/04/Berwick-Lighthouse-Festival-cajun-coast-2-e1745529977908.jpg
ORGANIZER;CN="Berwick Lighthouse Festival Pageant":MAILTO:berwicklighthousepageant@gmail.com
END:VEVENT
BEGIN:VEVENT
DTSTART;TZID=America/Chicago:20250628T170000
DTEND;TZID=America/Chicago:20250628T180000
DTSTAMP:20260422T232137
CREATED:20250424T212755Z
LAST-MODIFIED:20250424T212755Z
UID:10004916-1751130000-1751133600@cajuncoast.com
SUMMARY:2nd Annual Berwick Lighthouse Festival Queens Pageant!
DESCRIPTION:This event is open to the public with Deb-Ms. Pageant at 6 pm and Registration at 5 pm!\nMeet at the Berwick Civic Center; 300 Pattie Dr. For more information\, please contact\nBerwick Lighthouse Festival Pageant at 337-578-3203 or email at berwicklighthousepageant@gmail.com.
URL:https://cajuncoast.com/event/2nd-annual-berwick-lighthouse-festival-queens-pageant/
LOCATION:Berwick Civic Center\, 300 Pattie Drive\, Berwick\, LA\, 70342\, United States
CATEGORIES:Annual Events
ATTACH;FMTTYPE=image/jpeg:https://cajuncoast.com/wp-content/uploads/2025/04/Berwick-Lighthouse-Festival-cajun-coast-1-e1745530066893.jpg
ORGANIZER;CN="Berwick Lighthouse Festival Pageant":MAILTO:berwicklighthousepageant@gmail.com
END:VEVENT
END:VCALENDAR