BEGIN:VCALENDAR
VERSION:2.0
PRODID:-//cajuncoast.com - ECPv6.15.20//NONSGML v1.0//EN
CALSCALE:GREGORIAN
METHOD:PUBLISH
X-WR-CALNAME:cajuncoast.com
X-ORIGINAL-URL:https://cajuncoast.com
X-WR-CALDESC:Events for cajuncoast.com
REFRESH-INTERVAL;VALUE=DURATION:PT1H
X-Robots-Tag:noindex
X-PUBLISHED-TTL:PT1H
BEGIN:VTIMEZONE
TZID:America/Chicago
BEGIN:DAYLIGHT
TZOFFSETFROM:-0600
TZOFFSETTO:-0500
TZNAME:CDT
DTSTART:20240310T080000
END:DAYLIGHT
BEGIN:STANDARD
TZOFFSETFROM:-0500
TZOFFSETTO:-0600
TZNAME:CST
DTSTART:20241103T070000
END:STANDARD
BEGIN:DAYLIGHT
TZOFFSETFROM:-0600
TZOFFSETTO:-0500
TZNAME:CDT
DTSTART:20250309T080000
END:DAYLIGHT
BEGIN:STANDARD
TZOFFSETFROM:-0500
TZOFFSETTO:-0600
TZNAME:CST
DTSTART:20251102T070000
END:STANDARD
BEGIN:DAYLIGHT
TZOFFSETFROM:-0600
TZOFFSETTO:-0500
TZNAME:CDT
DTSTART:20260308T080000
END:DAYLIGHT
BEGIN:STANDARD
TZOFFSETFROM:-0500
TZOFFSETTO:-0600
TZNAME:CST
DTSTART:20261101T070000
END:STANDARD
END:VTIMEZONE
BEGIN:VEVENT
DTSTART;TZID=America/Chicago:20251108T080000
DTEND;TZID=America/Chicago:20251108T170000
DTSTAMP:20260423T030407
CREATED:20250821T200406Z
LAST-MODIFIED:20250916T212510Z
UID:10006153-1762588800-1762621200@cajuncoast.com
SUMMARY:St. Mary Landmarks Raffle
DESCRIPTION:Hosted by St. Mary Chapter of the Louisiana Landmarks Society.\nWe’re thrilled to announce our annual raffle with three incredible prize packages up for grabs!\nFor just $10 per chance\, you could win big while supporting a great organization.\nRaffle tickets are available at select locations listed below: FIFOLET Candle Makers\, The French Door\, Gather on Main\, Chic and Shabby\, and the Grevemberg House. Your participation will help us preserve and protect our beloved landmarks.\nLet’s make a difference together!
URL:https://cajuncoast.com/event/st-mary-landmarks-raffle/
LOCATION:St. Mary Chapter of The Louisiana Landmarks Society\, 1529 Sterling Road\, Franklin\, LA\, 70538\, United States
CATEGORIES:Annual Events
ATTACH;FMTTYPE=image/jpeg:https://cajuncoast.com/wp-content/uploads/2025/08/Landmark-Raffle-Cajun-Coast-e1755806635116.jpg
ORGANIZER;CN="St. Mary Chapter of the Louisiana Landmarks Society":MAILTO:Info@grevemberghouse.com
END:VEVENT
END:VCALENDAR