BEGIN:VCALENDAR
VERSION:2.0
PRODID:-//cajuncoast.com - ECPv6.15.20//NONSGML v1.0//EN
CALSCALE:GREGORIAN
METHOD:PUBLISH
X-ORIGINAL-URL:https://cajuncoast.com
X-WR-CALDESC:Events for cajuncoast.com
REFRESH-INTERVAL;VALUE=DURATION:PT1H
X-Robots-Tag:noindex
X-PUBLISHED-TTL:PT1H
BEGIN:VTIMEZONE
TZID:America/Chicago
BEGIN:DAYLIGHT
TZOFFSETFROM:-0600
TZOFFSETTO:-0500
TZNAME:CDT
DTSTART:20240310T080000
END:DAYLIGHT
BEGIN:STANDARD
TZOFFSETFROM:-0500
TZOFFSETTO:-0600
TZNAME:CST
DTSTART:20241103T070000
END:STANDARD
BEGIN:DAYLIGHT
TZOFFSETFROM:-0600
TZOFFSETTO:-0500
TZNAME:CDT
DTSTART:20250309T080000
END:DAYLIGHT
BEGIN:STANDARD
TZOFFSETFROM:-0500
TZOFFSETTO:-0600
TZNAME:CST
DTSTART:20251102T070000
END:STANDARD
BEGIN:DAYLIGHT
TZOFFSETFROM:-0600
TZOFFSETTO:-0500
TZNAME:CDT
DTSTART:20260308T080000
END:DAYLIGHT
BEGIN:STANDARD
TZOFFSETFROM:-0500
TZOFFSETTO:-0600
TZNAME:CST
DTSTART:20261101T070000
END:STANDARD
END:VTIMEZONE
BEGIN:VEVENT
DTSTART;TZID=America/Chicago:20250503T090000
DTEND;TZID=America/Chicago:20250503T100000
DTSTAMP:20260419T172424
CREATED:20250424T212541Z
LAST-MODIFIED:20250424T212541Z
UID:10004918-1746262800-1746266400@cajuncoast.com
SUMMARY:Celebrating Mom at Gather on Main!
DESCRIPTION:Mother’s Day is around the corner\, let the wonderful\, creative merchants at Gather help curate a unique and meaningful gift!\nEnjoy early shopping for those youngest family members from 9 am to 10 am.\nMomosas\, Punch\, Coffee\, and Snacks! Free Gift Wrapping!\nLarge selection of beautiful and unique items for all budgets!\nPersonal shopper assistance available! Wide assortment of gift baskets already crafted and beautifully wrapped!\nFor more information you can contact Gather on Main at (337) 481-1099.
URL:https://cajuncoast.com/event/celebrating-mom-at-gather-on-main/
LOCATION:Gather On Main\, 617 Main Street\, Franklin\, LA\, 70538\, United States
ATTACH;FMTTYPE=image/jpeg:https://cajuncoast.com/wp-content/uploads/2025/04/Gather-on-Main-cajun-coast-e1745529931328.jpg
END:VEVENT
BEGIN:VEVENT
DTSTART;TZID=America/Chicago:20250503T090000
DTEND;TZID=America/Chicago:20250503T140000
DTSTAMP:20260419T172424
CREATED:20250424T213027Z
LAST-MODIFIED:20250424T213027Z
UID:10004912-1746262800-1746280800@cajuncoast.com
SUMMARY:Franklin Bayou To Main Market Place
DESCRIPTION:Hosted by The Franklin Merchant’s Association.\nEnjoy 40+ booths\, 2 food trucks\, and live music.\nCome and join the fun!
URL:https://cajuncoast.com/event/franklin-bayou-to-main-market-place/2025-05-03/
LOCATION:Franklin Main Street\, Hwy 182\, Franklin\, LA\, 70539\, United States
ATTACH;FMTTYPE=image/jpeg:https://cajuncoast.com/wp-content/uploads/2025/04/Franklin-Bayou-To-Main-Market-Place-cajun-coast-e1745530211588.jpg
END:VEVENT
BEGIN:VEVENT
DTSTART;TZID=America/Chicago:20250516T100000
DTEND;TZID=America/Chicago:20250516T140000
DTSTAMP:20260419T172424
CREATED:20250515T150548Z
LAST-MODIFIED:20250515T150548Z
UID:10004940-1747389600-1747404000@cajuncoast.com
SUMMARY:Tri-State Cruisin' Cajun Country Car Club
DESCRIPTION:The Tri-State Cruisin’ Cajun Country Car Club has once again selected Franklin as its Acadiana Spotlight Community.\nThe club first chose Franklin about six years ago\, during the early days of our Revitalization Movement\, and we’re thrilled to welcome them back.\nUpon arrival\, the club will line their classic cars along our Nationally Accredited Main Street—offering\nfantastic photo opportunities—before setting off to dine\, shop\, and explore throughout the city.\nTheir visit includes tours of historic Grevemberg House\, Shadowlawn\, and Arlington\, as well as a unique\n“original Main Street tour” along Bayou Teche\, courtesy of Captain Caviar. Some members will also travel to Patterson\nto visit the Wedell-Williams Aviation and Cypress Sawmill Museum\, guided by museum director and Franklin native\, Tiersa Daniels.\nAfter touring\, guests will enjoy lunch at the local restaurants of their choice before heading to New Iberia for their Friday Nite Fais Do Do\nin Bouligny Plaza\, featuring Franklin’s own Johnny Chauvin. They’d like to thank my administration for once again working closely with the club over the past nine months to ensure a successful visit. Special thanks to Cajun Coast Tourism for coordinating the club’s excursions in both Franklin and Patterson.\nThey’d also want to thank the Franklin Merchants Association for always being ready to serve and greet friendly faces.\nIt’s going to be a great day for everyone involved!
URL:https://cajuncoast.com/event/tri-state-cruisin-cajun-country-car-club/
LOCATION:Franklin Main Street\, Hwy 182\, Franklin\, LA\, 70539\, United States
ATTACH;FMTTYPE=image/jpeg:https://cajuncoast.com/wp-content/uploads/2025/05/Crusin-Cajun-Country-cajun-coast-e1747321536469.jpg
END:VEVENT
END:VCALENDAR