BEGIN:VCALENDAR
VERSION:2.0
PRODID:-//cajuncoast.com - ECPv6.15.20//NONSGML v1.0//EN
CALSCALE:GREGORIAN
METHOD:PUBLISH
X-WR-CALNAME:cajuncoast.com
X-ORIGINAL-URL:https://cajuncoast.com
X-WR-CALDESC:Events for cajuncoast.com
REFRESH-INTERVAL;VALUE=DURATION:PT1H
X-Robots-Tag:noindex
X-PUBLISHED-TTL:PT1H
BEGIN:VTIMEZONE
TZID:America/Chicago
BEGIN:DAYLIGHT
TZOFFSETFROM:-0600
TZOFFSETTO:-0500
TZNAME:CDT
DTSTART:20240310T080000
END:DAYLIGHT
BEGIN:STANDARD
TZOFFSETFROM:-0500
TZOFFSETTO:-0600
TZNAME:CST
DTSTART:20241103T070000
END:STANDARD
BEGIN:DAYLIGHT
TZOFFSETFROM:-0600
TZOFFSETTO:-0500
TZNAME:CDT
DTSTART:20250309T080000
END:DAYLIGHT
BEGIN:STANDARD
TZOFFSETFROM:-0500
TZOFFSETTO:-0600
TZNAME:CST
DTSTART:20251102T070000
END:STANDARD
BEGIN:DAYLIGHT
TZOFFSETFROM:-0600
TZOFFSETTO:-0500
TZNAME:CDT
DTSTART:20260308T080000
END:DAYLIGHT
BEGIN:STANDARD
TZOFFSETFROM:-0500
TZOFFSETTO:-0600
TZNAME:CST
DTSTART:20261101T070000
END:STANDARD
END:VTIMEZONE
BEGIN:VEVENT
DTSTART;TZID=America/Chicago:20250913T190000
DTEND;TZID=America/Chicago:20250913T210000
DTSTAMP:20260422T020329
CREATED:20250909T190509Z
LAST-MODIFIED:20250909T190509Z
UID:10006190-1757790000-1757797200@cajuncoast.com
SUMMARY:Nightmare on Main Street Show
DESCRIPTION:Get your folks together and simply see you at the Teche Theatre for the Performing Arts Box Office.\nOnce again\, The Teche Theatre for the Performing Arts presents its Original Murder Mystery entitled Nightmare on Main Street by Jonas Buteaux.\nCome if you dare! Doors open at 6:00pm.
URL:https://cajuncoast.com/event/nightmare-on-main-street-show/
LOCATION:Teche Theatre for Performing Arts\, 501 Main Street\, Franklin\, LA\, 70538\, United States
ATTACH;FMTTYPE=image/jpeg:https://cajuncoast.com/wp-content/uploads/2025/09/Nightmare-on-Main-Cajun-Coast-e1757444677910.jpg
ORGANIZER;CN="Teche Theatre for the Performing Arts":MAILTO:techetheatreboard@gmail.com
END:VEVENT
END:VCALENDAR