BEGIN:VCALENDAR
VERSION:2.0
PRODID:-//cajuncoast.com - ECPv6.15.20//NONSGML v1.0//EN
CALSCALE:GREGORIAN
METHOD:PUBLISH
X-WR-CALNAME:cajuncoast.com
X-ORIGINAL-URL:https://cajuncoast.com
X-WR-CALDESC:Events for cajuncoast.com
REFRESH-INTERVAL;VALUE=DURATION:PT1H
X-Robots-Tag:noindex
X-PUBLISHED-TTL:PT1H
BEGIN:VTIMEZONE
TZID:America/Chicago
BEGIN:DAYLIGHT
TZOFFSETFROM:-0600
TZOFFSETTO:-0500
TZNAME:CDT
DTSTART:20240310T080000
END:DAYLIGHT
BEGIN:STANDARD
TZOFFSETFROM:-0500
TZOFFSETTO:-0600
TZNAME:CST
DTSTART:20241103T070000
END:STANDARD
BEGIN:DAYLIGHT
TZOFFSETFROM:-0600
TZOFFSETTO:-0500
TZNAME:CDT
DTSTART:20250309T080000
END:DAYLIGHT
BEGIN:STANDARD
TZOFFSETFROM:-0500
TZOFFSETTO:-0600
TZNAME:CST
DTSTART:20251102T070000
END:STANDARD
BEGIN:DAYLIGHT
TZOFFSETFROM:-0600
TZOFFSETTO:-0500
TZNAME:CDT
DTSTART:20260308T080000
END:DAYLIGHT
BEGIN:STANDARD
TZOFFSETFROM:-0500
TZOFFSETTO:-0600
TZNAME:CST
DTSTART:20261101T070000
END:STANDARD
END:VTIMEZONE
BEGIN:VEVENT
DTSTART;TZID=America/Chicago:20251004T090000
DTEND;TZID=America/Chicago:20251004T140000
DTSTAMP:20260421T033627
CREATED:20250424T213027Z
LAST-MODIFIED:20250424T213027Z
UID:10004913-1759568400-1759586400@cajuncoast.com
SUMMARY:Franklin Bayou To Main Market Place
DESCRIPTION:Hosted by The Franklin Merchant’s Association.\nEnjoy 40+ booths\, 2 food trucks\, and live music.\nCome and join the fun!
URL:https://cajuncoast.com/event/franklin-bayou-to-main-market-place/2025-10-04/
LOCATION:Franklin Main Street\, Hwy 182\, Franklin\, LA\, 70539\, United States
ATTACH;FMTTYPE=image/jpeg:https://cajuncoast.com/wp-content/uploads/2025/04/Franklin-Bayou-To-Main-Market-Place-cajun-coast-e1745530211588.jpg
END:VEVENT
BEGIN:VEVENT
DTSTART;TZID=America/Chicago:20251004T090000
DTEND;TZID=America/Chicago:20251004T140000
DTSTAMP:20260421T033627
CREATED:20250710T160736Z
LAST-MODIFIED:20250710T165100Z
UID:10005017-1759568400-1759586400@cajuncoast.com
SUMMARY:Bayou Buddy Cook-Off
DESCRIPTION:Hosted by The Franklin Merchant’s Association on Main Street Franklin.\nThis will be a cook off with a kid as head chef\, adults can help\, but the spotlights on the little ones!\nThe category is Pasta. Entry is $40 per team.\nThis will take place during the Bayou to Market Main from 9 am to 2 pm.
URL:https://cajuncoast.com/event/bayou-buddy-cook-off/
LOCATION:Franklin Main Street\, Hwy 182\, Franklin\, LA\, 70539\, United States
ATTACH;FMTTYPE=image/jpeg:https://cajuncoast.com/wp-content/uploads/2025/07/Bayou-Buddy-Cook-Off-cajun-coast-e1752163642932.jpg
END:VEVENT
END:VCALENDAR