BEGIN:VCALENDAR
VERSION:2.0
PRODID:-//cajuncoast.com - ECPv6.15.20//NONSGML v1.0//EN
CALSCALE:GREGORIAN
METHOD:PUBLISH
X-WR-CALNAME:cajuncoast.com
X-ORIGINAL-URL:https://cajuncoast.com
X-WR-CALDESC:Events for cajuncoast.com
REFRESH-INTERVAL;VALUE=DURATION:PT1H
X-Robots-Tag:noindex
X-PUBLISHED-TTL:PT1H
BEGIN:VTIMEZONE
TZID:America/Chicago
BEGIN:DAYLIGHT
TZOFFSETFROM:-0600
TZOFFSETTO:-0500
TZNAME:CDT
DTSTART:20250309T080000
END:DAYLIGHT
BEGIN:STANDARD
TZOFFSETFROM:-0500
TZOFFSETTO:-0600
TZNAME:CST
DTSTART:20251102T070000
END:STANDARD
BEGIN:DAYLIGHT
TZOFFSETFROM:-0600
TZOFFSETTO:-0500
TZNAME:CDT
DTSTART:20260308T080000
END:DAYLIGHT
BEGIN:STANDARD
TZOFFSETFROM:-0500
TZOFFSETTO:-0600
TZNAME:CST
DTSTART:20261101T070000
END:STANDARD
BEGIN:DAYLIGHT
TZOFFSETFROM:-0600
TZOFFSETTO:-0500
TZNAME:CDT
DTSTART:20270314T080000
END:DAYLIGHT
BEGIN:STANDARD
TZOFFSETFROM:-0500
TZOFFSETTO:-0600
TZNAME:CST
DTSTART:20271107T070000
END:STANDARD
END:VTIMEZONE
BEGIN:VEVENT
DTSTART;TZID=America/Chicago:20260801T080000
DTEND;TZID=America/Chicago:20260802T000000
DTSTAMP:20260420T200458
CREATED:20250804T151637Z
LAST-MODIFIED:20250804T151637Z
UID:10006117-1785571200-1785628800@cajuncoast.com
SUMMARY:Cosmic Bowling
DESCRIPTION:Hosted by Steelwood Lanes.\nPay one price for all you can bowl from 8 pm until midnight!\n$14 + tax per person.
URL:https://cajuncoast.com/event/cosmic-bowling/2026-08-01/
LOCATION:Steelwood Lanes\, 7722 Hwy 182 E\, Morgan City\, LA\, 70380\, United States
ATTACH;FMTTYPE=image/jpeg:https://cajuncoast.com/wp-content/uploads/2025/08/Steelwood-Lanes-cajun-coast-e1754320584888.jpg
ORGANIZER;CN="Steelwood Lanes":MAILTO:steelwoodlanes@gmail.com
END:VEVENT
BEGIN:VEVENT
DTSTART;VALUE=DATE:20260808
DTEND;VALUE=DATE:20260809
DTSTAMP:20260420T200458
CREATED:20251104T230039Z
LAST-MODIFIED:20251104T230051Z
UID:10006486-1786147200-1786233599@cajuncoast.com
SUMMARY:Pit vs. Pot Cook Off
DESCRIPTION:Mark your calendars\, because the battle of the pits and pots returns August 8th\, 2026 — same spot\, same fire\, even bigger flavor!\nWe’re calling on:\nCook Teams – Bring your pits\, pots\, and best game!\nVendors – Let’s fill the bayou with local flavor and Louisiana flair!\nFans & Food Lovers – Come hungry\, leave happy!\nThis is your official heads-up… the smoke is rising\, and the pots are bubbling!\nWho’s coming back for Round 2?
URL:https://cajuncoast.com/event/pit-vs-pot-cook-off-2/
LOCATION:Under Hwy 90 Bridge\, 800 Front Street\, Morgan City\, LA\, 70380\, United States
CATEGORIES:Annual Events
ATTACH;FMTTYPE=image/jpeg:https://cajuncoast.com/wp-content/uploads/2025/11/Pit-Vs.-Pot-2026-e1762297190288.jpg
ORGANIZER;CN="Da' Bayou Paddle Co. LLC":MAILTO:dabayoupaddleco@gmail.com
END:VEVENT
BEGIN:VEVENT
DTSTART;TZID=America/Chicago:20260808T080000
DTEND;TZID=America/Chicago:20260809T000000
DTSTAMP:20260420T200458
CREATED:20250804T151637Z
LAST-MODIFIED:20250804T151637Z
UID:10006118-1786176000-1786233600@cajuncoast.com
SUMMARY:Cosmic Bowling
DESCRIPTION:Hosted by Steelwood Lanes.\nPay one price for all you can bowl from 8 pm until midnight!\n$14 + tax per person.
URL:https://cajuncoast.com/event/cosmic-bowling/2026-08-08/
LOCATION:Steelwood Lanes\, 7722 Hwy 182 E\, Morgan City\, LA\, 70380\, United States
ATTACH;FMTTYPE=image/jpeg:https://cajuncoast.com/wp-content/uploads/2025/08/Steelwood-Lanes-cajun-coast-e1754320584888.jpg
ORGANIZER;CN="Steelwood Lanes":MAILTO:steelwoodlanes@gmail.com
END:VEVENT
BEGIN:VEVENT
DTSTART;TZID=America/Chicago:20260815T080000
DTEND;TZID=America/Chicago:20260816T000000
DTSTAMP:20260420T200458
CREATED:20250804T151637Z
LAST-MODIFIED:20250804T151637Z
UID:10006119-1786780800-1786838400@cajuncoast.com
SUMMARY:Cosmic Bowling
DESCRIPTION:Hosted by Steelwood Lanes.\nPay one price for all you can bowl from 8 pm until midnight!\n$14 + tax per person.
URL:https://cajuncoast.com/event/cosmic-bowling/2026-08-15/
LOCATION:Steelwood Lanes\, 7722 Hwy 182 E\, Morgan City\, LA\, 70380\, United States
ATTACH;FMTTYPE=image/jpeg:https://cajuncoast.com/wp-content/uploads/2025/08/Steelwood-Lanes-cajun-coast-e1754320584888.jpg
ORGANIZER;CN="Steelwood Lanes":MAILTO:steelwoodlanes@gmail.com
END:VEVENT
BEGIN:VEVENT
DTSTART;TZID=America/Chicago:20260822T080000
DTEND;TZID=America/Chicago:20260823T000000
DTSTAMP:20260420T200458
CREATED:20250804T151637Z
LAST-MODIFIED:20250804T151637Z
UID:10006120-1787385600-1787443200@cajuncoast.com
SUMMARY:Cosmic Bowling
DESCRIPTION:Hosted by Steelwood Lanes.\nPay one price for all you can bowl from 8 pm until midnight!\n$14 + tax per person.
URL:https://cajuncoast.com/event/cosmic-bowling/2026-08-22/
LOCATION:Steelwood Lanes\, 7722 Hwy 182 E\, Morgan City\, LA\, 70380\, United States
ATTACH;FMTTYPE=image/jpeg:https://cajuncoast.com/wp-content/uploads/2025/08/Steelwood-Lanes-cajun-coast-e1754320584888.jpg
ORGANIZER;CN="Steelwood Lanes":MAILTO:steelwoodlanes@gmail.com
END:VEVENT
BEGIN:VEVENT
DTSTART;TZID=America/Chicago:20260829T080000
DTEND;TZID=America/Chicago:20260830T000000
DTSTAMP:20260420T200458
CREATED:20250804T151637Z
LAST-MODIFIED:20250804T151637Z
UID:10006121-1787990400-1788048000@cajuncoast.com
SUMMARY:Cosmic Bowling
DESCRIPTION:Hosted by Steelwood Lanes.\nPay one price for all you can bowl from 8 pm until midnight!\n$14 + tax per person.
URL:https://cajuncoast.com/event/cosmic-bowling/2026-08-29/
LOCATION:Steelwood Lanes\, 7722 Hwy 182 E\, Morgan City\, LA\, 70380\, United States
ATTACH;FMTTYPE=image/jpeg:https://cajuncoast.com/wp-content/uploads/2025/08/Steelwood-Lanes-cajun-coast-e1754320584888.jpg
ORGANIZER;CN="Steelwood Lanes":MAILTO:steelwoodlanes@gmail.com
END:VEVENT
END:VCALENDAR