BEGIN:VCALENDAR
VERSION:2.0
PRODID:-//cajuncoast.com - ECPv6.15.20//NONSGML v1.0//EN
CALSCALE:GREGORIAN
METHOD:PUBLISH
X-ORIGINAL-URL:https://cajuncoast.com
X-WR-CALDESC:Events for cajuncoast.com
REFRESH-INTERVAL;VALUE=DURATION:PT1H
X-Robots-Tag:noindex
X-PUBLISHED-TTL:PT1H
BEGIN:VTIMEZONE
TZID:America/Chicago
BEGIN:DAYLIGHT
TZOFFSETFROM:-0600
TZOFFSETTO:-0500
TZNAME:CDT
DTSTART:20240310T080000
END:DAYLIGHT
BEGIN:STANDARD
TZOFFSETFROM:-0500
TZOFFSETTO:-0600
TZNAME:CST
DTSTART:20241103T070000
END:STANDARD
BEGIN:DAYLIGHT
TZOFFSETFROM:-0600
TZOFFSETTO:-0500
TZNAME:CDT
DTSTART:20250309T080000
END:DAYLIGHT
BEGIN:STANDARD
TZOFFSETFROM:-0500
TZOFFSETTO:-0600
TZNAME:CST
DTSTART:20251102T070000
END:STANDARD
BEGIN:DAYLIGHT
TZOFFSETFROM:-0600
TZOFFSETTO:-0500
TZNAME:CDT
DTSTART:20260308T080000
END:DAYLIGHT
BEGIN:STANDARD
TZOFFSETFROM:-0500
TZOFFSETTO:-0600
TZNAME:CST
DTSTART:20261101T070000
END:STANDARD
BEGIN:DAYLIGHT
TZOFFSETFROM:-0600
TZOFFSETTO:-0500
TZNAME:CDT
DTSTART:20270314T080000
END:DAYLIGHT
BEGIN:STANDARD
TZOFFSETFROM:-0500
TZOFFSETTO:-0600
TZNAME:CST
DTSTART:20271107T070000
END:STANDARD
END:VTIMEZONE
BEGIN:VEVENT
DTSTART;TZID=America/Chicago:20251204T080000
DTEND;TZID=America/Chicago:20251204T183000
DTSTAMP:20260421T215126
CREATED:20250912T134606Z
LAST-MODIFIED:20250912T134606Z
UID:10006205-1764835200-1764873000@cajuncoast.com
SUMMARY:After Hours Evening Sip & Shop
DESCRIPTION:Join us for extended shopping and browsing Thursday evenings till’ 6:30pm!
URL:https://cajuncoast.com/event/after-hours-evening-sip-shop/2025-12-04/
LOCATION:Gather On Main\, 617 Main Street\, Franklin\, LA\, 70538\, United States
ATTACH;FMTTYPE=image/jpeg:https://cajuncoast.com/wp-content/uploads/2025/09/Gather-on-Main-Thursdays-Cajun-Coast-e1757616989504.jpg
END:VEVENT
BEGIN:VEVENT
DTSTART;TZID=America/Chicago:20251206T100000
DTEND;TZID=America/Chicago:20251206T140000
DTSTAMP:20260421T215126
CREATED:20251009T163359Z
LAST-MODIFIED:20260113T200044Z
UID:10006743-1765015200-1765029600@cajuncoast.com
SUMMARY:Plantiful Vibes Farmers Market
DESCRIPTION:Open to all! We’re so excited to bring you the best of local\, fresh produce\, homemade goods\, and a great community vibe. The market is open every weekend from 10 am- 2 pm at 1115 First Street\, Patterson La. 70392. Come support local farmers and artisans while enjoying a fun\, family-friendly atmosphere. Stay tuned for regular updates\, vendor spotlights\, and special market events! For more information\, contact T’ala at 337-339-1992. Now Accepting Licensed Vendors.
URL:https://cajuncoast.com/event/plantiful-vibes-farmers-market-3/2025-12-06/
LOCATION:Plantiful Vibes Farmers Market\, 1115 1st St\, Patterson\, LA\, 70392\, United States
ATTACH;FMTTYPE=image/jpeg:https://cajuncoast.com/wp-content/uploads/2025/10/Plantifulvibes-Cajun-Coast-e1760027626163.jpg
ORGANIZER;CN="Plantifulvibes Farmers Market":MAILTO:Plantifulvibes@gmail.com
END:VEVENT
BEGIN:VEVENT
DTSTART;TZID=America/Chicago:20251211T080000
DTEND;TZID=America/Chicago:20251211T183000
DTSTAMP:20260421T215126
CREATED:20250912T134606Z
LAST-MODIFIED:20250912T134606Z
UID:10006206-1765440000-1765477800@cajuncoast.com
SUMMARY:After Hours Evening Sip & Shop
DESCRIPTION:Join us for extended shopping and browsing Thursday evenings till’ 6:30pm!
URL:https://cajuncoast.com/event/after-hours-evening-sip-shop/2025-12-11/
LOCATION:Gather On Main\, 617 Main Street\, Franklin\, LA\, 70538\, United States
ATTACH;FMTTYPE=image/jpeg:https://cajuncoast.com/wp-content/uploads/2025/09/Gather-on-Main-Thursdays-Cajun-Coast-e1757616989504.jpg
END:VEVENT
BEGIN:VEVENT
DTSTART;TZID=America/Chicago:20251213T173000
DTEND;TZID=America/Chicago:20251213T210000
DTSTAMP:20260421T215126
CREATED:20250911T185534Z
LAST-MODIFIED:20250911T185534Z
UID:10006209-1765647000-1765659600@cajuncoast.com
SUMMARY:Bernice St. Christmas Lighting
DESCRIPTION:Come out and enjoy the annual Christmas lighting on Bernice Street!
URL:https://cajuncoast.com/event/bernice-st-christmas-lighting/
LOCATION:Bernice Street Annual Christmas Lighting\, Bernice street\, Morgan city\, LA\, 70380\, United States
CATEGORIES:Annual Events
ATTACH;FMTTYPE=image/jpeg:https://cajuncoast.com/wp-content/uploads/2025/09/Bernice-Christmas-Lighting-Cajun-Coast-e1757616899765.jpg
END:VEVENT
BEGIN:VEVENT
DTSTART;TZID=America/Chicago:20251218T080000
DTEND;TZID=America/Chicago:20251218T183000
DTSTAMP:20260421T215126
CREATED:20250912T134606Z
LAST-MODIFIED:20250912T134606Z
UID:10006207-1766044800-1766082600@cajuncoast.com
SUMMARY:After Hours Evening Sip & Shop
DESCRIPTION:Join us for extended shopping and browsing Thursday evenings till’ 6:30pm!
URL:https://cajuncoast.com/event/after-hours-evening-sip-shop/2025-12-18/
LOCATION:Gather On Main\, 617 Main Street\, Franklin\, LA\, 70538\, United States
ATTACH;FMTTYPE=image/jpeg:https://cajuncoast.com/wp-content/uploads/2025/09/Gather-on-Main-Thursdays-Cajun-Coast-e1757616989504.jpg
END:VEVENT
BEGIN:VEVENT
DTSTART;TZID=America/Chicago:20251218T170000
DTEND;TZID=America/Chicago:20251218T200000
DTSTAMP:20260421T215126
CREATED:20251205T171806Z
LAST-MODIFIED:20251205T171806Z
UID:10006648-1766077200-1766088000@cajuncoast.com
SUMMARY:Third Thursday - Cookie Class
DESCRIPTION:Ginger Snap Creations will teach you basic cookie decorating skills\nKids ages 8 and up can join the fun from 5:30-6:30pm.\nAdults class will follow from 7:00-8:00pm.\n$25 will be due to Ginger Snap Creations before the class starts. All fees are non-redundable
URL:https://cajuncoast.com/event/third-thursday-cookie-class/
LOCATION:Sweet Tangerines Boutique\, 3103 First St.\, Berwick\, LA\, 70342\, United States
ATTACH;FMTTYPE=image/jpeg:https://cajuncoast.com/wp-content/uploads/2025/12/Third-Thursday-Cookie-Class-e1764955080111.jpg
ORGANIZER;CN="Sweet Tangerines Boutique":MAILTO:No email
END:VEVENT
BEGIN:VEVENT
DTSTART;TZID=America/Chicago:20251218T190000
DTEND;TZID=America/Chicago:20251218T220000
DTSTAMP:20260421T215126
CREATED:20251121T204639Z
LAST-MODIFIED:20251121T204639Z
UID:10006631-1766084400-1766095200@cajuncoast.com
SUMMARY:Christmas Pajama Jam
DESCRIPTION:Christmas onesies…. Holiday PJs….all are welcome.\nBring the cheer\, and we’ll bring the music!
URL:https://cajuncoast.com/event/christmas-pajama-jam/
LOCATION:Legend’s Lounge\, 520 Roderick Street\, Morgan City\, LA\, 70380\, United States
ATTACH;FMTTYPE=image/jpeg:https://cajuncoast.com/wp-content/uploads/2025/11/Christmas-Pajama-Jam-Cajun-Coast-e1763757986168.jpg
ORGANIZER;CN="Legend's Lounge":MAILTO:contact@morgansofmc.com
END:VEVENT
BEGIN:VEVENT
DTSTART;TZID=America/Chicago:20251223T093000
DTEND;TZID=America/Chicago:20251223T150000
DTSTAMP:20260421T215126
CREATED:20251209T212729Z
LAST-MODIFIED:20251209T212729Z
UID:10006655-1766482200-1766502000@cajuncoast.com
SUMMARY:Christmas Cake Decorating Class
DESCRIPTION:Need a little time to breathe or Christmas shop before Christmas?\nMessage to sign up for cake decorating class! Kids will decorate a basic vanilla cake with a fun Christmas theme.\nClasses are held at my home in Berwick. Hope to see y’all there!\nAges: 6 to 8\, 1:30 to 3:00\nAges: 9 to 12\, 9:30 to 11:00
URL:https://cajuncoast.com/event/christmas-cake-decorating-class/
LOCATION:For Cake’s Sake\, Berwick\, LA\, 70342\, United States
ATTACH;FMTTYPE=image/jpeg:https://cajuncoast.com/wp-content/uploads/2025/12/Christmas-Cake-Class-Cajun-Coast-e1765315637761.jpg
ORGANIZER;CN="For Cake's Sake":MAILTO:chasitycronier@gmail.com
END:VEVENT
BEGIN:VEVENT
DTSTART;TZID=America/Chicago:20251225T080000
DTEND;TZID=America/Chicago:20251225T183000
DTSTAMP:20260421T215126
CREATED:20250912T134606Z
LAST-MODIFIED:20250912T134606Z
UID:10006208-1766649600-1766687400@cajuncoast.com
SUMMARY:After Hours Evening Sip & Shop
DESCRIPTION:Join us for extended shopping and browsing Thursday evenings till’ 6:30pm!
URL:https://cajuncoast.com/event/after-hours-evening-sip-shop/2025-12-25/
LOCATION:Gather On Main\, 617 Main Street\, Franklin\, LA\, 70538\, United States
ATTACH;FMTTYPE=image/jpeg:https://cajuncoast.com/wp-content/uploads/2025/09/Gather-on-Main-Thursdays-Cajun-Coast-e1757616989504.jpg
END:VEVENT
BEGIN:VEVENT
DTSTART;TZID=America/Chicago:20251231T213000
DTEND;TZID=America/Chicago:20260101T003000
DTSTAMP:20260421T215126
CREATED:20251212T172812Z
LAST-MODIFIED:20251212T172812Z
UID:10006656-1767216600-1767227400@cajuncoast.com
SUMMARY:Sparkles & Sprits New Years Party
DESCRIPTION:We open at 5 but the party starts at 9:30!!!!\nCome ready to have fabulous cocktails and listen to great music with Left on Red!!
URL:https://cajuncoast.com/event/sparkles-sprits-new-years-party/
LOCATION:One80 Downtown\, 180 Canton Street\, Berwick\, LA\, 70342\, United States
ORGANIZER;CN="One80 Downtown":MAILTO:One80downtown@gmail.com
END:VEVENT
END:VCALENDAR