BEGIN:VCALENDAR
VERSION:2.0
PRODID:-//cajuncoast.com - ECPv6.15.20//NONSGML v1.0//EN
CALSCALE:GREGORIAN
METHOD:PUBLISH
X-ORIGINAL-URL:https://cajuncoast.com
X-WR-CALDESC:Events for cajuncoast.com
REFRESH-INTERVAL;VALUE=DURATION:PT1H
X-Robots-Tag:noindex
X-PUBLISHED-TTL:PT1H
BEGIN:VTIMEZONE
TZID:America/Chicago
BEGIN:DAYLIGHT
TZOFFSETFROM:-0600
TZOFFSETTO:-0500
TZNAME:CDT
DTSTART:20240310T080000
END:DAYLIGHT
BEGIN:STANDARD
TZOFFSETFROM:-0500
TZOFFSETTO:-0600
TZNAME:CST
DTSTART:20241103T070000
END:STANDARD
BEGIN:DAYLIGHT
TZOFFSETFROM:-0600
TZOFFSETTO:-0500
TZNAME:CDT
DTSTART:20250309T080000
END:DAYLIGHT
BEGIN:STANDARD
TZOFFSETFROM:-0500
TZOFFSETTO:-0600
TZNAME:CST
DTSTART:20251102T070000
END:STANDARD
BEGIN:DAYLIGHT
TZOFFSETFROM:-0600
TZOFFSETTO:-0500
TZNAME:CDT
DTSTART:20260308T080000
END:DAYLIGHT
BEGIN:STANDARD
TZOFFSETFROM:-0500
TZOFFSETTO:-0600
TZNAME:CST
DTSTART:20261101T070000
END:STANDARD
END:VTIMEZONE
BEGIN:VEVENT
DTSTART;TZID=America/Chicago:20251004T080000
DTEND;TZID=America/Chicago:20251004T170000
DTSTAMP:20260422T040224
CREATED:20250821T213043Z
LAST-MODIFIED:20250821T213043Z
UID:10006159-1759564800-1759597200@cajuncoast.com
SUMMARY:Fall Fragrance Launch with Fifolet Candle Makers
DESCRIPTION:Be the first to experience our new fall and holiday fragrances.
URL:https://cajuncoast.com/event/fall-fragrance-launch-with-fifolet-candle-makers/
LOCATION:Gather On Main\, 617 Main Street\, Franklin\, LA\, 70538\, United States
ATTACH;FMTTYPE=image/jpeg:https://cajuncoast.com/wp-content/uploads/2025/08/Gather-to-Main-event-Schedule-Cajun-Coast-e1755811836520.jpg
ORGANIZER;CN="FIFOLET Candle Makers":MAILTO:info@FIFOLETcandles.com
END:VEVENT
BEGIN:VEVENT
DTSTART;TZID=America/Chicago:20251004T100000
DTEND;TZID=America/Chicago:20251004T130000
DTSTAMP:20260422T040224
CREATED:20250923T151354Z
LAST-MODIFIED:20250923T151354Z
UID:10006225-1759572000-1759582800@cajuncoast.com
SUMMARY:Central Catholic Fall Fest
DESCRIPTION:Food\, Fun\, & Fellowship!\n$10 bracelet for school-aged children!\nCC burgers will be sold! Food auction\, fun jumps\, face painting\, dunk tank\, petting zoo\, craft vendors\, ice cream truck\, and so much more!
URL:https://cajuncoast.com/event/central-catholic-fall-fest-2/
LOCATION:Central Catholic\, 2100 Cedar Street\, Morgan City\, LA\, 70380\, United States
ATTACH;FMTTYPE=image/jpeg:https://cajuncoast.com/wp-content/uploads/2025/09/Central-Catholic-Fall-Fest-Cajun-Coast-1-e1758640411350.jpg
ORGANIZER;CN="Central Catholic":MAILTO:cceoffice@htdiocese.org
END:VEVENT
BEGIN:VEVENT
DTSTART;TZID=America/Chicago:20251004T100000
DTEND;TZID=America/Chicago:20251004T140000
DTSTAMP:20260422T040224
CREATED:20251002T163726Z
LAST-MODIFIED:20251002T163933Z
UID:10006247-1759572000-1759586400@cajuncoast.com
SUMMARY:Plantiful Vibes Farmers Market
DESCRIPTION:“PlantifulVibes” Farmers Market. Open to all!\nWe’re so excited to bring you the best of local\, fresh produce\, homemade goods\, and a great community vibe.\nCome support local farmers and artisans while enjoying a fun\, family-friendly atmosphere.\nStay tuned for regular updates\, vendor spotlights\, and special market events!\nFor more information contact T’ala at 337-339-1992.\nVendors wanted!!!
URL:https://cajuncoast.com/event/plantiful-vibes-farmers-market-2/
LOCATION:Plantiful Vibes Farmers Market\, 1115 1st St\, Patterson\, LA\, 70392\, United States
ATTACH;FMTTYPE=image/jpeg:https://cajuncoast.com/wp-content/uploads/2025/09/Farmers-Market-Plantiful-Vibes-Cajun-Coast-e1759423029666.jpg
ORGANIZER;CN="Plantifulvibes Farmers Market":MAILTO:Plantifulvibes@gmail.com
END:VEVENT
BEGIN:VEVENT
DTSTART;TZID=America/Chicago:20251004T100000
DTEND;TZID=America/Chicago:20251004T140000
DTSTAMP:20260422T040224
CREATED:20251009T163359Z
LAST-MODIFIED:20260113T200044Z
UID:10006741-1759572000-1759586400@cajuncoast.com
SUMMARY:Plantiful Vibes Farmers Market
DESCRIPTION:Open to all! We’re so excited to bring you the best of local\, fresh produce\, homemade goods\, and a great community vibe. The market is open every weekend from 10 am- 2 pm at 1115 First Street\, Patterson La. 70392. Come support local farmers and artisans while enjoying a fun\, family-friendly atmosphere. Stay tuned for regular updates\, vendor spotlights\, and special market events! For more information\, contact T’ala at 337-339-1992. Now Accepting Licensed Vendors.
URL:https://cajuncoast.com/event/plantiful-vibes-farmers-market-3/2025-10-04/
LOCATION:Plantiful Vibes Farmers Market\, 1115 1st St\, Patterson\, LA\, 70392\, United States
ATTACH;FMTTYPE=image/jpeg:https://cajuncoast.com/wp-content/uploads/2025/10/Plantifulvibes-Cajun-Coast-e1760027626163.jpg
ORGANIZER;CN="Plantifulvibes Farmers Market":MAILTO:Plantifulvibes@gmail.com
END:VEVENT
BEGIN:VEVENT
DTSTART;TZID=America/Chicago:20251004T100000
DTEND;TZID=America/Chicago:20251004T170000
DTSTAMP:20260422T040224
CREATED:20250821T213933Z
LAST-MODIFIED:20250821T213933Z
UID:10006160-1759572000-1759597200@cajuncoast.com
SUMMARY:Gather on Mains 3rd Birthday
DESCRIPTION:Celebrate with us all day! There will be finger foods\, refreshments\, and some fun shopping time!
URL:https://cajuncoast.com/event/gather-on-mains-3rd-birthday/
LOCATION:Gather On Main\, 617 Main Street\, Franklin\, LA\, 70538\, United States
CATEGORIES:Annual Events
ATTACH;FMTTYPE=image/jpeg:https://cajuncoast.com/wp-content/uploads/2025/08/Gather-to-Main-event-Schedule-Cajun-Coast-1-e1755812362738.jpg
END:VEVENT
BEGIN:VEVENT
DTSTART;TZID=America/Chicago:20251004T160000
DTEND;TZID=America/Chicago:20251004T180000
DTSTAMP:20260422T040224
CREATED:20250821T200639Z
LAST-MODIFIED:20250911T175016Z
UID:10006151-1759593600-1759600800@cajuncoast.com
SUMMARY:"Puttin on the Pink"
DESCRIPTION:Roots and Ribbons Foundation & the Tri-City Track Club present “Puttin’ on the Pink\,” a 5K Race & Two-Mile Walk promoting breast cancer awareness\, support & survivorship.\nRewards for biggest team and the best breast cancer theme.
URL:https://cajuncoast.com/event/puttin-on-the-pink/
LOCATION:Morey Park\, Main Street\, Patterson\, 70392\, United States
CATEGORIES:Annual Events
ATTACH;FMTTYPE=image/png:https://cajuncoast.com/wp-content/uploads/2025/08/Roots-and-Ribbons-e1755806789275.png
ORGANIZER;CN="Roots &amp%3B Ribbons Foundation":MAILTO:rootsandribbonsfoundation@gmail.com
END:VEVENT
BEGIN:VEVENT
DTSTART;TZID=America/Chicago:20251004T190000
DTEND;TZID=America/Chicago:20251004T210000
DTSTAMP:20260422T040224
CREATED:20250923T170647Z
LAST-MODIFIED:20250923T170647Z
UID:10006230-1759604400-1759611600@cajuncoast.com
SUMMARY:Cajun Rodeo Association Far South Rodeo
DESCRIPTION:Cajun Rodeo Association and Far South Bucking Bulls are teaming up for a night of thrilling rodeo action!\nAt ABBC Arena\nMutton Bustin starts at 7pm – $25/child\nAdults – $15\nKids 6-10 – $10\n5 & Under – Free
URL:https://cajuncoast.com/event/cajun-rodeo-association-far-south-rodeo/
LOCATION:ABBC – Morgan City\, LA\, 1347 Youngs Rd\, Morgan City\, LA\, 70380\, United States
ATTACH;FMTTYPE=image/jpeg:https://cajuncoast.com/wp-content/uploads/2025/09/Far-South-Rodeo-Cajun-Coast-e1758647199141.jpg
ORGANIZER;CN="ABBC - Morgan City%2C LA":MAILTO:No Email available
END:VEVENT
BEGIN:VEVENT
DTSTART;TZID=America/Chicago:20251004T210000
DTEND;TZID=America/Chicago:20251005T020000
DTSTAMP:20260422T040224
CREATED:20251002T180852Z
LAST-MODIFIED:20251002T180852Z
UID:10006231-1759611600-1759629600@cajuncoast.com
SUMMARY:FSHS 2nd Annual Gala
DESCRIPTION:The Franklin Alumni Chapter of Kappa Alpha Psi presents: FSHS 2nd Annual Gala!\n9 P – 2 A All black attire\, dress code will be strictly enforced!\nLive Entertainment!!!
URL:https://cajuncoast.com/event/fshs-2nd-annual-gala/
LOCATION:Pavilion at Cypress Bayou Casino\, 832 Martin Luther King Rd\, Baldwin\, LA\, 70514\, United States
CATEGORIES:Annual Events
ATTACH;FMTTYPE=image/jpeg:https://cajuncoast.com/wp-content/uploads/2025/09/FSHS-Cajun-Coast-e1759428523573.jpg
ORGANIZER;CN="City of Franklin":MAILTO:info@franklin-la.com
END:VEVENT
END:VCALENDAR