BEGIN:VCALENDAR
VERSION:2.0
PRODID:-//cajuncoast.com - ECPv6.15.20//NONSGML v1.0//EN
CALSCALE:GREGORIAN
METHOD:PUBLISH
X-WR-CALNAME:cajuncoast.com
X-ORIGINAL-URL:https://cajuncoast.com
X-WR-CALDESC:Events for cajuncoast.com
REFRESH-INTERVAL;VALUE=DURATION:PT1H
X-Robots-Tag:noindex
X-PUBLISHED-TTL:PT1H
BEGIN:VTIMEZONE
TZID:America/Chicago
BEGIN:DAYLIGHT
TZOFFSETFROM:-0600
TZOFFSETTO:-0500
TZNAME:CDT
DTSTART:20240310T080000
END:DAYLIGHT
BEGIN:STANDARD
TZOFFSETFROM:-0500
TZOFFSETTO:-0600
TZNAME:CST
DTSTART:20241103T070000
END:STANDARD
BEGIN:DAYLIGHT
TZOFFSETFROM:-0600
TZOFFSETTO:-0500
TZNAME:CDT
DTSTART:20250309T080000
END:DAYLIGHT
BEGIN:STANDARD
TZOFFSETFROM:-0500
TZOFFSETTO:-0600
TZNAME:CST
DTSTART:20251102T070000
END:STANDARD
BEGIN:DAYLIGHT
TZOFFSETFROM:-0600
TZOFFSETTO:-0500
TZNAME:CDT
DTSTART:20260308T080000
END:DAYLIGHT
BEGIN:STANDARD
TZOFFSETFROM:-0500
TZOFFSETTO:-0600
TZNAME:CST
DTSTART:20261101T070000
END:STANDARD
END:VTIMEZONE
BEGIN:VEVENT
DTSTART;TZID=America/Chicago:20251016T080000
DTEND;TZID=America/Chicago:20251016T170000
DTSTAMP:20260420T055137
CREATED:20251016T164441Z
LAST-MODIFIED:20251016T164441Z
UID:10006451-1760601600-1760634000@cajuncoast.com
SUMMARY:Patterson DU Chapter Kick Off Night
DESCRIPTION:Join us at The Atchafalaya Room at Idlewild to be a part of restarting the Patterson DU Chapter of Ducks Unlimited!\nLearn how you can become part of the Patterson Chapter and make a difference for future generations of waterfowl hunters.\nFree to attend\, drinks provided!
URL:https://cajuncoast.com/event/patterson-du-chapter-kick-off-night/
LOCATION:The Atchafalaya At Idlewild Golf Course\, 400 Cotten Rd.\, Patterson\, LA\, 70392\, United States
ATTACH;FMTTYPE=image/jpeg:https://cajuncoast.com/wp-content/uploads/2025/10/Kick-Off-Night-Cajun-Coast-e1760633062686.jpg
END:VEVENT
BEGIN:VEVENT
DTSTART;TZID=America/Chicago:20251016T080000
DTEND;TZID=America/Chicago:20251016T183000
DTSTAMP:20260420T055137
CREATED:20250912T134606Z
LAST-MODIFIED:20250912T134606Z
UID:10006198-1760601600-1760639400@cajuncoast.com
SUMMARY:After Hours Evening Sip & Shop
DESCRIPTION:Join us for extended shopping and browsing Thursday evenings till’ 6:30pm!
URL:https://cajuncoast.com/event/after-hours-evening-sip-shop/2025-10-16/
LOCATION:Gather On Main\, 617 Main Street\, Franklin\, LA\, 70538\, United States
ATTACH;FMTTYPE=image/jpeg:https://cajuncoast.com/wp-content/uploads/2025/09/Gather-on-Main-Thursdays-Cajun-Coast-e1757616989504.jpg
END:VEVENT
END:VCALENDAR