BEGIN:VCALENDAR
VERSION:2.0
PRODID:-//cajuncoast.com - ECPv6.15.20//NONSGML v1.0//EN
CALSCALE:GREGORIAN
METHOD:PUBLISH
X-ORIGINAL-URL:https://cajuncoast.com
X-WR-CALDESC:Events for cajuncoast.com
REFRESH-INTERVAL;VALUE=DURATION:PT1H
X-Robots-Tag:noindex
X-PUBLISHED-TTL:PT1H
BEGIN:VTIMEZONE
TZID:America/Chicago
BEGIN:DAYLIGHT
TZOFFSETFROM:-0600
TZOFFSETTO:-0500
TZNAME:CDT
DTSTART:20240310T080000
END:DAYLIGHT
BEGIN:STANDARD
TZOFFSETFROM:-0500
TZOFFSETTO:-0600
TZNAME:CST
DTSTART:20241103T070000
END:STANDARD
BEGIN:DAYLIGHT
TZOFFSETFROM:-0600
TZOFFSETTO:-0500
TZNAME:CDT
DTSTART:20250309T080000
END:DAYLIGHT
BEGIN:STANDARD
TZOFFSETFROM:-0500
TZOFFSETTO:-0600
TZNAME:CST
DTSTART:20251102T070000
END:STANDARD
BEGIN:DAYLIGHT
TZOFFSETFROM:-0600
TZOFFSETTO:-0500
TZNAME:CDT
DTSTART:20260308T080000
END:DAYLIGHT
BEGIN:STANDARD
TZOFFSETFROM:-0500
TZOFFSETTO:-0600
TZNAME:CST
DTSTART:20261101T070000
END:STANDARD
END:VTIMEZONE
BEGIN:VEVENT
DTSTART;TZID=America/Chicago:20251018T180000
DTEND;TZID=America/Chicago:20251018T210000
DTSTAMP:20260420T133851
CREATED:20250905T162230Z
LAST-MODIFIED:20250905T162230Z
UID:10006183-1760810400-1760821200@cajuncoast.com
SUMMARY:Murder Mystery Dinner: Death of a Gangster
DESCRIPTION:Hosted by Morgan City Main Street.\nTickets are $65 per person and include dinner & entertainment.\nThere will also be a cash bar and you must be 18 or older to attend.\nStep into the Roaring 20s and play your part in Death of a Gangster\,\nan interactive murder mystery dinner like no other! The year is 1920-something…\nthe mob is running the show\, & tonight—at a mafia marriage celebration—things take a deadly turn.\nSecrets will be spilled\, alliances broken\, & not everyone will leave alive.\nDress to impress in flapper dresses\, feathers & pearls\, or don your pinstripes & fedoras—because\nin this world\, style is everything… and trust in nothing.\nTickets are limited\, so secure your spot before it’s too late.\nWill you be the culprit\, the victim\, or the one who solves the crime?\nYou can get your tickets at https://givebutter.com/zgNfRj.
URL:https://cajuncoast.com/event/murder-mystery-dinner-death-of-a-gangster-2/
LOCATION:Petroleum Club of Morgan City\, 500 Roderick Street\, Morgan City\, LA\, 70380\, United States
ATTACH;FMTTYPE=image/jpeg:https://cajuncoast.com/wp-content/uploads/2025/09/Murder-Mystery-Dinner-Cajun-Coast-1-e1757089333777.jpg
ORGANIZER;CN="Morgan City Main Street":MAILTO:No Email available
END:VEVENT
END:VCALENDAR