BEGIN:VCALENDAR
VERSION:2.0
PRODID:-//cajuncoast.com - ECPv6.15.20//NONSGML v1.0//EN
CALSCALE:GREGORIAN
METHOD:PUBLISH
X-ORIGINAL-URL:https://cajuncoast.com
X-WR-CALDESC:Events for cajuncoast.com
REFRESH-INTERVAL;VALUE=DURATION:PT1H
X-Robots-Tag:noindex
X-PUBLISHED-TTL:PT1H
BEGIN:VTIMEZONE
TZID:America/Chicago
BEGIN:DAYLIGHT
TZOFFSETFROM:-0600
TZOFFSETTO:-0500
TZNAME:CDT
DTSTART:20250309T080000
END:DAYLIGHT
BEGIN:STANDARD
TZOFFSETFROM:-0500
TZOFFSETTO:-0600
TZNAME:CST
DTSTART:20251102T070000
END:STANDARD
BEGIN:DAYLIGHT
TZOFFSETFROM:-0600
TZOFFSETTO:-0500
TZNAME:CDT
DTSTART:20260308T080000
END:DAYLIGHT
BEGIN:STANDARD
TZOFFSETFROM:-0500
TZOFFSETTO:-0600
TZNAME:CST
DTSTART:20261101T070000
END:STANDARD
BEGIN:DAYLIGHT
TZOFFSETFROM:-0600
TZOFFSETTO:-0500
TZNAME:CDT
DTSTART:20270314T080000
END:DAYLIGHT
BEGIN:STANDARD
TZOFFSETFROM:-0500
TZOFFSETTO:-0600
TZNAME:CST
DTSTART:20271107T070000
END:STANDARD
END:VTIMEZONE
BEGIN:VEVENT
DTSTART;TZID=America/Chicago:20260117T190000
DTEND;TZID=America/Chicago:20260117T210000
DTSTAMP:20260424T102344
CREATED:20251212T172405Z
LAST-MODIFIED:20251212T172405Z
UID:10006661-1768676400-1768683600@cajuncoast.com
SUMMARY:35th Annual Cotillion
DESCRIPTION:Hosted by Alpha Kappa Alpha Sorority\, Inc. – Iota Eta Omega Chapter.\nThe Iota Eta Omega Chapter of Alpha Kappa Alpha Sorority\,\nIncorporated warmly invites you to their 35th Annual Cotillion –\na timeless celebration of poise\, purpose\, and prestige. Formal attire required.\nJoin them for an enchanting evening at The Ivy Ball\, where elegance\, beauty\, and grace\ntake center stages as they proudly present their exquisite debutantes.\nTickets are available through and chapter member or email at iotaetaomega@gmail.com.\nThey look forward to sharing this unforgettable night with you.
URL:https://cajuncoast.com/event/35th-annual-cotillion/
LOCATION:Patterson Civic Center\, 116 Cotten Road Patterson\, Patterson\, LA\, 70392\, United States
ATTACH;FMTTYPE=image/jpeg:https://cajuncoast.com/wp-content/uploads/2025/12/35th-annual-cotillion-e1765560213202.jpg
ORGANIZER;CN="Alpha Kappa Alpha Sorority%2C Inc. - Iota Eta Omega Chapter":MAILTO:iotaetaomega@gmail.com
END:VEVENT
END:VCALENDAR