BEGIN:VCALENDAR
VERSION:2.0
PRODID:-//cajuncoast.com - ECPv6.15.20//NONSGML v1.0//EN
CALSCALE:GREGORIAN
METHOD:PUBLISH
X-ORIGINAL-URL:https://cajuncoast.com
X-WR-CALDESC:Events for cajuncoast.com
REFRESH-INTERVAL;VALUE=DURATION:PT1H
X-Robots-Tag:noindex
X-PUBLISHED-TTL:PT1H
BEGIN:VTIMEZONE
TZID:America/Chicago
BEGIN:DAYLIGHT
TZOFFSETFROM:-0600
TZOFFSETTO:-0500
TZNAME:CDT
DTSTART:20230312T080000
END:DAYLIGHT
BEGIN:STANDARD
TZOFFSETFROM:-0500
TZOFFSETTO:-0600
TZNAME:CST
DTSTART:20231105T070000
END:STANDARD
BEGIN:DAYLIGHT
TZOFFSETFROM:-0600
TZOFFSETTO:-0500
TZNAME:CDT
DTSTART:20240310T080000
END:DAYLIGHT
BEGIN:STANDARD
TZOFFSETFROM:-0500
TZOFFSETTO:-0600
TZNAME:CST
DTSTART:20241103T070000
END:STANDARD
BEGIN:DAYLIGHT
TZOFFSETFROM:-0600
TZOFFSETTO:-0500
TZNAME:CDT
DTSTART:20250309T080000
END:DAYLIGHT
BEGIN:STANDARD
TZOFFSETFROM:-0500
TZOFFSETTO:-0600
TZNAME:CST
DTSTART:20251102T070000
END:STANDARD
BEGIN:DAYLIGHT
TZOFFSETFROM:-0600
TZOFFSETTO:-0500
TZNAME:CDT
DTSTART:20260308T080000
END:DAYLIGHT
BEGIN:STANDARD
TZOFFSETFROM:-0500
TZOFFSETTO:-0600
TZNAME:CST
DTSTART:20261101T070000
END:STANDARD
END:VTIMEZONE
BEGIN:VEVENT
DTSTART;TZID=America/Chicago:20251213T120000
DTEND;TZID=America/Chicago:20251213T140000
DTSTAMP:20260421T214959
CREATED:20251107T175015Z
LAST-MODIFIED:20251212T225816Z
UID:10006488-1765627200-1765634400@cajuncoast.com
SUMMARY:Teddy Bear Tea at Arlington Mansion
DESCRIPTION:Bring your children and their teddy bears to this memorable holiday tradition!\nEnjoy our holiday selection of gourmet teas\, fine finger sandwiches\, warm scones served with preserves and vanilla bean cream\, and a variety of petite desserts. Children will be offered hot chocolate\, lemonade\, Nutella croissants and peanut butter and jelly sandwiches as alternatives.\nEvery child will receive a gift to take home.\n$45.00 for adults\, $30.00 for children 12 and under.
URL:https://cajuncoast.com/event/teddy-bear-tea-at-arlington-mansion/
LOCATION:Arlington Masnion\, 11532 Hwy. 182\, Franklin\, LA\, 70538\, United States
CATEGORIES:Annual Events
ATTACH;FMTTYPE=image/jpeg:https://cajuncoast.com/wp-content/uploads/2025/11/Arlington-Mansion-Teddy-Bear-Tea-Cajun-Coast-1-e1765580286380.jpg
ORGANIZER;CN="Arlington Mansion":MAILTO:Events@ArlingtonMansion.com
END:VEVENT
BEGIN:VEVENT
DTSTART;TZID=America/Chicago:20251130T110000
DTEND;TZID=America/Chicago:20251130T170000
DTSTAMP:20260421T214959
CREATED:20251104T170320Z
LAST-MODIFIED:20251112T165304Z
UID:10006485-1764500400-1764522000@cajuncoast.com
SUMMARY:Santa and Family Mini Photos
DESCRIPTION:Santa Minis + Family Minis at the Beautiful Arlington Mansion!\nIt’s that magical time of year again! Join us at the stunning Arlington Mansion for a day of holiday memories.\nSanta Minis\n11:00 AM – 3:00 PM\nFamily Minis\n3:00 PM – 5:00 PM\nOnly $99 per session!\nSpots are limited\, so don’t miss this chance to capture timeless holiday portraits in a gorgeous setting.\nSign-up link coming soon — stay tuned!
URL:https://cajuncoast.com/event/santa-and-family-mini-photos/
LOCATION:Arlington Masnion\, 11532 Hwy. 182\, Franklin\, LA\, 70538\, United States
ATTACH;FMTTYPE=image/jpeg:https://cajuncoast.com/wp-content/uploads/2025/11/Santa-minis-Arlington-Mansion-Cajun-Coast-e1762275784417.jpg
ORGANIZER;CN="Arlington Mansion":MAILTO:Events@ArlingtonMansion.com
END:VEVENT
BEGIN:VEVENT
DTSTART;TZID=America/Chicago:20250701T113000
DTEND;TZID=America/Chicago:20250701T133000
DTSTAMP:20260421T214959
CREATED:20250527T164147Z
LAST-MODIFIED:20250603T182547Z
UID:10004955-1751369400-1751376600@cajuncoast.com
SUMMARY:Arlington Mansion
DESCRIPTION:Ribbon Cutting & Historical Marker Dedication for Arlington Mansion that was established in 1830.\nThey invite you to join them to celebrate their Ribbon Cutting Ceremony and the dedication of their State Historical Marker!\nRefreshments will be provided\, and the Mansion will be open to visitors.\nThey look forward to seeing you!
URL:https://cajuncoast.com/event/arlington-mansion/
LOCATION:Arlington Masnion\, 11532 Hwy. 182\, Franklin\, LA\, 70538\, United States
ATTACH;FMTTYPE=image/jpeg:https://cajuncoast.com/wp-content/uploads/2025/05/Arlington-Mansion-Cajun-Coast-e1748364096896.jpg
ORGANIZER;CN="Arlington Mansion":MAILTO:Events@ArlingtonMansion.com
END:VEVENT
BEGIN:VEVENT
DTSTART;TZID=America/Chicago:20250427T140000
DTEND;TZID=America/Chicago:20250427T160000
DTSTAMP:20260421T214959
CREATED:20250318T162735Z
LAST-MODIFIED:20250318T162735Z
UID:10004407-1745762400-1745769600@cajuncoast.com
SUMMARY:High Tea & Cocktails
DESCRIPTION:Hosted by Arlington Mansion; 11532 Hwy 182\, Franklin at 2pm in the English Gardens.\nYou are cordially invited to the most splendid social gathering of the season!\nTake your place in society by joining the English Gardens for an afternoon of High Tea\, Delectable Treats\, and Signature Cocktails.\nRegency or Bridgerton style attire is welcomed but not required.\nEach ticket will include tea\, delicate finger sandwiches\, savory bites\, warm scones with preserves and cream\,\nfresh fruit\, elegant sweets\, and a glass of our Lady Whistledown Cocktail or Champagne (for those 21 years and above).\nA cash bar will be available to purchase additional cocktails.\nChildren are welcome for $25 each\, cash in person.\nAdults are $50. Tickets must be purchased in advance at Arlington/Mansion.com/Book-Online.
URL:https://cajuncoast.com/event/high-tea-cocktails/
LOCATION:Arlington Masnion\, 11532 Hwy. 182\, Franklin\, LA\, 70538\, United States
ATTACH;FMTTYPE=image/jpeg:https://cajuncoast.com/wp-content/uploads/2025/03/High-Tea-Cocktails-e1742315227414.jpg
ORGANIZER;CN="Arlington Mansion":MAILTO:Events@ArlingtonMansion.com
END:VEVENT
BEGIN:VEVENT
DTSTART;TZID=America/Chicago:20241215T110000
DTEND;TZID=America/Chicago:20241215T150000
DTSTAMP:20260421T214959
CREATED:20241122T203023Z
LAST-MODIFIED:20241122T203023Z
UID:10003951-1734260400-1734274800@cajuncoast.com
SUMMARY:Arlington Mansion Holiday Home Tour
DESCRIPTION:Hosted by Arlington Mansion.\nGet in the Christmas Spirit with a tour of Arlington Mansion decked out for the Holidays!\nAfter your tour you are welcome to enjoy the beautiful grounds and gardens and take family photos of your own.\n$10 per adult.\nWarm up with some hot chocolate and cookies!\nSanta will be here to meet and take photos! $20 per photo
URL:https://cajuncoast.com/event/arlington-mansion-holiday-home-tour/
LOCATION:Arlington Masnion\, 11532 Hwy. 182\, Franklin\, LA\, 70538\, United States
ATTACH;FMTTYPE=image/jpeg:https://cajuncoast.com/wp-content/uploads/2024/11/Arlington-Mansion-1-e1732306894652.jpg
ORGANIZER;CN="Arlington Mansion":MAILTO:Events@ArlingtonMansion.com
END:VEVENT
BEGIN:VEVENT
DTSTART;TZID=America/Chicago:20241215T110000
DTEND;TZID=America/Chicago:20241215T150000
DTSTAMP:20260421T214959
CREATED:20241118T161756Z
LAST-MODIFIED:20241118T161756Z
UID:10003950-1734260400-1734274800@cajuncoast.com
SUMMARY:Meet Santa
DESCRIPTION:Hosted by Arlington Mansion.\nMeet Santa and take some photos while enjoying cookies and hot chocolate.\nEveryone will take home a photo with Santa.\n$20 cash for your personal visit.
URL:https://cajuncoast.com/event/meet-santa/
LOCATION:Arlington Masnion\, 11532 Hwy. 182\, Franklin\, LA\, 70538\, United States
ATTACH;FMTTYPE=image/jpeg:https://cajuncoast.com/wp-content/uploads/2024/11/Arlington-Mansion-e1731946597337.jpg
ORGANIZER;CN="Arlington Mansion":MAILTO:Events@ArlingtonMansion.com
END:VEVENT
BEGIN:VEVENT
DTSTART;TZID=America/Chicago:20241214T100000
DTEND;TZID=America/Chicago:20241214T120000
DTSTAMP:20260421T214959
CREATED:20240930T150024Z
LAST-MODIFIED:20240930T150024Z
UID:10003072-1734170400-1734177600@cajuncoast.com
SUMMARY:2nd Annual Christmas Teddy Bear Tea
DESCRIPTION:Hosted by Arlington Mansion.\nIndulge in a variety of festive foods and delectable sweets\, all while sipping on delicious teas and hot chocolate.\nEnjoy the cheerful ambiance as we play enchanting Christmas music that will get everyone in the holiday spirit!\nCome dressed in your favorite attire. Bring your teddy bear for a day of fun and friendship.\nCapture the magic with photos around the beautifully decorated mansion\, and each child will receive a gift.\nAdults $40 and children 10 and under $30.
URL:https://cajuncoast.com/event/2nd-annual-christmas-teddy-bear-tea/
LOCATION:Arlington Mansion\, 11532 Highway 182\, Franklin\, LA\, 70538\, United States
ATTACH;FMTTYPE=image/jpeg:https://cajuncoast.com/wp-content/uploads/2024/09/2nd-Annual-Christmas-Teddy-Bear-Tea-e1727708413810.jpg
ORGANIZER;CN="Arlington Mansion":MAILTO:Events@ArlingtonMansion.com
END:VEVENT
END:VCALENDAR