BEGIN:VCALENDAR
VERSION:2.0
PRODID:-//cajuncoast.com - ECPv6.15.20//NONSGML v1.0//EN
CALSCALE:GREGORIAN
METHOD:PUBLISH
X-ORIGINAL-URL:https://cajuncoast.com
X-WR-CALDESC:Events for cajuncoast.com
REFRESH-INTERVAL;VALUE=DURATION:PT1H
X-Robots-Tag:noindex
X-PUBLISHED-TTL:PT1H
BEGIN:VTIMEZONE
TZID:America/Chicago
BEGIN:DAYLIGHT
TZOFFSETFROM:-0600
TZOFFSETTO:-0500
TZNAME:CDT
DTSTART:20240310T080000
END:DAYLIGHT
BEGIN:STANDARD
TZOFFSETFROM:-0500
TZOFFSETTO:-0600
TZNAME:CST
DTSTART:20241103T070000
END:STANDARD
BEGIN:DAYLIGHT
TZOFFSETFROM:-0600
TZOFFSETTO:-0500
TZNAME:CDT
DTSTART:20250309T080000
END:DAYLIGHT
BEGIN:STANDARD
TZOFFSETFROM:-0500
TZOFFSETTO:-0600
TZNAME:CST
DTSTART:20251102T070000
END:STANDARD
BEGIN:DAYLIGHT
TZOFFSETFROM:-0600
TZOFFSETTO:-0500
TZNAME:CDT
DTSTART:20260308T080000
END:DAYLIGHT
BEGIN:STANDARD
TZOFFSETFROM:-0500
TZOFFSETTO:-0600
TZNAME:CST
DTSTART:20261101T070000
END:STANDARD
END:VTIMEZONE
BEGIN:VEVENT
DTSTART;TZID=America/Chicago:20250616T080000
DTEND;TZID=America/Chicago:20250621T170000
DTSTAMP:20260420T150501
CREATED:20250519T192921Z
LAST-MODIFIED:20250519T195634Z
UID:10004943-1750060800-1750525200@cajuncoast.com
SUMMARY:G.G. King Bass Tactix National Championship
DESCRIPTION:The G.G. King Bass Tactix National Championship\, hosted by Cajun Coast Tourism & Bass Tactix Sponsors\, will be held at Doiron’s Landing on June 16-21. Go to their website or Facebook for more information. \nPayouts: Guaranteed 10 Thousand for 1st Place. Coach -2K\, Youth- 3K and HS- 5K and paying out one spot per 7 Boats… $ 100\,000.00 Scholarship Opportunity \nMANDATORY MEETING:  Anglers and Adult Representative\nMeeting Location: Bayou Vista Community Center\nAddress: 1333 Bellview Street\, Morgan City\, LA \nHost Hotels: Holiday Inn Express\, Morgan City. Ph: 985-300-5300 & Clarion Inn: Ph: 985-918-5537 \nCLICK Here to Register:   2025 G.G. King National Championship- Morgan City\, LA \nMeeting Date: Wednesday June 18\, 2025\nCheck-In Time: 5PM – 6PM\nMeeting Time: 6PM\nTournament: June 16-21\, 2025\nOfficial Practice: June 16-18\, 2025\nTournament Days: June 19-21\, 2025\nCoach Championship: June 19\, 2025 ( Coach Fish Only\, but Youth can be in the boat )\nYouth & High School Championship: June 20-21\, 2025 ( Youth and HS Fish Only )\n \nOFF LIMITS for Information: NO GUIDES\, NO gathering of information etc..  June 12-15\, 2025. If there is even a remote doubt in your mind about if you are correct in your practice or fishing method\, call 601.307.8492 or 205.765.8020\, 958.790.9974
URL:https://cajuncoast.com/event/g-g-king-bass-tactix-national-championship/
LOCATION:Doiron’s Landing\, 3185 LA-70\, Morgan City\, LA\, 70380\, United States
ATTACH;FMTTYPE=image/jpeg:https://cajuncoast.com/wp-content/uploads/2025/05/G.G.-King-Bass-Tactix-National-Championship-e1747684568522.jpg
END:VEVENT
END:VCALENDAR