BEGIN:VCALENDAR
VERSION:2.0
PRODID:-//cajuncoast.com - ECPv6.15.20//NONSGML v1.0//EN
CALSCALE:GREGORIAN
METHOD:PUBLISH
X-ORIGINAL-URL:https://cajuncoast.com
X-WR-CALDESC:Events for cajuncoast.com
REFRESH-INTERVAL;VALUE=DURATION:PT1H
X-Robots-Tag:noindex
X-PUBLISHED-TTL:PT1H
BEGIN:VTIMEZONE
TZID:America/Chicago
BEGIN:DAYLIGHT
TZOFFSETFROM:-0600
TZOFFSETTO:-0500
TZNAME:CDT
DTSTART:20230312T080000
END:DAYLIGHT
BEGIN:STANDARD
TZOFFSETFROM:-0500
TZOFFSETTO:-0600
TZNAME:CST
DTSTART:20231105T070000
END:STANDARD
BEGIN:DAYLIGHT
TZOFFSETFROM:-0600
TZOFFSETTO:-0500
TZNAME:CDT
DTSTART:20240310T080000
END:DAYLIGHT
BEGIN:STANDARD
TZOFFSETFROM:-0500
TZOFFSETTO:-0600
TZNAME:CST
DTSTART:20241103T070000
END:STANDARD
BEGIN:DAYLIGHT
TZOFFSETFROM:-0600
TZOFFSETTO:-0500
TZNAME:CDT
DTSTART:20250309T080000
END:DAYLIGHT
BEGIN:STANDARD
TZOFFSETFROM:-0500
TZOFFSETTO:-0600
TZNAME:CST
DTSTART:20251102T070000
END:STANDARD
END:VTIMEZONE
BEGIN:VEVENT
DTSTART;TZID=America/Chicago:20240720T183000
DTEND;TZID=America/Chicago:20240720T213000
DTSTAMP:20260423T065244
CREATED:20240524T163758Z
LAST-MODIFIED:20240626T214417Z
UID:10001929-1721500200-1721511000@cajuncoast.com
SUMMARY:1st Anniversary Celebration Party for the Wellness Center at Bayou Bend
DESCRIPTION:Bayou Bend is presenting “Shake Your Sneakers” for the Wellness Center’s 1st anniversary celebration Party. \n“Shake Your Sneakers” will feature food\, drinks\, live music\, raffle prizes\, and more. \nMusic by Johnny Chauvin and Special Guests Meredith Boudreaux and Ed Gore \nDonation -Based General Admission at the Door \nReserve at Table – $50 for 6 top\, $80 for 10 top.  Optional table decorating contest for all who reserve a table. \nCasual Dress – Show off Those Sneakers!\nEveryone can participate in the Best Sneaker Contest! \nProceeds from this event will benefit St. Mary Council on Aging – a great time for a great cause! \nMore information will be coming soon. Sponsorships and donations are welcome. \nCall 337-355-1360 or email at events@bayoubendhealth.org for more information.
URL:https://cajuncoast.com/event/1st-anniversary-celebration-party-for-the-wellness-center-at-bayou-bend/
LOCATION:Bayou Bend Wellness Center\, 1097 Northwest Blvd.\, Franklin\, LA\, 70538\, United States
CATEGORIES:Live Music
ATTACH;FMTTYPE=image/jpeg:https://cajuncoast.com/wp-content/uploads/2024/05/Shake-Your-Sneakers-e1716568666234.jpg
ORGANIZER;CN="Bayou Bend Wellness Center":MAILTO:membership@bayoubendhealth.org
END:VEVENT
END:VCALENDAR