BEGIN:VCALENDAR
VERSION:2.0
PRODID:-//cajuncoast.com - ECPv6.15.20//NONSGML v1.0//EN
CALSCALE:GREGORIAN
METHOD:PUBLISH
X-ORIGINAL-URL:https://cajuncoast.com
X-WR-CALDESC:Events for cajuncoast.com
REFRESH-INTERVAL;VALUE=DURATION:PT1H
X-Robots-Tag:noindex
X-PUBLISHED-TTL:PT1H
BEGIN:VTIMEZONE
TZID:America/Chicago
BEGIN:DAYLIGHT
TZOFFSETFROM:-0600
TZOFFSETTO:-0500
TZNAME:CDT
DTSTART:20240310T080000
END:DAYLIGHT
BEGIN:STANDARD
TZOFFSETFROM:-0500
TZOFFSETTO:-0600
TZNAME:CST
DTSTART:20241103T070000
END:STANDARD
BEGIN:DAYLIGHT
TZOFFSETFROM:-0600
TZOFFSETTO:-0500
TZNAME:CDT
DTSTART:20250309T080000
END:DAYLIGHT
BEGIN:STANDARD
TZOFFSETFROM:-0500
TZOFFSETTO:-0600
TZNAME:CST
DTSTART:20251102T070000
END:STANDARD
BEGIN:DAYLIGHT
TZOFFSETFROM:-0600
TZOFFSETTO:-0500
TZNAME:CDT
DTSTART:20260308T080000
END:DAYLIGHT
BEGIN:STANDARD
TZOFFSETFROM:-0500
TZOFFSETTO:-0600
TZNAME:CST
DTSTART:20261101T070000
END:STANDARD
END:VTIMEZONE
BEGIN:VEVENT
DTSTART;TZID=America/Chicago:20250308T110000
DTEND;TZID=America/Chicago:20250308T170000
DTSTAMP:20260423T060513
CREATED:20241122T201900Z
LAST-MODIFIED:20250113T220721Z
UID:10003953-1741431600-1741453200@cajuncoast.com
SUMMARY:DA Cajun Burger Cook-Off
DESCRIPTION:A family fun event that will bring a multitude of communities together!\nAn event designed to foster togetherness.\nThere will be Burgers\, Vendors\, Kid Activities\, and Live Music.\n$10 Admission that includes 5 Samples Tickets and 1 People’s Choice.\nFor more information you can email at Dacajuncritique@gmail.com.
URL:https://cajuncoast.com/event/da-cajun-burger-cook-off-2/
LOCATION:Under the Bridge – Morgan City\, Second Street & Federal Avenue\, Morgan City\, LA\, 70380\, United States
CATEGORIES:Live Music
ATTACH;FMTTYPE=image/jpeg:https://cajuncoast.com/wp-content/uploads/2024/11/DA-Cajun-Burger-Cook-Off-e1736806032627.jpg
ORGANIZER;CN="Da Cajun Burger Cook-Off":MAILTO:DaCajunCritique@gmail.com
END:VEVENT
END:VCALENDAR