BEGIN:VCALENDAR
VERSION:2.0
PRODID:-//cajuncoast.com - ECPv6.15.20//NONSGML v1.0//EN
CALSCALE:GREGORIAN
METHOD:PUBLISH
X-ORIGINAL-URL:https://cajuncoast.com
X-WR-CALDESC:Events for cajuncoast.com
REFRESH-INTERVAL;VALUE=DURATION:PT1H
X-Robots-Tag:noindex
X-PUBLISHED-TTL:PT1H
BEGIN:VTIMEZONE
TZID:America/Chicago
BEGIN:DAYLIGHT
TZOFFSETFROM:-0600
TZOFFSETTO:-0500
TZNAME:CDT
DTSTART:20230312T080000
END:DAYLIGHT
BEGIN:STANDARD
TZOFFSETFROM:-0500
TZOFFSETTO:-0600
TZNAME:CST
DTSTART:20231105T070000
END:STANDARD
BEGIN:DAYLIGHT
TZOFFSETFROM:-0600
TZOFFSETTO:-0500
TZNAME:CDT
DTSTART:20240310T080000
END:DAYLIGHT
BEGIN:STANDARD
TZOFFSETFROM:-0500
TZOFFSETTO:-0600
TZNAME:CST
DTSTART:20241103T070000
END:STANDARD
BEGIN:DAYLIGHT
TZOFFSETFROM:-0600
TZOFFSETTO:-0500
TZNAME:CDT
DTSTART:20250309T080000
END:DAYLIGHT
BEGIN:STANDARD
TZOFFSETFROM:-0500
TZOFFSETTO:-0600
TZNAME:CST
DTSTART:20251102T070000
END:STANDARD
BEGIN:DAYLIGHT
TZOFFSETFROM:-0600
TZOFFSETTO:-0500
TZNAME:CDT
DTSTART:20260308T080000
END:DAYLIGHT
BEGIN:STANDARD
TZOFFSETFROM:-0500
TZOFFSETTO:-0600
TZNAME:CST
DTSTART:20261101T070000
END:STANDARD
END:VTIMEZONE
BEGIN:VEVENT
DTSTART;TZID=America/Chicago:20250907T120000
DTEND;TZID=America/Chicago:20250907T230000
DTSTAMP:20260420T042241
CREATED:20250822T184740Z
LAST-MODIFIED:20250822T184740Z
UID:10006166-1757246400-1757286000@cajuncoast.com
SUMMARY:Saints Game Watch Party
DESCRIPTION:Hosted by Daiquiris & Company – Morgan City.\nJoin them as they kick off the new season.\nWatch the game and enjoy food\, beer specials & party pack specials\,\nraffles & prizes\, $2 Touchdown shots\, & Football Bingo.
URL:https://cajuncoast.com/event/saints-game-watch-party/
LOCATION:Daiquiris & Company – Morgan City\, 1550 Hwy 90\, Morgan City\, LA\, 70380\, United States
ATTACH;FMTTYPE=image/jpeg:https://cajuncoast.com/wp-content/uploads/2025/08/Daiquiris-Company-Morgan-City-cajun-coast-scaled-e1755888445918.jpg
ORGANIZER;CN="Daiquiris &amp%3B Company - Morgan City":MAILTO:info@daiquirisandcompany.com
END:VEVENT
BEGIN:VEVENT
DTSTART;TZID=America/Chicago:20250705T080000
DTEND;TZID=America/Chicago:20250705T220000
DTSTAMP:20260420T042241
CREATED:20250623T151433Z
LAST-MODIFIED:20250623T151433Z
UID:10005001-1751702400-1751752800@cajuncoast.com
SUMMARY:2nd Annual Summer Party
DESCRIPTION:Hosted by Daiquiris & Company – Morgan City.\nJoin them for this year’s summer party themed Hawaiian Luau!\nThey will have free food\, specialty drinks\, live music with JJ Starbuck\, and raffles!
URL:https://cajuncoast.com/event/2nd-annual-summer-party/
LOCATION:Daiquiris & Company – Morgan City\, 1550 Hwy 90\, Morgan City\, LA\, 70380\, United States
CATEGORIES:Annual Events
ATTACH;FMTTYPE=image/jpeg:https://cajuncoast.com/wp-content/uploads/2025/06/Daiquiris-Company-Morgan-City-cajun-coast-e1750691665839.jpg
ORGANIZER;CN="Daiquiris &amp%3B Company - Morgan City":MAILTO:info@daiquirisandcompany.com
END:VEVENT
BEGIN:VEVENT
DTSTART;TZID=America/Chicago:20241221T200000
DTEND;TZID=America/Chicago:20241222T000000
DTSTAMP:20260420T042241
CREATED:20241210T220508Z
LAST-MODIFIED:20241210T220508Z
UID:10003965-1734811200-1734825600@cajuncoast.com
SUMMARY:Ugly Sweater Christmas Party
DESCRIPTION:Hosted by Daiquiris & Company – Morgan City.\nGet ready to get festive and ugly!\nCome wearing your ugliest Christmas sweater for a chance to win $50 Gift card.
URL:https://cajuncoast.com/event/ugly-sweater-christmas-party/
LOCATION:Daiquiris & Company – Morgan City\, 1550 Hwy 90\, Morgan City\, LA\, 70380\, United States
ATTACH;FMTTYPE=image/jpeg:https://cajuncoast.com/wp-content/uploads/2024/12/Ugly-Sweater-Christmas-Party.jpg
ORGANIZER;CN="Daiquiris &amp%3B Company - Morgan City":MAILTO:info@daiquirisandcompany.com
END:VEVENT
BEGIN:VEVENT
DTSTART;TZID=America/Chicago:20241130T200000
DTEND;TZID=America/Chicago:20241130T233000
DTSTAMP:20260420T042241
CREATED:20241107T180024Z
LAST-MODIFIED:20241107T180024Z
UID:10003941-1732996800-1733009400@cajuncoast.com
SUMMARY:Holiday Bash
DESCRIPTION:Hosted by Daiquiris & Company – Morgan City.\nJoin us for this Holiday Bash with Karaoke and More!\nFeaturing Double D Entertainment.
URL:https://cajuncoast.com/event/holiday-bash/
LOCATION:Daiquiris & Company – Morgan City\, 1550 Hwy 90\, Morgan City\, LA\, 70380\, United States
ATTACH;FMTTYPE=image/jpeg:https://cajuncoast.com/wp-content/uploads/2024/11/Holidsay-Bash-e1731002413888.jpg
ORGANIZER;CN="Daiquiris &amp%3B Company - Morgan City":MAILTO:info@daiquirisandcompany.com
END:VEVENT
END:VCALENDAR