BEGIN:VCALENDAR
VERSION:2.0
PRODID:-//cajuncoast.com - ECPv6.15.20//NONSGML v1.0//EN
CALSCALE:GREGORIAN
METHOD:PUBLISH
X-WR-CALNAME:cajuncoast.com
X-ORIGINAL-URL:https://cajuncoast.com
X-WR-CALDESC:Events for cajuncoast.com
REFRESH-INTERVAL;VALUE=DURATION:PT1H
X-Robots-Tag:noindex
X-PUBLISHED-TTL:PT1H
BEGIN:VTIMEZONE
TZID:America/Chicago
BEGIN:DAYLIGHT
TZOFFSETFROM:-0600
TZOFFSETTO:-0500
TZNAME:CDT
DTSTART:20240310T080000
END:DAYLIGHT
BEGIN:STANDARD
TZOFFSETFROM:-0500
TZOFFSETTO:-0600
TZNAME:CST
DTSTART:20241103T070000
END:STANDARD
BEGIN:DAYLIGHT
TZOFFSETFROM:-0600
TZOFFSETTO:-0500
TZNAME:CDT
DTSTART:20250309T080000
END:DAYLIGHT
BEGIN:STANDARD
TZOFFSETFROM:-0500
TZOFFSETTO:-0600
TZNAME:CST
DTSTART:20251102T070000
END:STANDARD
BEGIN:DAYLIGHT
TZOFFSETFROM:-0600
TZOFFSETTO:-0500
TZNAME:CDT
DTSTART:20260308T080000
END:DAYLIGHT
BEGIN:STANDARD
TZOFFSETFROM:-0500
TZOFFSETTO:-0600
TZNAME:CST
DTSTART:20261101T070000
END:STANDARD
END:VTIMEZONE
BEGIN:VEVENT
DTSTART;TZID=America/Chicago:20250326T080000
DTEND;TZID=America/Chicago:20250330T170000
DTSTAMP:20260423T181909
CREATED:20250207T170946Z
LAST-MODIFIED:20250226T192253Z
UID:10004355-1742976000-1743354000@cajuncoast.com
SUMMARY:Greenhulk Mudbug Nationals
DESCRIPTION:GreenHulk Presents Outlaw Water Series\nMarch 26 to March 30\, 2025\nLake End Park \nWednesday\, March 26 – Mudbug Swamp Rides – Explore the Atchafalaya Swamp. Start at Doiron’s Landing.  Visit www.greenhulk.net for more information. \nThursday\, March 27 – Mudbug Swamp Rides – Visit www.greenhulk.net for more information. \nOutlaw Water Series\nMarch Madness Race \nFriday\, March 28 – Slalom Racing\nLake End Park – $1000 to fastest 100 mi Mudbug Rider.  Follow Nautiwater Racing for more information \nSaturday\, March 29 – Closed Course Racing\nLake End Park – starts at 8 am – Rider’s Meeting.\nFollow Nautiwater Racing for more information \nSunday\, March 30 – Closed Course Racing\nLake End Park – All day until awards at 5 pm.\nFollow Nautiwater Racing for more information.
URL:https://cajuncoast.com/event/greenhulk-mudbug-nationals/
LOCATION:Lake End Park\, 2300 LA Hwy 70\, Morgan City\, LA\, 70380
ATTACH;FMTTYPE=image/jpeg:https://cajuncoast.com/wp-content/uploads/2025/02/Greenhulk-Mudbug-Nationals-e1740597760115.jpg
END:VEVENT
END:VCALENDAR