BEGIN:VCALENDAR
VERSION:2.0
PRODID:-//cajuncoast.com - ECPv6.15.20//NONSGML v1.0//EN
CALSCALE:GREGORIAN
METHOD:PUBLISH
X-WR-CALNAME:cajuncoast.com
X-ORIGINAL-URL:https://cajuncoast.com
X-WR-CALDESC:Events for cajuncoast.com
REFRESH-INTERVAL;VALUE=DURATION:PT1H
X-Robots-Tag:noindex
X-PUBLISHED-TTL:PT1H
BEGIN:VTIMEZONE
TZID:America/Chicago
BEGIN:DAYLIGHT
TZOFFSETFROM:-0600
TZOFFSETTO:-0500
TZNAME:CDT
DTSTART:20250309T080000
END:DAYLIGHT
BEGIN:STANDARD
TZOFFSETFROM:-0500
TZOFFSETTO:-0600
TZNAME:CST
DTSTART:20251102T070000
END:STANDARD
BEGIN:DAYLIGHT
TZOFFSETFROM:-0600
TZOFFSETTO:-0500
TZNAME:CDT
DTSTART:20260308T080000
END:DAYLIGHT
BEGIN:STANDARD
TZOFFSETFROM:-0500
TZOFFSETTO:-0600
TZNAME:CST
DTSTART:20261101T070000
END:STANDARD
BEGIN:DAYLIGHT
TZOFFSETFROM:-0600
TZOFFSETTO:-0500
TZNAME:CDT
DTSTART:20270314T080000
END:DAYLIGHT
BEGIN:STANDARD
TZOFFSETFROM:-0500
TZOFFSETTO:-0600
TZNAME:CST
DTSTART:20271107T070000
END:STANDARD
END:VTIMEZONE
BEGIN:VEVENT
DTSTART;TZID=America/Chicago:20260124T100000
DTEND;TZID=America/Chicago:20260124T140000
DTSTAMP:20260423T023709
CREATED:20260109T193806Z
LAST-MODIFIED:20260109T193806Z
UID:10006687-1769248800-1769263200@cajuncoast.com
SUMMARY:2nd Annual Mardi Gras Tour Of Homes
DESCRIPTION:Hosted by Krewe of Hephaestus.\nEnjoy a Tour Berwick & Morgan City Homes.\nBerwick Homes: Bourgeois Home – 301 Riverside Dr. & Berry Home – 502 Oakland Dr.\nMorgan City Homes: Dohmann Home – 43 Marquis Manor\,\nCajun Coast Visitors Center – 900 Martin Luther King Jr. BLVD\, & Alumni Shop – 1035 Ninth Street.\nTickets are $25 each & can be purchase at Alumni Shop\, from any board member or by texting 985-312-4095.\nAt 2:30 is the Drawing at Alumni Shop.\nWin a full Hephaestus Membership & other prizes (Need to be present to win).
URL:https://cajuncoast.com/event/2nd-annual-mardi-gras-tour-of-homes/
LOCATION:(TBD)
ATTACH;FMTTYPE=image/jpeg:https://cajuncoast.com/wp-content/uploads/2026/01/Krewe-of-Hephaestus-cajun-coast-e1767987469164.jpg
END:VEVENT
END:VCALENDAR