BEGIN:VCALENDAR
VERSION:2.0
PRODID:-//cajuncoast.com - ECPv6.15.20//NONSGML v1.0//EN
CALSCALE:GREGORIAN
METHOD:PUBLISH
X-ORIGINAL-URL:https://cajuncoast.com
X-WR-CALDESC:Events for cajuncoast.com
REFRESH-INTERVAL;VALUE=DURATION:PT1H
X-Robots-Tag:noindex
X-PUBLISHED-TTL:PT1H
BEGIN:VTIMEZONE
TZID:America/Chicago
BEGIN:DAYLIGHT
TZOFFSETFROM:-0600
TZOFFSETTO:-0500
TZNAME:CDT
DTSTART:20250309T080000
END:DAYLIGHT
BEGIN:STANDARD
TZOFFSETFROM:-0500
TZOFFSETTO:-0600
TZNAME:CST
DTSTART:20251102T070000
END:STANDARD
BEGIN:DAYLIGHT
TZOFFSETFROM:-0600
TZOFFSETTO:-0500
TZNAME:CDT
DTSTART:20260308T080000
END:DAYLIGHT
BEGIN:STANDARD
TZOFFSETFROM:-0500
TZOFFSETTO:-0600
TZNAME:CST
DTSTART:20261101T070000
END:STANDARD
BEGIN:DAYLIGHT
TZOFFSETFROM:-0600
TZOFFSETTO:-0500
TZNAME:CDT
DTSTART:20270314T080000
END:DAYLIGHT
BEGIN:STANDARD
TZOFFSETFROM:-0500
TZOFFSETTO:-0600
TZNAME:CST
DTSTART:20271107T070000
END:STANDARD
END:VTIMEZONE
BEGIN:VEVENT
DTSTART;TZID=America/Chicago:20260110T170000
DTEND;TZID=America/Chicago:20260110T200000
DTSTAMP:20260423T024004
CREATED:20250915T164110Z
LAST-MODIFIED:20251219T174241Z
UID:10006210-1768064400-1768075200@cajuncoast.com
SUMMARY:Wild West Bingo Night
DESCRIPTION:Hosted by LA-Ruffnexx. Location at the Old Building. You must be 18+ to enter.\nY’all Better saddle up\, ‘cause it’s time to grab your boots\, bring your luck\,\n& join them for a rootin’-tootin’ night of fun\, food\, & Big wins! $5 entry fee.\nThere will be concessions & bake sale available. Games to keep the night rolling!\nDress in your best Wild West Gear for a chance to win the best Wild West outfit!\nJoin them for a night that’s sure to be more fun than a rodeo on payday!\nYou can get your ticket by visiting https://www.zeffy.com/en-US/ticketing/wild-west-bingo-night.
URL:https://cajuncoast.com/event/wild-west-bingo-night-2/
LOCATION:The Old Building\, 3190 First Street\, Berwick\, Louisiana\, 70342
ATTACH;FMTTYPE=image/jpeg:https://cajuncoast.com/wp-content/uploads/2025/09/Wild-West-Bingo-cajun-coast-e1757954455163.jpg
ORGANIZER;CN="LA-Ruffnexx":MAILTO:Laruffnexx.khyre@gmail.com
END:VEVENT
END:VCALENDAR