BEGIN:VCALENDAR
VERSION:2.0
PRODID:-//cajuncoast.com - ECPv6.15.20//NONSGML v1.0//EN
CALSCALE:GREGORIAN
METHOD:PUBLISH
X-ORIGINAL-URL:https://cajuncoast.com
X-WR-CALDESC:Events for cajuncoast.com
REFRESH-INTERVAL;VALUE=DURATION:PT1H
X-Robots-Tag:noindex
X-PUBLISHED-TTL:PT1H
BEGIN:VTIMEZONE
TZID:America/Chicago
BEGIN:DAYLIGHT
TZOFFSETFROM:-0600
TZOFFSETTO:-0500
TZNAME:CDT
DTSTART:20230312T080000
END:DAYLIGHT
BEGIN:STANDARD
TZOFFSETFROM:-0500
TZOFFSETTO:-0600
TZNAME:CST
DTSTART:20231105T070000
END:STANDARD
BEGIN:DAYLIGHT
TZOFFSETFROM:-0600
TZOFFSETTO:-0500
TZNAME:CDT
DTSTART:20240310T080000
END:DAYLIGHT
BEGIN:STANDARD
TZOFFSETFROM:-0500
TZOFFSETTO:-0600
TZNAME:CST
DTSTART:20241103T070000
END:STANDARD
BEGIN:DAYLIGHT
TZOFFSETFROM:-0600
TZOFFSETTO:-0500
TZNAME:CDT
DTSTART:20250309T080000
END:DAYLIGHT
BEGIN:STANDARD
TZOFFSETFROM:-0500
TZOFFSETTO:-0600
TZNAME:CST
DTSTART:20251102T070000
END:STANDARD
BEGIN:DAYLIGHT
TZOFFSETFROM:-0600
TZOFFSETTO:-0500
TZNAME:CDT
DTSTART:20260308T080000
END:DAYLIGHT
BEGIN:STANDARD
TZOFFSETFROM:-0500
TZOFFSETTO:-0600
TZNAME:CST
DTSTART:20261101T070000
END:STANDARD
END:VTIMEZONE
BEGIN:VEVENT
DTSTART;TZID=America/Chicago:20251231T213000
DTEND;TZID=America/Chicago:20251231T233000
DTSTAMP:20260420T180752
CREATED:20251112T165023Z
LAST-MODIFIED:20251112T165023Z
UID:10006493-1767216600-1767223800@cajuncoast.com
SUMMARY:Live Music
DESCRIPTION:Live music\, hosted by Left On Red.\nCome out and celebrate the New Year with us at One80 Downtown for an acoustic\, but fun set.
URL:https://cajuncoast.com/event/live-music-92/
LOCATION:One80 Downtown\, 180 Canton Street\, Berwick\, LA\, 70342\, United States
CATEGORIES:Live Music
ATTACH;FMTTYPE=image/jpeg:https://cajuncoast.com/wp-content/uploads/2025/11/One80-Downtown-cajun-coast-e1762966212296.jpg
ORGANIZER;CN="Left on Red":MAILTO:leftonred70380@gmail.com
END:VEVENT
BEGIN:VEVENT
DTSTART;TZID=America/Chicago:20251126T190000
DTEND;TZID=America/Chicago:20251126T210000
DTSTAMP:20260420T180752
CREATED:20250612T204714Z
LAST-MODIFIED:20250612T204714Z
UID:10004990-1764183600-1764190800@cajuncoast.com
SUMMARY:Live Music
DESCRIPTION:Live Music by Left on Red. Hosed by One80 Downtown.\nCome celebrate the night with them before your day filled with cooking and family.\nThis may be a more laid-back acoustic show\, but they always rock the house at this place.
URL:https://cajuncoast.com/event/live-music-71/
LOCATION:One80 Downtown\, 180 Canton Street\, Berwick\, LA\, 70342\, United States
CATEGORIES:Live Music
ATTACH;FMTTYPE=image/jpeg:https://cajuncoast.com/wp-content/uploads/2025/06/Left-On-Red-Cajun-Coast-e1749761215458.jpg
ORGANIZER;CN="One80 Downtown":MAILTO:One80downtown@gmail.com
END:VEVENT
BEGIN:VEVENT
DTSTART;TZID=America/Chicago:20251004T183000
DTEND;TZID=America/Chicago:20251004T213000
DTSTAMP:20260420T180752
CREATED:20250715T161147Z
LAST-MODIFIED:20250715T161318Z
UID:10005033-1759602600-1759613400@cajuncoast.com
SUMMARY:Live Music
DESCRIPTION:Live music by Left On Red Acoustic at One80 Downtown.\nCome out and enjoy the show!\nIf you wear one of LOR Acoustic shirts or hats\, you get in absolutely free!
URL:https://cajuncoast.com/event/live-music-78/
LOCATION:One80 Downtown\, 180 Canton Street\, Berwick\, LA\, 70342\, United States
CATEGORIES:Live Music
ATTACH;FMTTYPE=image/jpeg:https://cajuncoast.com/wp-content/uploads/2025/07/LOR-Acoustic-cajun-coast-e1752595894185.jpg
ORGANIZER;CN="Left on Red":MAILTO:leftonred70380@gmail.com
END:VEVENT
BEGIN:VEVENT
DTSTART;TZID=America/Chicago:20250614T183000
DTEND;TZID=America/Chicago:20250614T203000
DTSTAMP:20260420T180752
CREATED:20250408T212130Z
LAST-MODIFIED:20250408T212130Z
UID:10004815-1749925800-1749933000@cajuncoast.com
SUMMARY:Live Music
DESCRIPTION:Live Music by Left on Red acoustic at One80 Downtown.\nIt’s always a great time at One80 Downtown.\nCome out and have some drinks and enjoy the show.
URL:https://cajuncoast.com/event/live-music-53/
LOCATION:One80 Downtown\, 180 Canton Street\, Berwick\, LA\, 70342\, United States
CATEGORIES:Live Music
ATTACH;FMTTYPE=image/jpeg:https://cajuncoast.com/wp-content/uploads/2025/04/Left-On-Red-cajun-coast-e1744147279721.jpg
ORGANIZER;CN="Left on Red":MAILTO:leftonred70380@gmail.com
END:VEVENT
BEGIN:VEVENT
DTSTART;TZID=America/Chicago:20250530T213000
DTEND;TZID=America/Chicago:20250530T233000
DTSTAMP:20260420T180752
CREATED:20250422T194910Z
LAST-MODIFIED:20250422T194910Z
UID:10004833-1748640600-1748647800@cajuncoast.com
SUMMARY:Live Music
DESCRIPTION:Enjoy live Music by Left on Red\, at Mama G’s.
URL:https://cajuncoast.com/event/live-music-57/
LOCATION:Mama G’s Bar & Grill\, 7540 Hwy 182 E\, Morgan City\, LA\, 70380\, United States
CATEGORIES:Live Music
ATTACH;FMTTYPE=image/jpeg:https://cajuncoast.com/wp-content/uploads/2025/04/Left-on-Red-cajun-coast-1-e1745351262531.jpg
ORGANIZER;CN="Left on Red":MAILTO:leftonred70380@gmail.com
END:VEVENT
BEGIN:VEVENT
DTSTART;TZID=America/Chicago:20250328T210000
DTEND;TZID=America/Chicago:20250328T230000
DTSTAMP:20260420T180752
CREATED:20250306T175516Z
LAST-MODIFIED:20250306T175529Z
UID:10004387-1743195600-1743202800@cajuncoast.com
SUMMARY:Live Music
DESCRIPTION:Live Music by Left On Red at Pool Do’s Sports Bar\, begins at 9pm.\nCome out and have some cold drinks with some great music.
URL:https://cajuncoast.com/event/live-music-47/
LOCATION:Pool Do’s Sports Bar\, 615 Brashear Ave\, Morgan City\, LA\, 70380\, United States
CATEGORIES:Live Music
ATTACH;FMTTYPE=image/jpeg:https://cajuncoast.com/wp-content/uploads/2025/03/Left-on-Red-cajun-coast-e1741283699859.jpg
ORGANIZER;CN="Left on Red":MAILTO:leftonred70380@gmail.com
END:VEVENT
BEGIN:VEVENT
DTSTART;TZID=America/Chicago:20250214T213000
DTEND;TZID=America/Chicago:20250214T233000
DTSTAMP:20260420T180752
CREATED:20241210T220105Z
LAST-MODIFIED:20241210T220105Z
UID:10003974-1739568600-1739575800@cajuncoast.com
SUMMARY:Live Music
DESCRIPTION:Live music by LOR at Mama G’s.\nCome out and enjoy the show.\nBring your valentine date to dance after dinner and enjoy some cold drinks.
URL:https://cajuncoast.com/event/live-music-34/
LOCATION:Mama G’s Bar & Grill\, 7540 Hwy 182 E\, Morgan City\, LA\, 70380\, United States
CATEGORIES:Live Music
ATTACH;FMTTYPE=image/jpeg:https://cajuncoast.com/wp-content/uploads/2024/12/Left-On-Red.jpg
ORGANIZER;CN="Left on Red":MAILTO:leftonred70380@gmail.com
END:VEVENT
BEGIN:VEVENT
DTSTART;TZID=America/Chicago:20241221T190000
DTEND;TZID=America/Chicago:20241221T210000
DTSTAMP:20260420T180752
CREATED:20241107T180334Z
LAST-MODIFIED:20241107T180334Z
UID:10003938-1734807600-1734814800@cajuncoast.com
SUMMARY:Live Music
DESCRIPTION:Live Music by LOR unplugged at One80 Downtown.\nCome out and enjoy an acoustic set.\nSit back and enjoy the chill atmosphere with some cold drinks.
URL:https://cajuncoast.com/event/live-music-32/
LOCATION:One80 Downtown\, 180 Canton Street\, Berwick\, LA\, 70342\, United States
ATTACH;FMTTYPE=image/jpeg:https://cajuncoast.com/wp-content/uploads/2024/11/LOR-unplugged-e1731002600231.jpg
ORGANIZER;CN="Left on Red":MAILTO:leftonred70380@gmail.com
END:VEVENT
END:VCALENDAR